BEGIN:VCALENDAR
VERSION:2.0
PRODID:-//qathet 365 - ECPv6.15.20//NONSGML v1.0//EN
CALSCALE:GREGORIAN
METHOD:PUBLISH
X-ORIGINAL-URL:https://qathet365.ca
X-WR-CALDESC:Events for qathet 365
REFRESH-INTERVAL;VALUE=DURATION:PT1H
X-Robots-Tag:noindex
X-PUBLISHED-TTL:PT1H
BEGIN:VTIMEZONE
TZID:America/Vancouver
BEGIN:DAYLIGHT
TZOFFSETFROM:-0800
TZOFFSETTO:-0700
TZNAME:PDT
DTSTART:20250309T100000
END:DAYLIGHT
BEGIN:STANDARD
TZOFFSETFROM:-0700
TZOFFSETTO:-0800
TZNAME:PST
DTSTART:20251102T090000
END:STANDARD
BEGIN:DAYLIGHT
TZOFFSETFROM:-0800
TZOFFSETTO:-0700
TZNAME:PDT
DTSTART:20260308T100000
END:DAYLIGHT
BEGIN:STANDARD
TZOFFSETFROM:-0700
TZOFFSETTO:-0800
TZNAME:PST
DTSTART:20261101T090000
END:STANDARD
BEGIN:DAYLIGHT
TZOFFSETFROM:-0800
TZOFFSETTO:-0700
TZNAME:PDT
DTSTART:20270314T100000
END:DAYLIGHT
BEGIN:STANDARD
TZOFFSETFROM:-0700
TZOFFSETTO:-0800
TZNAME:PST
DTSTART:20271107T090000
END:STANDARD
END:VTIMEZONE
BEGIN:VEVENT
DTSTART;TZID=America/Vancouver:20260508T190000
DTEND;TZID=America/Vancouver:20260508T190000
DTSTAMP:20260421T084728
CREATED:20260417T002636Z
LAST-MODIFIED:20260417T002638Z
UID:10007782-1778266800-1778266800@qathet365.ca
SUMMARY:Food As Medicine - Dementia
DESCRIPTION:Food As Medicine – Dementia \n\n\n\nAuthor Todd Caldecott looks at dementia through biomedical research and holistic traditions\, reviewing dietary and lifestyle strategies for cognitive resilience.  \n\n\n\nFriday May 8\, 7pm at the Library \n\n\n\nFor information contact Mark at mmerlino@prpl.ca
URL:https://qathet365.ca/event/food-as-medicine-dementia/
LOCATION:Powell River Public Library\, 100-6975 Alberni St\, Powell River\, BC\, V8A2B8\, Canada
CATEGORIES:COMMUNITY,ELDERS,SPIRITUALITY & WELLNESS
ORGANIZER;CN="Powell River Public Library":MAILTO:edgar@prpl.ca
END:VEVENT
END:VCALENDAR