BEGIN:VCALENDAR
VERSION:2.0
PRODID:-//qathet 365 - ECPv6.15.20//NONSGML v1.0//EN
CALSCALE:GREGORIAN
METHOD:PUBLISH
X-ORIGINAL-URL:https://qathet365.ca
X-WR-CALDESC:Events for qathet 365
REFRESH-INTERVAL;VALUE=DURATION:PT1H
X-Robots-Tag:noindex
X-PUBLISHED-TTL:PT1H
BEGIN:VTIMEZONE
TZID:America/Vancouver
BEGIN:DAYLIGHT
TZOFFSETFROM:-0800
TZOFFSETTO:-0700
TZNAME:PDT
DTSTART:20250309T100000
END:DAYLIGHT
BEGIN:STANDARD
TZOFFSETFROM:-0700
TZOFFSETTO:-0800
TZNAME:PST
DTSTART:20251102T090000
END:STANDARD
BEGIN:DAYLIGHT
TZOFFSETFROM:-0800
TZOFFSETTO:-0700
TZNAME:PDT
DTSTART:20260308T100000
END:DAYLIGHT
BEGIN:STANDARD
TZOFFSETFROM:-0700
TZOFFSETTO:-0800
TZNAME:PST
DTSTART:20261101T090000
END:STANDARD
BEGIN:DAYLIGHT
TZOFFSETFROM:-0800
TZOFFSETTO:-0700
TZNAME:PDT
DTSTART:20270314T100000
END:DAYLIGHT
BEGIN:STANDARD
TZOFFSETFROM:-0700
TZOFFSETTO:-0800
TZNAME:PST
DTSTART:20271107T090000
END:STANDARD
END:VTIMEZONE
BEGIN:VEVENT
DTSTART;TZID=America/Vancouver:20260424T100000
DTEND;TZID=America/Vancouver:20260424T113000
DTSTAMP:20260424T021214
CREATED:20260108T014159Z
LAST-MODIFIED:20260108T014202Z
UID:10005469-1777024800-1777030200@qathet365.ca
SUMMARY:Chat & Play- Grandparents Group
DESCRIPTION:
URL:https://qathet365.ca/event/chat-play-grandparents-group-3/2026-04-24/
LOCATION:5814 ash ave\, 5814 Ash Ave\, Powell River\, BC V8A 4R4\, Powell River
CATEGORIES:KIDS AND FAMILY
END:VEVENT
BEGIN:VEVENT
DTSTART;TZID=America/Vancouver:20260424T100000
DTEND;TZID=America/Vancouver:20260424T113000
DTSTAMP:20260424T021214
CREATED:20260413T033617Z
LAST-MODIFIED:20260413T033620Z
UID:10007781-1777024800-1777030200@qathet365.ca
SUMMARY:Chat And Play- Grandparents Group
DESCRIPTION:
URL:https://qathet365.ca/event/chat-and-play-grandparents-group-3/2026-04-24/
LOCATION:5814 ash ave\, 5814 Ash Ave\, Powell River\, BC V8A 4R4\, Powell River
CATEGORIES:KIDS AND FAMILY
END:VEVENT
BEGIN:VEVENT
DTSTART;TZID=America/Vancouver:20260425T100000
DTEND;TZID=America/Vancouver:20260425T160000
DTSTAMP:20260424T021214
CREATED:20260418T155447Z
LAST-MODIFIED:20260418T155449Z
UID:10007787-1777111200-1777132800@qathet365.ca
SUMMARY:ReNew Art Faire.
DESCRIPTION:ReNew Art Faire – Earth Week Celebration \n\n\n\nCelebrate Earth Week with a full day of art\, creativity\, and community at the ReNew Art Faire. \n\n\n\nThis is a chance to connect directly with local artists and makers who are focused on sustainability\, reuse\, and thoughtful design. Expect a mix of original artwork\, live demos\, and conversations that give you a deeper look into how things are made\, and why it matters. \n\n\n\nThere’s also a Conscious Couture Fashion Show\, highlighting wearable pieces created with environmental awareness at the core. \n\n\n\nWhether you’re looking to pick up something unique\, meet local creators\, or just spend a good afternoon surrounded by art\, this is an easy one to drop into. \n\n\n\nWhat to expect: \n\n\n\n\nLocal artists and makers\n\n\n\nArt for sale\n\n\n\nLive artist demos\n\n\n\nSustainability-focused displays\n\n\n\nConscious Couture Fashion Show\n\n\n\n\nDate: April 25Time: 10:00am – 4:00pmLocation: Dwight HallAdmission: Open to everyone \n\n\n\nCome through\, meet the artists\, and see what’s being unveiled locally.
URL:https://qathet365.ca/event/renew-art-faire-2/
LOCATION:Dwight Hall\, Walnut St\,\, Powell River\, BC\, V8A 5R2\, Canada
CATEGORIES:460 Realty,Art & Craft,ARTS & ENTERTAINMENT,COMMUNITY,ELDERS,KIDS AND FAMILY
ATTACH;FMTTYPE=image/png:https://qathet365.ca/wp-content/uploads/2026/04/Screenshot-2026-04-18-at-8.33.51-AM.png
END:VEVENT
BEGIN:VEVENT
DTSTART;TZID=America/Vancouver:20260426T123000
DTEND;TZID=America/Vancouver:20260426T143000
DTSTAMP:20260424T021214
CREATED:20260307T194945Z
LAST-MODIFIED:20260307T195038Z
UID:10007082-1777206600-1777213800@qathet365.ca
SUMMARY:PR Farmer's Market
DESCRIPTION:The Powell River Farmers Market is a community-run open-air market featuring fresh\, locally grown food and handmade goods from regional producers and artisans. Visitors can find seasonal vegetables and fruit\, farm-fresh eggs\, baking\, honey\, preserves\, pickles\, pies\, and other locally made specialties\, along with unique items from local craftspeople. \n\n\n\nThe market supports local agriculture\, sustainable growing practices\, and the humane treatment of animals. It was created and built by its members and continues to focus on strengthening the local food community. \n\n\n\nMarket HoursSundays year-round: 12:30 pm – 2:30 pmSaturdays (May–September): 10:30 am – 12:30 pm \n\n\n\nPlease bring reusable bags for your purchases. Dogs are not permitted in the market area.
URL:https://qathet365.ca/event/8549/2026-04-26/
LOCATION:Paradise Exhibition Grounds\, 4365 Mcleod Rd\, Powell River\, BC\, V8A 0T1\, Canada
CATEGORIES:COMMUNITY,ELDERS,FOOD & BUSINESS,KIDS AND FAMILY
END:VEVENT
BEGIN:VEVENT
DTSTART;TZID=America/Vancouver:20260426T130000
DTEND;TZID=America/Vancouver:20260426T170000
DTSTAMP:20260424T021214
CREATED:20250807T230406Z
LAST-MODIFIED:20250807T230409Z
UID:10002920-1777208400-1777222800@qathet365.ca
SUMMARY:Chess Club
DESCRIPTION:The Powell River qathet Chess Club meets every Sunday afternoon starting at 1pm. The Chess Club is open to everyone – all ages and all skill levels. For more information contact Mark at mmerlino@prpl.ca.
URL:https://qathet365.ca/event/chess-club/2026-04-26/
LOCATION:Friends of the Library Lounge
CATEGORIES:ARTS & ENTERTAINMENT,COMMUNITY,ELDERS,KIDS AND FAMILY,YOUTH
ORGANIZER;CN="Powell River Public Library":MAILTO:edgar@prpl.ca
END:VEVENT
BEGIN:VEVENT
DTSTART;TZID=America/Vancouver:20260426T180000
DTEND;TZID=America/Vancouver:20260426T180000
DTSTAMP:20260424T021214
CREATED:20250818T184303Z
LAST-MODIFIED:20250818T184415Z
UID:10003252-1777226400-1777226400@qathet365.ca
SUMMARY:Magic the Gathering - Drop In
DESCRIPTION:Drop in and play Magic the Gathering every Sunday at High Tide Games!
URL:https://qathet365.ca/event/magic-the-gathering-drop-in/2026-04-26/
LOCATION:High tide games\, 7030 Glacier St #1\, Powell River\, BC V8A 5A1\, Powell River
CATEGORIES:ARTS & ENTERTAINMENT,COMMUNITY,KIDS AND FAMILY,YOUTH
ATTACH;FMTTYPE=image/jpeg:https://qathet365.ca/wp-content/uploads/2025/08/Magic_the_gathering-card_back.jpg
END:VEVENT
BEGIN:VEVENT
DTSTART;TZID=America/Vancouver:20260427T100000
DTEND;TZID=America/Vancouver:20260427T113000
DTSTAMP:20260424T021214
CREATED:20260413T033418Z
LAST-MODIFIED:20260413T033421Z
UID:10007770-1777284000-1777289400@qathet365.ca
SUMMARY:Pitter Patter - Oceanview Gym
DESCRIPTION:Let’s have some fun in the Gym. Bring your children to run and play! Equipment\, mats and toys are provided. Parent participation is encouraged. \n\n\n\nMondays from 10-11:30am at Oceanview Gym (7105 Nootka Street)Park around back. Closed during statutory and school holidays.
URL:https://qathet365.ca/event/pitter-patter-oceanview-gym-3/2026-04-27/
LOCATION:Oceanview Education Centre\, 7105 Nootka St\, Powell River\, BC\, V8A 5E3\, Canada
CATEGORIES:KIDS AND FAMILY
END:VEVENT
BEGIN:VEVENT
DTSTART;TZID=America/Vancouver:20260427T100000
DTEND;TZID=America/Vancouver:20260427T113000
DTSTAMP:20260424T021214
CREATED:20260413T033453Z
LAST-MODIFIED:20260413T033455Z
UID:10007777-1777284000-1777289400@qathet365.ca
SUMMARY:Snug Bugs
DESCRIPTION:Snug Bugs \n\n\n\nSensory Friendly Playgroup\n\n\n\nA sensory friendly playgroup for ages 0-6. Join us in a creative\, inclusive and safe space for neurodiverse and sensitive little ones\, to play\, interact and discover. Parent participation required. All are welcome! We look forward to seeing you soon.Mondays 10:00am to 11:30am Starting Jan. 20th\, 2025Drop-in\, no need to register. Youth & Family: 5814 Ash Ave.Lower level\, use entrance off Walnut Street \n\n\n\nFacilitated by Lesley Sutherland\, Youth & Family: lsutherland@youthandfamily.caand Genevieve St-Pierre\, BSW Inclusion: genst-pierre@inclusionpr.ca
URL:https://qathet365.ca/event/snug-bugs-10/2026-04-27/
LOCATION:Youth & Family\, 5814 Ash Ave\, Powell River\, BC\, Canada
CATEGORIES:KIDS AND FAMILY
END:VEVENT
BEGIN:VEVENT
DTSTART;TZID=America/Vancouver:20260427T163000
DTEND;TZID=America/Vancouver:20260427T180000
DTSTAMP:20260424T021214
CREATED:20260201T223430Z
LAST-MODIFIED:20260201T223432Z
UID:10006996-1777307400-1777312800@qathet365.ca
SUMMARY:Community Pasta Dinner
DESCRIPTION:The Community Pasta Dinner is back! \n\n\n\nJoin us every Monday for a free community meal\, served from 4:30–6:00 pm.Come for a warm plate of food\, familiar faces\, and easy conversation. \n\n\n\nEveryone is welcome.No registration. No cost. Just show up. \n\n\n\nWhether you’re coming on your own or bringing a friend\, there’s always a place at the table.
URL:https://qathet365.ca/event/community-pasta-dinner-2/2026-04-27/
LOCATION:Powell River United Church\, 6932 Crofton Street\, Powell River\, BC\, Canada
CATEGORIES:COMMUNITY,ELDERS,KIDS AND FAMILY,SPIRITUALITY & WELLNESS,YOUTH
END:VEVENT
BEGIN:VEVENT
DTSTART;TZID=America/Vancouver:20260427T173000
DTEND;TZID=America/Vancouver:20260427T210000
DTSTAMP:20260424T021214
CREATED:20260403T233233Z
LAST-MODIFIED:20260403T233236Z
UID:10007500-1777311000-1777323600@qathet365.ca
SUMMARY:D&D Night - Drop In - All Ages
DESCRIPTION:Drop in and play some D&D at High Tide Games
URL:https://qathet365.ca/event/dd-night-drop-in-all-ages-2/2026-04-27/
LOCATION:High tide games\, 7030 Glacier St #1\, Powell River\, BC V8A 5A1\, Powell River
CATEGORIES:ARTS & ENTERTAINMENT,COMMUNITY,KIDS AND FAMILY,YOUTH
ATTACH;FMTTYPE=image/jpeg:https://qathet365.ca/wp-content/uploads/2025/08/download.jpeg
END:VEVENT
BEGIN:VEVENT
DTSTART;TZID=America/Vancouver:20260427T180000
DTEND;TZID=America/Vancouver:20260427T210000
DTSTAMP:20260424T021214
CREATED:20250818T185336Z
LAST-MODIFIED:20250818T185550Z
UID:10003514-1777312800-1777323600@qathet365.ca
SUMMARY:Board Game Night - Drop In
DESCRIPTION:Its board game night tonight at High Tide Games! \n\n\n\nWe have a library of board games to choose from\, or you can bring your own  \n\n\n\n\n\n\n\nStarts at 6:00PM and goes until 9:00PM \n\n\n\nCome on in and have some fun!
URL:https://qathet365.ca/event/board-game-night-drop-in/2026-04-27/
LOCATION:High tide games\, 7030 Glacier St #1\, Powell River\, BC V8A 5A1\, Powell River
CATEGORIES:ARTS & ENTERTAINMENT,COMMUNITY,KIDS AND FAMILY,YOUTH
END:VEVENT
BEGIN:VEVENT
DTSTART;TZID=America/Vancouver:20260429T180000
DTEND;TZID=America/Vancouver:20260429T200000
DTSTAMP:20260424T021214
CREATED:20250807T230042Z
LAST-MODIFIED:20250807T230045Z
UID:10002662-1777485600-1777492800@qathet365.ca
SUMMARY:Knit Night
DESCRIPTION:Join fellow knitting enthusiasts in the Friends of the Library Lounge for a drop-in knit night.
URL:https://qathet365.ca/event/knit-night-10/2026-04-29/
LOCATION:Friends of the Library Lounge
CATEGORIES:Art & Craft,COMMUNITY,ELDERS,KIDS AND FAMILY,YOUTH
ORGANIZER;CN="Powell River Public Library":MAILTO:edgar@prpl.ca
END:VEVENT
BEGIN:VEVENT
DTSTART;TZID=America/Vancouver:20260430T131500
DTEND;TZID=America/Vancouver:20260430T150000
DTSTAMP:20260424T021214
CREATED:20260122T012717Z
LAST-MODIFIED:20260122T013020Z
UID:10006127-1777554900-1777561200@qathet365.ca
SUMMARY:Projects & Games
DESCRIPTION:Projects & Games is back! Join us in a relaxed\, welcoming space. \n\n\n\nBring a project to work on or enjoy some table games at your own pace. \n\n\n\nStay for coffee\, tea\, a few goodies\, and easy social time together.
URL:https://qathet365.ca/event/projects-games/2026-04-30/
LOCATION:Powell River United Church\, 6932 Crofton Street\, Powell River\, BC\, Canada
CATEGORIES:Art & Craft,COMMUNITY,ELDERS,KIDS AND FAMILY,YOUTH
END:VEVENT
END:VCALENDAR