BEGIN:VCALENDAR
VERSION:2.0
PRODID:-//qathet 365 - ECPv6.15.20//NONSGML v1.0//EN
CALSCALE:GREGORIAN
METHOD:PUBLISH
X-ORIGINAL-URL:https://qathet365.ca
X-WR-CALDESC:Events for qathet 365
REFRESH-INTERVAL;VALUE=DURATION:PT1H
X-Robots-Tag:noindex
X-PUBLISHED-TTL:PT1H
BEGIN:VTIMEZONE
TZID:America/Vancouver
BEGIN:DAYLIGHT
TZOFFSETFROM:-0800
TZOFFSETTO:-0700
TZNAME:PDT
DTSTART:20240310T100000
END:DAYLIGHT
BEGIN:STANDARD
TZOFFSETFROM:-0700
TZOFFSETTO:-0800
TZNAME:PST
DTSTART:20241103T090000
END:STANDARD
BEGIN:DAYLIGHT
TZOFFSETFROM:-0800
TZOFFSETTO:-0700
TZNAME:PDT
DTSTART:20250309T100000
END:DAYLIGHT
BEGIN:STANDARD
TZOFFSETFROM:-0700
TZOFFSETTO:-0800
TZNAME:PST
DTSTART:20251102T090000
END:STANDARD
BEGIN:DAYLIGHT
TZOFFSETFROM:-0800
TZOFFSETTO:-0700
TZNAME:PDT
DTSTART:20260308T100000
END:DAYLIGHT
BEGIN:STANDARD
TZOFFSETFROM:-0700
TZOFFSETTO:-0800
TZNAME:PST
DTSTART:20261101T090000
END:STANDARD
BEGIN:DAYLIGHT
TZOFFSETFROM:-0800
TZOFFSETTO:-0700
TZNAME:PDT
DTSTART:20270314T100000
END:DAYLIGHT
BEGIN:STANDARD
TZOFFSETFROM:-0700
TZOFFSETTO:-0800
TZNAME:PST
DTSTART:20271107T090000
END:STANDARD
END:VTIMEZONE
BEGIN:VEVENT
DTSTART;TZID=America/Vancouver:20251128T190000
DTEND;TZID=America/Vancouver:20251211T190000
DTSTAMP:20260425T154042
CREATED:20251207T225847Z
LAST-MODIFIED:20251207T225849Z
UID:10004880-1764356400-1765479600@qathet365.ca
SUMMARY:Zootopia 2
DESCRIPTION:
URL:https://qathet365.ca/event/zootopia-2/
LOCATION:Patricia Theatre\, 5848 Ash Ave\, POWELL RIVER\, BC\, V8A 4R6\, Canada
CATEGORIES:COMMUNITY,KIDS AND FAMILY,MUSIC, FILM & COMEDY,YOUTH
END:VEVENT
BEGIN:VEVENT
DTSTART;TZID=America/Vancouver:20251208T180000
DTEND;TZID=America/Vancouver:20251208T210000
DTSTAMP:20260425T154042
CREATED:20250818T185336Z
LAST-MODIFIED:20250818T185550Z
UID:10003494-1765216800-1765227600@qathet365.ca
SUMMARY:Board Game Night - Drop In
DESCRIPTION:Its board game night tonight at High Tide Games! \n\n\n\nWe have a library of board games to choose from\, or you can bring your own  \n\n\n\n\n\n\n\nStarts at 6:00PM and goes until 9:00PM \n\n\n\nCome on in and have some fun!
URL:https://qathet365.ca/event/board-game-night-drop-in/2025-12-08/
LOCATION:High tide games\, 7030 Glacier St #1\, Powell River\, BC V8A 5A1\, Powell River
CATEGORIES:ARTS & ENTERTAINMENT,COMMUNITY,KIDS AND FAMILY,YOUTH
END:VEVENT
BEGIN:VEVENT
DTSTART;TZID=America/Vancouver:20251208T183000
DTEND;TZID=America/Vancouver:20251208T210000
DTSTAMP:20260425T154042
CREATED:20250916T212812Z
LAST-MODIFIED:20250916T212815Z
UID:10004112-1765218600-1765227600@qathet365.ca
SUMMARY:Everyone Welcome Swim
DESCRIPTION:
URL:https://qathet365.ca/event/everyone-welcome-swim-11/2025-12-08/
LOCATION:Powell River Recreation Complex\, 5001 Joyce Ave\, POWELL RIVER\, BC\, V8A 5R2\, Canada
CATEGORIES:COMMUNITY,ELDERS,KIDS AND FAMILY,SPORTS & OUTDOORS,YOUTH
END:VEVENT
BEGIN:VEVENT
DTSTART;TZID=America/Vancouver:20251208T183000
DTEND;TZID=America/Vancouver:20251208T210000
DTSTAMP:20260425T154042
CREATED:20251207T211738Z
LAST-MODIFIED:20251207T211741Z
UID:10004602-1765218600-1765227600@qathet365.ca
SUMMARY:FREE Swim|Skate|Gym - With Memory Wall
DESCRIPTION:Join us for a FREE swim\, FREE skate\, or FREE gym time from 6:30–9:00pm. Leave us a note on our memory wall with your favourite Recreation Complex memory! \n\n\n\n\nThe Powell River Recreation Complex is celebrating 50 years of community and connection with a full week of events from December 8–13. Enjoy FREE swims\, skates\, and gym time\, holiday crafts for kids\, Retro Fitness Day\, an ugly sweater skate\, Fill the Hamper night\, and the legendary JAWS-in-the-pool movie event. It’s a week built for all ages\, all memories\, and all the local fun we love. Come celebrate!
URL:https://qathet365.ca/event/free-swimskategym-with-memory-wall/
LOCATION:Powell River Recreation Complex\, 5001 Joyce Ave\, POWELL RIVER\, BC\, V8A 5R2\, Canada
CATEGORIES:COMMUNITY,ELDERS,KIDS AND FAMILY,SPORTS & OUTDOORS,YOUTH
END:VEVENT
BEGIN:VEVENT
DTSTART;TZID=America/Vancouver:20251209T130000
DTEND;TZID=America/Vancouver:20251209T150000
DTSTAMP:20260425T154042
CREATED:20250807T225833Z
LAST-MODIFIED:20250807T225837Z
UID:10002384-1765285200-1765292400@qathet365.ca
SUMMARY:Mahjong at the Library
DESCRIPTION:Mahjong groups meet every week at the lounge area from 1-3pm. Instruction is available and everyone is welcome. For more information\, contact Mark at mmerlino@prpl.ca
URL:https://qathet365.ca/event/mahjong-at-the-library-2/2025-12-09/
LOCATION:Friends of the Library Lounge
CATEGORIES:COMMUNITY,ELDERS,YOUTH
ORGANIZER;CN="Powell River Public Library":MAILTO:edgar@prpl.ca
END:VEVENT
BEGIN:VEVENT
DTSTART;TZID=America/Vancouver:20251209T170000
DTEND;TZID=America/Vancouver:20251209T190000
DTSTAMP:20260425T154042
CREATED:20251207T212023Z
LAST-MODIFIED:20251207T212046Z
UID:10004603-1765299600-1765306800@qathet365.ca
SUMMARY:Santa at The Complex
DESCRIPTION:Come make a holiday craft with us\, get your face painted\, or maybe meet Santa! For ages 0–12\, in the Lower Foyer. \n\n\n\n\nThe Powell River Recreation Complex is celebrating 50 years of community and connection with a full week of events from December 8–13. Enjoy FREE swims\, skates\, and gym time\, holiday crafts for kids\, Retro Fitness Day\, an ugly sweater skate\, Fill the Hamper night\, and the legendary JAWS-in-the-pool movie event. It’s a week built for all ages\, all memories\, and all the local fun we love. Come celebrate!
URL:https://qathet365.ca/event/santa-at-the-complex/
LOCATION:Powell River Recreation Complex\, 5001 Joyce Ave\, POWELL RIVER\, BC\, V8A 5R2\, Canada
CATEGORIES:COMMUNITY,KIDS AND FAMILY,YOUTH
END:VEVENT
BEGIN:VEVENT
DTSTART;TZID=America/Vancouver:20251210T173000
DTEND;TZID=America/Vancouver:20251210T210000
DTSTAMP:20260425T154042
CREATED:20250818T185959Z
LAST-MODIFIED:20250818T190032Z
UID:10003755-1765387800-1765400400@qathet365.ca
SUMMARY:D&D Night - Drop In - All Ages
DESCRIPTION:Drop in and play some D&D at High Tide Games
URL:https://qathet365.ca/event/dd-night-drop-in-all-ages/2025-12-10/
LOCATION:High tide games\, 7030 Glacier St #1\, Powell River\, BC V8A 5A1\, Powell River
CATEGORIES:ARTS & ENTERTAINMENT,COMMUNITY,KIDS AND FAMILY,YOUTH
ATTACH;FMTTYPE=image/jpeg:https://qathet365.ca/wp-content/uploads/2025/08/download.jpeg
END:VEVENT
BEGIN:VEVENT
DTSTART;TZID=America/Vancouver:20251210T180000
DTEND;TZID=America/Vancouver:20251210T200000
DTSTAMP:20260425T154042
CREATED:20250807T230042Z
LAST-MODIFIED:20250807T230045Z
UID:10002642-1765389600-1765396800@qathet365.ca
SUMMARY:Knit Night
DESCRIPTION:Join fellow knitting enthusiasts in the Friends of the Library Lounge for a drop-in knit night.
URL:https://qathet365.ca/event/knit-night-10/2025-12-10/
LOCATION:Friends of the Library Lounge
CATEGORIES:Art & Craft,COMMUNITY,ELDERS,KIDS AND FAMILY,YOUTH
ORGANIZER;CN="Powell River Public Library":MAILTO:edgar@prpl.ca
END:VEVENT
BEGIN:VEVENT
DTSTART;TZID=America/Vancouver:20251211T080000
DTEND;TZID=America/Vancouver:20251211T170000
DTSTAMP:20260425T154042
CREATED:20251004T192527Z
LAST-MODIFIED:20251004T192531Z
UID:10004385-1765440000-1765472400@qathet365.ca
SUMMARY:Get the Most Out of Excel: Beyond the Basics - VIU
DESCRIPTION:Advance your Excel skills — charts\, formulas\, pivot tables\, macros\, etc. For folks who already know the basics.
URL:https://qathet365.ca/event/get-the-most-out-of-excel-beyond-the-basics-viu/2025-12-11/
LOCATION:VIU – tiwšɛmawtxʷ\, 7085 Nootka Street\, Powell River\, BC\, Canada
CATEGORIES:COMMUNITY,VIU,YOUTH
ATTACH;FMTTYPE=image/jpeg:https://qathet365.ca/wp-content/uploads/2025/10/excel-basics.jpg
END:VEVENT
BEGIN:VEVENT
DTSTART;TZID=America/Vancouver:20251211T163000
DTEND;TZID=America/Vancouver:20251211T180000
DTSTAMP:20260425T154042
CREATED:20251029T174255Z
LAST-MODIFIED:20251029T174259Z
UID:10004488-1765470600-1765476000@qathet365.ca
SUMMARY:Poetry Circle
DESCRIPTION:A shared creative space for poetry with Amira Abouelalla. A place for listening\, connecting\, and being inspired…and of course\, POETRY! \n\n\n\nFirst Credit Union Community Room\, on the SECOND and LAST Thursdays of the month. Drop-in. \n\n\n\nFor more information visit https://prpl.ca/series/poetry-circle/
URL:https://qathet365.ca/event/poetry-circle-5/2025-12-11/
LOCATION:Powell River Public Library\, 100-6975 Alberni St\, Powell River\, BC\, V8A2B8\, Canada
CATEGORIES:Art & Craft,ARTS & ENTERTAINMENT,COMMUNITY,ELDERS,YOUTH
END:VEVENT
BEGIN:VEVENT
DTSTART;TZID=America/Vancouver:20251211T170000
DTEND;TZID=America/Vancouver:20251211T190000
DTSTAMP:20260425T154042
CREATED:20251207T212509Z
LAST-MODIFIED:20251207T212512Z
UID:10004605-1765472400-1765479600@qathet365.ca
SUMMARY:Ugly Sweater - Everyone Welcome SKATE
DESCRIPTION:Dig out your ugliest Holiday sweater you can find and wear it to our FREE Everyone Welcome Skate. \n\n\n\nThe Powell River Recreation Complex is celebrating 50 years of community and connection with a full week of events from December 8–13. Enjoy FREE swims\, skates\, and gym time\, holiday crafts for kids\, Retro Fitness Day\, an ugly sweater skate\, Fill the Hamper night\, and the legendary JAWS-in-the-pool movie event. It’s a week built for all ages\, all memories\, and all the local fun we love. Come celebrate!
URL:https://qathet365.ca/event/ugly-sweater-everyone-welcome-skate/
LOCATION:Powell River Recreation Complex\, 5001 Joyce Ave\, POWELL RIVER\, BC\, V8A 5R2\, Canada
CATEGORIES:COMMUNITY,ELDERS,KIDS AND FAMILY,YOUTH
END:VEVENT
BEGIN:VEVENT
DTSTART;TZID=America/Vancouver:20251211T173000
DTEND;TZID=America/Vancouver:20251211T183000
DTSTAMP:20260425T154042
CREATED:20251002T211906Z
LAST-MODIFIED:20251002T211909Z
UID:10004366-1765474200-1765477800@qathet365.ca
SUMMARY:Prana Flow Yoga with Nicole
DESCRIPTION:All levels\, everyone welcome Options and modifications given to customize your practice  \n\n\n\nDrop-in: $24 5 class pass: $75 10 class pass: $100
URL:https://qathet365.ca/event/prana-flow-yoga-with-nicole/2025-12-11/
LOCATION:Cranberry Community Hall\, 6828 Cranberry Street\, POWELL RIVER\, BC\, V8A 3Z5\, Canada
CATEGORIES:COMMUNITY,ELDERS,SPIRITUALITY & WELLNESS,SPORTS & OUTDOORS,YOUTH
ORGANIZER;CN="Nicole Henri":MAILTO:nicole.henri.yoga@gmail.com
END:VEVENT
BEGIN:VEVENT
DTSTART;TZID=America/Vancouver:20251212T000000
DTEND;TZID=America/Vancouver:20251218T235959
DTSTAMP:20260425T154042
CREATED:20251207T220655Z
LAST-MODIFIED:20251207T220658Z
UID:10004616-1765497600-1766102399@qathet365.ca
SUMMARY:Holiday Films at The Patricia
DESCRIPTION:Special showings of Elf\, A Christmas Story and Christmas Vacation \n\n\n\nSpecific dates TBA: Dec 12 – 18 \n\n\n\nFriday 1:30 & 7 pmSaturday 7:00 pmSunday 1:30 & 7 pmMonday 7:00 pmTuesday 7:00 pmWednesday 3:30 pmThursday 7:00 pm
URL:https://qathet365.ca/event/holiday-films-at-the-patricia/
LOCATION:Patricia Theatre\, 5848 Ash Ave\, POWELL RIVER\, BC\, V8A 4R6\, Canada
CATEGORIES:COMMUNITY,ELDERS,KIDS AND FAMILY,MUSIC, FILM & COMEDY,YOUTH
ATTACH;FMTTYPE=image/jpeg:https://qathet365.ca/wp-content/uploads/2025/12/patirica-theatre-christmas-holiday-movies-qathet-powell-river.jpg
END:VEVENT
BEGIN:VEVENT
DTSTART;TZID=America/Vancouver:20251212T170000
DTEND;TZID=America/Vancouver:20251213T200000
DTSTAMP:20260425T154042
CREATED:20251207T233532Z
LAST-MODIFIED:20251207T233536Z
UID:10004883-1765558800-1765656000@qathet365.ca
SUMMARY:Festival of Lights
DESCRIPTION:Free admission! Everyone welcome! \n\n\n\nFestival of Lights is a warm and welcoming community celebration hosted by AFqa (Association Francophone de qathet)\, bringing families and neighbours together to share music\, light\, and seasonal joy. The event combines cultural connection with a festive atmosphere\, creating a space where everyone can gather\, celebrate\, and enjoy the spirit of the season. \n\n\n\nFriday\, December 125:00 p.m. | Opening of the grounds \n\n\n\n\nOutdoor area: illuminated forest walk with treasure hunt\n\n\n\nCommunity hall: winter crafts\, hot chocolate\, drinks\, treats\, and a festive\, friendly atmosphere\n\n\n\nDJ Blaise on site with lively francophone holiday music\n\n\n\n\n6:30 p.m. | Visit from Santa Claus and gift for every child \n\n\n\n8:00 p.m. | Closing of the grounds \n\n\n\nSaturday\, December 135:00 – 8:00 p.m. | Outdoor illuminated forest walk
URL:https://qathet365.ca/event/festival-of-lights/
LOCATION:AFqa  (Association Francophone de qathet)\, 5110 Manson Ave\, Powell River\, BC\, V8A 3P1\, Canada
CATEGORIES:COMMUNITY,ELDERS,KIDS AND FAMILY,YOUTH
END:VEVENT
BEGIN:VEVENT
DTSTART;TZID=America/Vancouver:20251212T183000
DTEND;TZID=America/Vancouver:20251212T210000
DTSTAMP:20260425T154042
CREATED:20251207T212936Z
LAST-MODIFIED:20251207T212939Z
UID:10004606-1765564200-1765573200@qathet365.ca
SUMMARY:Fill the Hamper Skate and Swim
DESCRIPTION:Fill the Hamper night! Join us for a skate from 7:00–9:00pm or Swim from 6:30–9:00pm. FREE admission with a donation of a non perishable food item or gift. \n\n\n\nThe Powell River Recreation Complex is celebrating 50 years of community and connection with a full week of events from December 8–13. Enjoy FREE swims\, skates\, and gym time\, holiday crafts for kids\, Retro Fitness Day\, an ugly sweater skate\, Fill the Hamper night\, and the legendary JAWS-in-the-pool movie event. It’s a week built for all ages\, all memories\, and all the local fun we love. Come celebrate!
URL:https://qathet365.ca/event/fill-the-hamper-skate-and-swim/
LOCATION:Powell River Recreation Complex\, 5001 Joyce Ave\, POWELL RIVER\, BC\, V8A 5R2\, Canada
CATEGORIES:COMMUNITY,ELDERS,FUNDRAISERS,KIDS AND FAMILY,SPORTS & OUTDOORS,YOUTH
END:VEVENT
BEGIN:VEVENT
DTSTART;TZID=America/Vancouver:20251212T190000
DTEND;TZID=America/Vancouver:20251212T190000
DTSTAMP:20260425T154042
CREATED:20250717T194139Z
LAST-MODIFIED:20250717T194142Z
UID:10002304-1765566000-1765566000@qathet365.ca
SUMMARY:Powell River Kings vs. Cowichan Valley Capitals
DESCRIPTION:Cheer on the Powell River Kings as they face off against the Cowichan Valley Capitals at the Hap Parker Arena! Join the hometown crowd for fast-paced BCHL hockey action and support your local team. The Powell River Kings bring the energy every game night—grab your tickets\, wear your green and gold\, and get ready to shout “Go Kings Go!” \n\n\n\nStay up to date with all Kings home games on qathet365.
URL:https://qathet365.ca/event/powell-river-kings-vs-cowichan-valley-capitals-2/2025-12-12/
LOCATION:Hap Parker Arena\, 5001 Joyce Ave\, Powell River\, BC\, V8A 5R2\, Canada
CATEGORIES:COMMUNITY,ELDERS,KIDS AND FAMILY,KINGS,SPORTS & OUTDOORS,YOUTH
ATTACH;FMTTYPE=image/png:https://qathet365.ca/wp-content/uploads/2025/06/Untitled-design.png
END:VEVENT
BEGIN:VEVENT
DTSTART;TZID=America/Vancouver:20251212T190000
DTEND;TZID=America/Vancouver:20251212T200000
DTSTAMP:20260425T154042
CREATED:20251207T225252Z
LAST-MODIFIED:20251207T225255Z
UID:10004618-1765566000-1765569600@qathet365.ca
SUMMARY:Archaeology of the Island in the Middle of Everywhere
DESCRIPTION:Archaeologist Dana Lepofsky from SFU will discuss the xʷɛʔɛt̓ay/Lasqueti Archaeology Project (XLAP): Honoring and Protecting Indigenous Heritage in the Salish Sea. For information contact Mark at mmerlino@prpl.ca
URL:https://qathet365.ca/event/archaeology-of-the-island-in-the-middle-of-everywhere/
LOCATION:Powell River Public Library\, 100-6975 Alberni St\, Powell River\, BC\, V8A2B8\, Canada
CATEGORIES:COMMUNITY,ELDERS,YOUTH
ORGANIZER;CN="Powell River Public Library":MAILTO:edgar@prpl.ca
END:VEVENT
BEGIN:VEVENT
DTSTART;TZID=America/Vancouver:20251213T120000
DTEND;TZID=America/Vancouver:20251223T160000
DTSTAMP:20260425T154042
CREATED:20251207T234445Z
LAST-MODIFIED:20251207T234528Z
UID:10004884-1765627200-1766505600@qathet365.ca
SUMMARY:Santa at the Mall
DESCRIPTION:FREE to take own photos
URL:https://qathet365.ca/event/santa-at-the-mall/
LOCATION:Town Centre Mall\, Unit 27 - 7100 Alberni St.\, Powell River\, BC\, Canada
CATEGORIES:COMMUNITY,KIDS AND FAMILY,YOUTH
END:VEVENT
BEGIN:VEVENT
DTSTART;TZID=America/Vancouver:20251213T130000
DTEND;TZID=America/Vancouver:20251213T160000
DTSTAMP:20260425T154042
CREATED:20250916T213004Z
LAST-MODIFIED:20250916T213010Z
UID:10004143-1765630800-1765641600@qathet365.ca
SUMMARY:Everyone Welcome Swim
DESCRIPTION:
URL:https://qathet365.ca/event/everyone-welcome-swim-15/2025-12-13/
LOCATION:Powell River Recreation Complex\, 5001 Joyce Ave\, POWELL RIVER\, BC\, V8A 5R2\, Canada
CATEGORIES:COMMUNITY,ELDERS,KIDS AND FAMILY,SPORTS & OUTDOORS,YOUTH
END:VEVENT
BEGIN:VEVENT
DTSTART;TZID=America/Vancouver:20251213T183000
DTEND;TZID=America/Vancouver:20251213T203000
DTSTAMP:20260425T154042
CREATED:20250916T213134Z
LAST-MODIFIED:20250916T213137Z
UID:10004159-1765650600-1765657800@qathet365.ca
SUMMARY:Everyone Welcome Swim
DESCRIPTION:
URL:https://qathet365.ca/event/everyone-welcome-swim-16/2025-12-13/
LOCATION:Powell River Recreation Complex\, 5001 Joyce Ave\, POWELL RIVER\, BC\, V8A 5R2\, Canada
CATEGORIES:COMMUNITY,ELDERS,KIDS AND FAMILY,SPORTS & OUTDOORS,YOUTH
END:VEVENT
BEGIN:VEVENT
DTSTART;TZID=America/Vancouver:20251213T200000
DTEND;TZID=America/Vancouver:20251213T220000
DTSTAMP:20260425T154042
CREATED:20251207T213156Z
LAST-MODIFIED:20251207T213159Z
UID:10004607-1765656000-1765663200@qathet365.ca
SUMMARY:JAWS in the Pool
DESCRIPTION:Dun Dun. Dun Dun. Dun Dun Dun Dun. We are showing JAWS in the pool from 8:15–10:00pm. $5 per person\, age 13+. Due to limited space\, this is a pre-registered event. You may register by calling 604-485-2891\, or visit us today at the Recreation Complex. Bring your own floaty!!
URL:https://qathet365.ca/event/jaws-in-the-pool/
LOCATION:Powell River Recreation Complex\, 5001 Joyce Ave\, POWELL RIVER\, BC\, V8A 5R2\, Canada
CATEGORIES:KIDS AND FAMILY,MUSIC, FILM & COMEDY,YOUTH
END:VEVENT
BEGIN:VEVENT
DTSTART;TZID=America/Vancouver:20251214T130000
DTEND;TZID=America/Vancouver:20251214T170000
DTSTAMP:20260425T154042
CREATED:20250807T230406Z
LAST-MODIFIED:20250807T230409Z
UID:10002901-1765717200-1765731600@qathet365.ca
SUMMARY:Chess Club
DESCRIPTION:The Powell River qathet Chess Club meets every Sunday afternoon starting at 1pm. The Chess Club is open to everyone – all ages and all skill levels. For more information contact Mark at mmerlino@prpl.ca.
URL:https://qathet365.ca/event/chess-club/2025-12-14/
LOCATION:Friends of the Library Lounge
CATEGORIES:ARTS & ENTERTAINMENT,COMMUNITY,ELDERS,KIDS AND FAMILY,YOUTH
ORGANIZER;CN="Powell River Public Library":MAILTO:edgar@prpl.ca
END:VEVENT
BEGIN:VEVENT
DTSTART;TZID=America/Vancouver:20251214T170000
DTEND;TZID=America/Vancouver:20251214T200000
DTSTAMP:20260425T154042
CREATED:20251207T215641Z
LAST-MODIFIED:20251207T215645Z
UID:10004613-1765731600-1765742400@qathet365.ca
SUMMARY:Harbour Lights Festival
DESCRIPTION:Powell River Yacht Club is excited to announce the 2025 edition of the “Harbour Lights Festival”. Come down with friends and family to cast your vote for the best decorated boat! Enjoy the lights\, festive decorations and a hot chocolate for some holiday cheer. Everyone is welcome to join us on Sunday\, December 14 from 5 – 6:30 PM at the South Harbour. See you there!
URL:https://qathet365.ca/event/harbour-lights-festival/
LOCATION:South Harbour\, Coast Guard Station\, 4315 Marine Ave\,\, Powell River\, bc\, V8A 1Z4\, Canada
CATEGORIES:COMMUNITY,ELDERS,KIDS AND FAMILY,YOUTH
END:VEVENT
BEGIN:VEVENT
DTSTART;TZID=America/Vancouver:20251214T180000
DTEND;TZID=America/Vancouver:20251214T180000
DTSTAMP:20260425T154042
CREATED:20250818T184303Z
LAST-MODIFIED:20250818T184415Z
UID:10003233-1765735200-1765735200@qathet365.ca
SUMMARY:Magic the Gathering - Drop In
DESCRIPTION:Drop in and play Magic the Gathering every Sunday at High Tide Games!
URL:https://qathet365.ca/event/magic-the-gathering-drop-in/2025-12-14/
LOCATION:High tide games\, 7030 Glacier St #1\, Powell River\, BC V8A 5A1\, Powell River
CATEGORIES:ARTS & ENTERTAINMENT,COMMUNITY,KIDS AND FAMILY,YOUTH
ATTACH;FMTTYPE=image/jpeg:https://qathet365.ca/wp-content/uploads/2025/08/Magic_the_gathering-card_back.jpg
END:VEVENT
BEGIN:VEVENT
DTSTART;TZID=America/Vancouver:20251215T183000
DTEND;TZID=America/Vancouver:20251215T213000
DTSTAMP:20260425T154042
CREATED:20251207T215926Z
LAST-MODIFIED:20251207T215930Z
UID:10004614-1765823400-1765834200@qathet365.ca
SUMMARY:Free Winter Wonderland Skate
DESCRIPTION:Winter Wonderland Skate is back! \n\n\n\nBring your family and friends for a FREE community skate at the PR Recreation Complex. ❄️⛸️ \n\n\n\nDecember 156:30–7:30pm \n\n\n\nSkates and helmets are available to rent\, so just come as you are and enjoy a cozy hour on the ice with your community. \n\n\n\nHosted by Powell River United Church – The Gathering Space.
URL:https://qathet365.ca/event/free-winter-wonderland-skate/
LOCATION:Powell River Recreation Complex\, 5001 Joyce Ave\, POWELL RIVER\, BC\, V8A 5R2\, Canada
CATEGORIES:COMMUNITY,ELDERS,KIDS AND FAMILY,SPORTS & OUTDOORS,YOUTH
END:VEVENT
BEGIN:VEVENT
DTSTART;TZID=America/Vancouver:20251215T190000
DTEND;TZID=America/Vancouver:20251215T190000
DTSTAMP:20260425T154042
CREATED:20251129T001436Z
LAST-MODIFIED:20251129T001439Z
UID:10004600-1765825200-1765825200@qathet365.ca
SUMMARY:Piano Heist - A Very Merry Heistmas!
DESCRIPTION:PIANO HEIST: A VERY MERRY HEISTMAS! \n\n\n\nPiano Heist is back with a dazzling new holiday production: A Very Merry Heistmas!  \n\n\n\nA festive romp through Christmas classics interlaced with their own brand of musical and comedic shenanigans\, Nico Rhodes & Patrick Courtin tackle everything “Christmas”.  \n\n\n\nWhether it’s the nostalgic charm of Charlie Brown Christmas\, a rock & roll styled Nutcracker Suite; The Messiah on melodicas\, or a rollicking ragtime Rudolph the Red Nose Reindeer\, get ready for a holiday experience that’s truly one-of-a-kind!  \n\n\n\nBring your festive spirit and pre-pare to sing-a-long for A Very Merry Heistmas! \n\n\n\nWatch the trailer
URL:https://qathet365.ca/event/piano-heist/
LOCATION:Max Cameron Theatre\, 5400 Marine Ave\, Powell River\, BC\, V8A2L6\, Canada
CATEGORIES:ARTS & ENTERTAINMENT,COMMUNITY,ELDERS,KIDS AND FAMILY,MUSIC, FILM & COMEDY,YOUTH
ATTACH;FMTTYPE=image/jpeg:https://qathet365.ca/wp-content/uploads/2025/11/piano-heist-max-cameron-theatre-powell-river-qathet-events.jpeg
END:VEVENT
BEGIN:VEVENT
DTSTART;TZID=America/Vancouver:20251217T173000
DTEND;TZID=America/Vancouver:20251217T210000
DTSTAMP:20260425T154042
CREATED:20251217T010126Z
LAST-MODIFIED:20251217T010147Z
UID:10004898-1765992600-1766005200@qathet365.ca
SUMMARY:Living Water Christmas Banquet
DESCRIPTION:Friends\, dinner\, silent auction\, treats\, games\, worship\, the word. Hollywood theme.
URL:https://qathet365.ca/event/living-water-christmas-banquet/
LOCATION:Living Water Church\, 4640 Manson Ave\, Powell River\, BC\, Canada
CATEGORIES:ARTS & ENTERTAINMENT,COMMUNITY,FOOD & BUSINESS,KIDS AND FAMILY,SPIRITUALITY & WELLNESS,YOUTH
END:VEVENT
BEGIN:VEVENT
DTSTART;TZID=America/Vancouver:20251219T170000
DTEND;TZID=America/Vancouver:20251223T200000
DTSTAMP:20260425T154042
CREATED:20251207T220221Z
LAST-MODIFIED:20251207T220225Z
UID:10004615-1766163600-1766520000@qathet365.ca
SUMMARY:Putters Mini Golf 5th Annual Light Up The Park
DESCRIPTION:It’s that time of the year again!! 🥳Putters’ 5th Annual Light Up the Park\, in partnership with Powell River Fire Rescue.Take a walk through the lit-up park!!Entry by donation- All proceeds go to the Powell River Fire Fighter Charitable Fund.December 19th-23rd from 5:00pm-8:00pm.NEW THIS YEARWe have Glow in the Dark Golf on December 20th only!! (regular mini golf rates apply)
URL:https://qathet365.ca/event/putters-mini-golf-5th-annual-light-up-the-park/
LOCATION:Putters Golf\, 4800 Marine Ave\, Powell River\, BC\, V8A 2L5\, Canada
CATEGORIES:COMMUNITY,KIDS AND FAMILY,YOUTH
END:VEVENT
BEGIN:VEVENT
DTSTART;TZID=America/Vancouver:20251219T190000
DTEND;TZID=America/Vancouver:20251219T190000
DTSTAMP:20260425T154042
CREATED:20250717T194414Z
LAST-MODIFIED:20250717T194417Z
UID:10002306-1766170800-1766170800@qathet365.ca
SUMMARY:Powell River Kings vs. Victoria Grizzlies
DESCRIPTION:Cheer on the Powell River Kings as they face off against the Victoria Grizzlies at the Hap Parker Arena! Join the hometown crowd for fast-paced BCHL hockey action and support your local team. The Powell River Kings bring the energy every game night—grab your tickets\, wear your green and gold\, and get ready to shout “Go Kings Go!” \n\n\n\nStay up to date with all Kings home games on qathet365.
URL:https://qathet365.ca/event/powell-river-kings-vs-victoria-grizzlies-3/
LOCATION:Hap Parker Arena\, 5001 Joyce Ave\, Powell River\, BC\, V8A 5R2\, Canada
CATEGORIES:COMMUNITY,ELDERS,KIDS AND FAMILY,KINGS,SPORTS & OUTDOORS,YOUTH
ATTACH;FMTTYPE=image/png:https://qathet365.ca/wp-content/uploads/2025/06/Untitled-design.png
END:VEVENT
BEGIN:VEVENT
DTSTART;TZID=America/Vancouver:20251219T190000
DTEND;TZID=America/Vancouver:20260101T190000
DTSTAMP:20260425T154042
CREATED:20251226T224141Z
LAST-MODIFIED:20251226T224143Z
UID:10004914-1766170800-1767294000@qathet365.ca
SUMMARY:Wicked for Good
DESCRIPTION:Music / FantasyPG — 2 hr 17 min \n\n\n\nThe final chapter of the untold story of the witches of Oz begins with Elphaba and Glinda estranged and living with the consequences of their choices.
URL:https://qathet365.ca/event/wicked-for-good/
LOCATION:Patricia Theatre\, 5848 Ash Ave\, POWELL RIVER\, BC\, V8A 4R6\, Canada
CATEGORIES:ELDERS,KIDS AND FAMILY,MUSIC, FILM & COMEDY,YOUTH
END:VEVENT
END:VCALENDAR