BEGIN:VCALENDAR
VERSION:2.0
PRODID:-//qathet 365 - ECPv6.15.20//NONSGML v1.0//EN
CALSCALE:GREGORIAN
METHOD:PUBLISH
X-ORIGINAL-URL:https://qathet365.ca
X-WR-CALDESC:Events for qathet 365
REFRESH-INTERVAL;VALUE=DURATION:PT1H
X-Robots-Tag:noindex
X-PUBLISHED-TTL:PT1H
BEGIN:VTIMEZONE
TZID:America/Vancouver
BEGIN:DAYLIGHT
TZOFFSETFROM:-0800
TZOFFSETTO:-0700
TZNAME:PDT
DTSTART:20250309T100000
END:DAYLIGHT
BEGIN:STANDARD
TZOFFSETFROM:-0700
TZOFFSETTO:-0800
TZNAME:PST
DTSTART:20251102T090000
END:STANDARD
BEGIN:DAYLIGHT
TZOFFSETFROM:-0800
TZOFFSETTO:-0700
TZNAME:PDT
DTSTART:20260308T100000
END:DAYLIGHT
BEGIN:STANDARD
TZOFFSETFROM:-0700
TZOFFSETTO:-0800
TZNAME:PST
DTSTART:20261101T090000
END:STANDARD
BEGIN:DAYLIGHT
TZOFFSETFROM:-0800
TZOFFSETTO:-0700
TZNAME:PDT
DTSTART:20270314T100000
END:DAYLIGHT
BEGIN:STANDARD
TZOFFSETFROM:-0700
TZOFFSETTO:-0800
TZNAME:PST
DTSTART:20271107T090000
END:STANDARD
END:VTIMEZONE
BEGIN:VEVENT
DTSTART;TZID=America/Vancouver:20260124T120000
DTEND;TZID=America/Vancouver:20260124T160000
DTSTAMP:20260422T172818
CREATED:20260122T013709Z
LAST-MODIFIED:20260122T013711Z
UID:10006374-1769256000-1769270400@qathet365.ca
SUMMARY:Learn to prune fruit trees and berries at Blueberry Commons
DESCRIPTION:Learn to prune fruit trees and berries workshop! Learn essential pruning tools and techniques\, then practice hands-on. Leave with the confidence to start pruning your own young\, mature\, and overgrown fruit trees and berries.
URL:https://qathet365.ca/event/learn-to-prune-fruit-trees-and-berries-at-blueberry-commons/
LOCATION:BC
CATEGORIES:ELDERS,KIDS AND FAMILY,OUTDOORS,YOUTH
END:VEVENT
BEGIN:VEVENT
DTSTART;TZID=America/Vancouver:20260124T153000
DTEND;TZID=America/Vancouver:20260124T170000
DTSTAMP:20260422T172818
CREATED:20260115T001920Z
LAST-MODIFIED:20260115T001923Z
UID:10005984-1769268600-1769274000@qathet365.ca
SUMMARY:Non-Profit Murder Society Book Club
DESCRIPTION:You are cordially invited to join the Non-Profit Murder Society Book Club. Our first Book Club read is Death at the Sanatorium by Icelandic Author Ragnar Jónasson. Registration is required for new members. \n\n\n\nNew Book Club Members should contact edgar@prpl.ca as soon as possible\, to be placed on the holds list for an Interlibrary Loan (ILL) copy of the book. Quantities limited.For more information visit https://prpl.ca/event/non-profit-murder-society-book-club-death-at-the-sanatorium/
URL:https://qathet365.ca/event/non-profit-murder-society-book-club-2/
LOCATION:Powell River Public Library\, 100-6975 Alberni St\, Powell River\, BC\, V8A2B8\, Canada
CATEGORIES:ARTS & ENTERTAINMENT,COMMUNITY,ELDERS,YOUTH
END:VEVENT
BEGIN:VEVENT
DTSTART;TZID=America/Vancouver:20260124T190000
DTEND;TZID=America/Vancouver:20260124T190000
DTSTAMP:20260422T172818
CREATED:20250717T211821Z
LAST-MODIFIED:20260119T012513Z
UID:10002309-1769281200-1769281200@qathet365.ca
SUMMARY:Powell River Kings vs. Surrey Eagles
DESCRIPTION:Cheer on the Powell River Kings as they face off against the Surrey Eagles at the Hap Parker Arena! Join the hometown crowd for fast-paced BCHL hockey action and support your local team. The Powell River Kings bring the energy every game night—grab your tickets\, wear your green and gold\, and get ready to shout “Go Kings Go!” \n\n\n\nStay up to date with all Kings home games on qathet365.
URL:https://qathet365.ca/event/powell-river-kings-vs-surrey-eagles/2026-01-24/
LOCATION:Hap Parker Arena\, 5001 Joyce Ave\, Powell River\, BC\, V8A 5R2\, Canada
CATEGORIES:COMMUNITY,ELDERS,KIDS AND FAMILY,KINGS,SPORTS & OUTDOORS,YOUTH
ATTACH;FMTTYPE=image/png:https://qathet365.ca/wp-content/uploads/2025/06/Untitled-design.png
END:VEVENT
BEGIN:VEVENT
DTSTART;TZID=America/Vancouver:20260125T110000
DTEND;TZID=America/Vancouver:20260125T130000
DTSTAMP:20260422T172818
CREATED:20260131T004847Z
LAST-MODIFIED:20260131T004850Z
UID:10006453-1769338800-1769346000@qathet365.ca
SUMMARY:Everyone Welcome Skate
DESCRIPTION:Come Skate.
URL:https://qathet365.ca/event/everyone-welcome-skate-16/2026-01-25/
LOCATION:Powell River Recreation Complex\, 5001 Joyce Ave\, POWELL RIVER\, BC\, V8A 5R2\, Canada
CATEGORIES:COMMUNITY,ELDERS,KIDS AND FAMILY,YOUTH
END:VEVENT
BEGIN:VEVENT
DTSTART;TZID=America/Vancouver:20260125T130000
DTEND;TZID=America/Vancouver:20260125T170000
DTSTAMP:20260422T172818
CREATED:20250807T230406Z
LAST-MODIFIED:20250807T230409Z
UID:10002907-1769346000-1769360400@qathet365.ca
SUMMARY:Chess Club
DESCRIPTION:The Powell River qathet Chess Club meets every Sunday afternoon starting at 1pm. The Chess Club is open to everyone – all ages and all skill levels. For more information contact Mark at mmerlino@prpl.ca.
URL:https://qathet365.ca/event/chess-club/2026-01-25/
LOCATION:Friends of the Library Lounge
CATEGORIES:ARTS & ENTERTAINMENT,COMMUNITY,ELDERS,KIDS AND FAMILY,YOUTH
ORGANIZER;CN="Powell River Public Library":MAILTO:edgar@prpl.ca
END:VEVENT
BEGIN:VEVENT
DTSTART;TZID=America/Vancouver:20260125T180000
DTEND;TZID=America/Vancouver:20260125T180000
DTSTAMP:20260422T172818
CREATED:20250818T184303Z
LAST-MODIFIED:20250818T184415Z
UID:10003239-1769364000-1769364000@qathet365.ca
SUMMARY:Magic the Gathering - Drop In
DESCRIPTION:Drop in and play Magic the Gathering every Sunday at High Tide Games!
URL:https://qathet365.ca/event/magic-the-gathering-drop-in/2026-01-25/
LOCATION:High tide games\, 7030 Glacier St #1\, Powell River\, BC V8A 5A1\, Powell River
CATEGORIES:ARTS & ENTERTAINMENT,COMMUNITY,KIDS AND FAMILY,YOUTH
ATTACH;FMTTYPE=image/jpeg:https://qathet365.ca/wp-content/uploads/2025/08/Magic_the_gathering-card_back.jpg
END:VEVENT
BEGIN:VEVENT
DTSTART;TZID=America/Vancouver:20260126T180000
DTEND;TZID=America/Vancouver:20260126T210000
DTSTAMP:20260422T172818
CREATED:20250818T185336Z
LAST-MODIFIED:20250818T185550Z
UID:10003501-1769450400-1769461200@qathet365.ca
SUMMARY:Board Game Night - Drop In
DESCRIPTION:Its board game night tonight at High Tide Games! \n\n\n\nWe have a library of board games to choose from\, or you can bring your own  \n\n\n\n\n\n\n\nStarts at 6:00PM and goes until 9:00PM \n\n\n\nCome on in and have some fun!
URL:https://qathet365.ca/event/board-game-night-drop-in/2026-01-26/
LOCATION:High tide games\, 7030 Glacier St #1\, Powell River\, BC V8A 5A1\, Powell River
CATEGORIES:ARTS & ENTERTAINMENT,COMMUNITY,KIDS AND FAMILY,YOUTH
END:VEVENT
BEGIN:VEVENT
DTSTART;TZID=America/Vancouver:20260127T130000
DTEND;TZID=America/Vancouver:20260127T150000
DTSTAMP:20260422T172818
CREATED:20250807T225833Z
LAST-MODIFIED:20250807T225837Z
UID:10002391-1769518800-1769526000@qathet365.ca
SUMMARY:Mahjong at the Library
DESCRIPTION:Mahjong groups meet every week at the lounge area from 1-3pm. Instruction is available and everyone is welcome. For more information\, contact Mark at mmerlino@prpl.ca
URL:https://qathet365.ca/event/mahjong-at-the-library-2/2026-01-27/
LOCATION:Friends of the Library Lounge
CATEGORIES:COMMUNITY,ELDERS,YOUTH
ORGANIZER;CN="Powell River Public Library":MAILTO:edgar@prpl.ca
END:VEVENT
BEGIN:VEVENT
DTSTART;TZID=America/Vancouver:20260127T193000
DTEND;TZID=America/Vancouver:20260127T193000
DTSTAMP:20260422T172818
CREATED:20251022T225854Z
LAST-MODIFIED:20251022T225857Z
UID:10004477-1769542200-1769542200@qathet365.ca
SUMMARY:Canada’s Royal Winnipeg Ballet presents T’əl: The Wild Man of the Woods and Carmina Burana
DESCRIPTION:Canada’s Royal Winnipeg Ballet presents T’əl: The Wild Man of the Woods and Carmina Burana\, January 27\, 2026 at Evergreen Theatre.  \n\n\n\nCanada’s Royal Winnipeg Ballet (RWB) presents a striking double bill of the evocative West Coast premiere of T’əl: The Wild Man of the Woods\, featured alongside the celebrated favourite Carmina Burana\, on stage January 27\, 2026 at Evergreen Theatre.  \n\n\n\nHailed by critics and audiences alike at its world premiere\, T’əl: The Wild Man of the Woods\, created and choreographed by RWB School alumnus Cameron Fraser-Monroe\, is an historic collaboration of Indigenous artists that fuses storytelling\, contemporary ballet\, and classical music – honouring the richness of oral tradition.  \n\n\n\nNarrated in both English and Ayajuthem by Elder Elsie Paul\, and scored by JUNO-nominated Cris Derksen\, this stunning work marks a bold new chapter in the RWB’s repertoire. Carmina Burana fuses bold\, athletic movement with Carl Orff’s thunderous and evocative score to create a visceral experience that transcends traditional storytelling. This high-octane work demands everything of its dancers and leaves audiences exhilarated\, moved\, and inspired.  \n\n\n\nTickets: Ticketmaster.ca and information: RWB.org  \n\n\n\nFrom $47.78 – $84.53  \n\n\n\n25% discount for groups of 10 or more Pay What You Can for Indigenous patrons with code COMMUNITY
URL:https://qathet365.ca/event/canadas-royal-winnipeg-ballet-presents-t%c9%99l-the-wild-man-of-the-woods-and-carmina-burana/
LOCATION:Evergreen Theatre\, 5001 Joyce Ave\, Powell River\, BC\, V8A 5R2\, Canada
CATEGORIES:ARTS & ENTERTAINMENT,COMMUNITY,ELDERS,KIDS AND FAMILY,MUSIC, FILM & COMEDY,SPIRITUALITY & WELLNESS,YOUTH
END:VEVENT
BEGIN:VEVENT
DTSTART;TZID=America/Vancouver:20260128T173000
DTEND;TZID=America/Vancouver:20260128T210000
DTSTAMP:20260422T172818
CREATED:20250818T185959Z
LAST-MODIFIED:20250818T190032Z
UID:10003762-1769621400-1769634000@qathet365.ca
SUMMARY:D&D Night - Drop In - All Ages
DESCRIPTION:Drop in and play some D&D at High Tide Games
URL:https://qathet365.ca/event/dd-night-drop-in-all-ages/2026-01-28/
LOCATION:High tide games\, 7030 Glacier St #1\, Powell River\, BC V8A 5A1\, Powell River
CATEGORIES:ARTS & ENTERTAINMENT,COMMUNITY,KIDS AND FAMILY,YOUTH
ATTACH;FMTTYPE=image/jpeg:https://qathet365.ca/wp-content/uploads/2025/08/download.jpeg
END:VEVENT
BEGIN:VEVENT
DTSTART;TZID=America/Vancouver:20260128T180000
DTEND;TZID=America/Vancouver:20260128T200000
DTSTAMP:20260422T172818
CREATED:20250807T230042Z
LAST-MODIFIED:20250807T230045Z
UID:10002649-1769623200-1769630400@qathet365.ca
SUMMARY:Knit Night
DESCRIPTION:Join fellow knitting enthusiasts in the Friends of the Library Lounge for a drop-in knit night.
URL:https://qathet365.ca/event/knit-night-10/2026-01-28/
LOCATION:Friends of the Library Lounge
CATEGORIES:Art & Craft,COMMUNITY,ELDERS,KIDS AND FAMILY,YOUTH
ORGANIZER;CN="Powell River Public Library":MAILTO:edgar@prpl.ca
END:VEVENT
BEGIN:VEVENT
DTSTART;TZID=America/Vancouver:20260129T131500
DTEND;TZID=America/Vancouver:20260129T150000
DTSTAMP:20260422T172818
CREATED:20260122T012717Z
LAST-MODIFIED:20260122T013020Z
UID:10006114-1769692500-1769698800@qathet365.ca
SUMMARY:Projects & Games
DESCRIPTION:Projects & Games is back! Join us in a relaxed\, welcoming space. \n\n\n\nBring a project to work on or enjoy some table games at your own pace. \n\n\n\nStay for coffee\, tea\, a few goodies\, and easy social time together.
URL:https://qathet365.ca/event/projects-games/2026-01-29/
LOCATION:Powell River United Church\, 6932 Crofton Street\, Powell River\, BC\, Canada
CATEGORIES:Art & Craft,COMMUNITY,ELDERS,KIDS AND FAMILY,YOUTH
END:VEVENT
BEGIN:VEVENT
DTSTART;TZID=America/Vancouver:20260129T190000
DTEND;TZID=America/Vancouver:20260129T190000
DTSTAMP:20260422T172818
CREATED:20251219T205607Z
LAST-MODIFIED:20251219T205610Z
UID:10004900-1769713200-1769713200@qathet365.ca
SUMMARY:The Wardens (New Date!)
DESCRIPTION:The Wardens – January 29 2026 \n\n\n\nThe Wardens don’t just sing about the land\, they’re part of it. \n\n\n\nThe Rocky Mountain-based band’s stories and songs rise from the very land they’ve protected as Canadian national park wardens. With haunting three-part harmonies and chilling tales\, the band’s mountain music – blending folk\, roots and western styles – reflects Canada’s protected wilderness areas. Celebrating the return of wild buffalo\, wrangling grizzly bears\, lonely nights on the packtrail and reflecting on an environment in crisis\, a performance by The Wardens has been dubbed “the quintessential mountain-culture concert experience.” \n\n\n\nFollowing the 2021 release of their third full-length album Sold Out at the Ironwood\, band member Ray Schmidt was nominated Traditional Singer of the Year by the Canadian Folk Music Awards. The band has also received numerous regional nominations including 2022 Touring Artist of the Year by the BC Touring Council and Album of the Year by Country Music Alberta. \n\n\n\nTickets online: https://www.showpass.com/the-wardens-2/
URL:https://qathet365.ca/event/the-wardens-new-date/
LOCATION:Max Cameron Theatre\, 5400 Marine Ave\, Powell River\, BC\, V8A2L6\, Canada
CATEGORIES:ARTS & ENTERTAINMENT,COMMUNITY,ELDERS,KIDS AND FAMILY,MUSIC, FILM & COMEDY,YOUTH
ATTACH;FMTTYPE=image/png:https://qathet365.ca/wp-content/uploads/2025/12/Screen-Shot-2025-12-19-at-12.55.13-PM.png
END:VEVENT
BEGIN:VEVENT
DTSTART;TZID=America/Vancouver:20260130T190000
DTEND;TZID=America/Vancouver:20260130T190000
DTSTAMP:20260422T172818
CREATED:20250717T212220Z
LAST-MODIFIED:20250717T212224Z
UID:10002311-1769799600-1769799600@qathet365.ca
SUMMARY:Powell River Kings vs. Chilliwack Chiefs
DESCRIPTION:Cheer on the Powell River Kings as they face off against the Chilliwack Chiefs at the Hap Parker Arena! Join the hometown crowd for fast-paced BCHL hockey action and support your local team. The Powell River Kings bring the energy every game night—grab your tickets\, wear your green and gold\, and get ready to shout “Go Kings Go!” \n\n\n\nStay up to date with all Kings home games on qathet365.
URL:https://qathet365.ca/event/powell-river-kings-vs-chilliwack-chiefs/2026-01-30/
LOCATION:Hap Parker Arena\, 5001 Joyce Ave\, Powell River\, BC\, V8A 5R2\, Canada
CATEGORIES:COMMUNITY,ELDERS,FOOD & BUSINESS,KIDS AND FAMILY,KINGS,SPORTS & OUTDOORS,YOUTH
ATTACH;FMTTYPE=image/png:https://qathet365.ca/wp-content/uploads/2025/06/Untitled-design.png
END:VEVENT
BEGIN:VEVENT
DTSTART;TZID=America/Vancouver:20260130T190000
DTEND;TZID=America/Vancouver:20260130T210000
DTSTAMP:20260422T172818
CREATED:20260131T003940Z
LAST-MODIFIED:20260131T003943Z
UID:10006439-1769799600-1769806800@qathet365.ca
SUMMARY:Everyone Welcome Skate
DESCRIPTION:[No skate February 13th
URL:https://qathet365.ca/event/everyone-welcome-skate-14/2026-01-30/
LOCATION:Powell River Recreation Complex\, 5001 Joyce Ave\, POWELL RIVER\, BC\, V8A 5R2\, Canada
CATEGORIES:COMMUNITY,ELDERS,KIDS AND FAMILY,YOUTH
END:VEVENT
BEGIN:VEVENT
DTSTART;TZID=America/Vancouver:20260131T110000
DTEND;TZID=America/Vancouver:20260131T130000
DTSTAMP:20260422T172818
CREATED:20260131T004345Z
LAST-MODIFIED:20260131T004348Z
UID:10006446-1769857200-1769864400@qathet365.ca
SUMMARY:Everyone Welcome Skate
DESCRIPTION:Come Skate.
URL:https://qathet365.ca/event/everyone-welcome-skate-15/2026-01-31/
LOCATION:Powell River Recreation Complex\, 5001 Joyce Ave\, POWELL RIVER\, BC\, V8A 5R2\, Canada
CATEGORIES:COMMUNITY,ELDERS,KIDS AND FAMILY,YOUTH
END:VEVENT
BEGIN:VEVENT
DTSTART;TZID=America/Vancouver:20260131T130000
DTEND;TZID=America/Vancouver:20260131T160000
DTSTAMP:20260422T172818
CREATED:20260131T002047Z
LAST-MODIFIED:20260131T002049Z
UID:10006405-1769864400-1769875200@qathet365.ca
SUMMARY:Everyone Welcome Swim
DESCRIPTION:Come and swim.
URL:https://qathet365.ca/event/everyone-welcome-swim-18/2026-01-31/
LOCATION:Powell River Recreation Complex\, 5001 Joyce Ave\, POWELL RIVER\, BC\, V8A 5R2\, Canada
CATEGORIES:COMMUNITY,ELDERS,KIDS AND FAMILY,YOUTH
END:VEVENT
BEGIN:VEVENT
DTSTART;TZID=America/Vancouver:20260131T183000
DTEND;TZID=America/Vancouver:20260131T203000
DTSTAMP:20260422T172818
CREATED:20260131T002243Z
LAST-MODIFIED:20260131T002246Z
UID:10006419-1769884200-1769891400@qathet365.ca
SUMMARY:Everyone Welcome Swim
DESCRIPTION:Come and swim.
URL:https://qathet365.ca/event/everyone-welcome-swim-19/2026-01-31/
LOCATION:Powell River Recreation Complex\, 5001 Joyce Ave\, POWELL RIVER\, BC\, V8A 5R2\, Canada
CATEGORIES:COMMUNITY,ELDERS,KIDS AND FAMILY,YOUTH
END:VEVENT
BEGIN:VEVENT
DTSTART;TZID=America/Vancouver:20260202T141500
DTEND;TZID=America/Vancouver:20260202T161500
DTSTAMP:20260422T172818
CREATED:20260131T002725Z
LAST-MODIFIED:20260131T002728Z
UID:10006426-1770041700-1770048900@qathet365.ca
SUMMARY:Family Skate
DESCRIPTION:Come and have a nice family outing\, and come skating!                     (Strollers allowed)
URL:https://qathet365.ca/event/family-skate-3/2026-02-02/
LOCATION:Powell River Recreation Complex\, 5001 Joyce Ave\, POWELL RIVER\, BC\, V8A 5R2\, Canada
CATEGORIES:COMMUNITY,ELDERS,KIDS AND FAMILY,YOUTH
END:VEVENT
BEGIN:VEVENT
DTSTART;TZID=America/Vancouver:20260202T163000
DTEND;TZID=America/Vancouver:20260202T180000
DTSTAMP:20260422T172818
CREATED:20260201T223430Z
LAST-MODIFIED:20260201T223432Z
UID:10006984-1770049800-1770055200@qathet365.ca
SUMMARY:Community Pasta Dinner
DESCRIPTION:The Community Pasta Dinner is back! \n\n\n\nJoin us every Monday for a free community meal\, served from 4:30–6:00 pm.Come for a warm plate of food\, familiar faces\, and easy conversation. \n\n\n\nEveryone is welcome.No registration. No cost. Just show up. \n\n\n\nWhether you’re coming on your own or bringing a friend\, there’s always a place at the table.
URL:https://qathet365.ca/event/community-pasta-dinner-2/2026-02-02/
LOCATION:Powell River United Church\, 6932 Crofton Street\, Powell River\, BC\, Canada
CATEGORIES:COMMUNITY,ELDERS,KIDS AND FAMILY,SPIRITUALITY & WELLNESS,YOUTH
END:VEVENT
BEGIN:VEVENT
DTSTART;TZID=America/Vancouver:20260202T183000
DTEND;TZID=America/Vancouver:20260202T210000
DTSTAMP:20260422T172818
CREATED:20260131T001722Z
LAST-MODIFIED:20260131T001725Z
UID:10006387-1770057000-1770066000@qathet365.ca
SUMMARY:Everyone Welcome Swim
DESCRIPTION:Come and swim.
URL:https://qathet365.ca/event/everyone-welcome-swim-17/2026-02-02/
LOCATION:Powell River Recreation Complex\, 5001 Joyce Ave\, POWELL RIVER\, BC\, V8A 5R2\, Canada
CATEGORIES:COMMUNITY,ELDERS,KIDS AND FAMILY,YOUTH
END:VEVENT
BEGIN:VEVENT
DTSTART;TZID=America/Vancouver:20260203T153000
DTEND;TZID=America/Vancouver:20260203T171500
DTSTAMP:20260422T172818
CREATED:20260131T003212Z
LAST-MODIFIED:20260131T003215Z
UID:10006432-1770132600-1770138900@qathet365.ca
SUMMARY:Toonie Skate
DESCRIPTION:Come have fun on the ice with your family and friends for only a toonie!
URL:https://qathet365.ca/event/toonie-skate-4/2026-02-03/
LOCATION:Powell River Recreation Complex\, 5001 Joyce Ave\, POWELL RIVER\, BC\, V8A 5R2\, Canada
CATEGORIES:COMMUNITY,ELDERS,KIDS AND FAMILY,YOUTH
END:VEVENT
BEGIN:VEVENT
DTSTART;TZID=America/Vancouver:20260205T160000
DTEND;TZID=America/Vancouver:20260205T173000
DTSTAMP:20260422T172818
CREATED:20260131T003622Z
LAST-MODIFIED:20260131T003624Z
UID:10006438-1770307200-1770312600@qathet365.ca
SUMMARY:Everyone Welcome Skate
DESCRIPTION:Come and skate with your family and friends!
URL:https://qathet365.ca/event/everyone-welcome-skate-13/
LOCATION:Powell River Recreation Complex\, 5001 Joyce Ave\, POWELL RIVER\, BC\, V8A 5R2\, Canada
CATEGORIES:COMMUNITY,ELDERS,KIDS AND FAMILY,YOUTH
END:VEVENT
BEGIN:VEVENT
DTSTART;TZID=America/Vancouver:20260205T170000
DTEND;TZID=America/Vancouver:20260205T183000
DTSTAMP:20260422T172818
CREATED:20260205T021606Z
LAST-MODIFIED:20260205T021933Z
UID:10007008-1770310800-1770316200@qathet365.ca
SUMMARY:Wing Chun Kung-Fu Free Trial Classes
DESCRIPTION:Come and try a wing chun kung-fu class!
URL:https://qathet365.ca/event/wing-chun-kung-fu-free-trial-classes-3/2026-02-05/
LOCATION:6251 Yew Street\, 6251 Yew Street\, Powell River\, BC\, V8A4J9\, Canada
CATEGORIES:COMMUNITY,YOUTH,YOUTH SPORTS
END:VEVENT
BEGIN:VEVENT
DTSTART;TZID=America/Vancouver:20260207T110000
DTEND;TZID=America/Vancouver:20260207T123000
DTSTAMP:20260422T172818
CREATED:20260205T021819Z
LAST-MODIFIED:20260205T022054Z
UID:10007015-1770462000-1770467400@qathet365.ca
SUMMARY:Wing Chun Kung-Fu Free Trial Classes
DESCRIPTION:Come and try a wing chun kung-fu class!
URL:https://qathet365.ca/event/wing-chun-kung-fu/2026-02-07/
LOCATION:6251 Yew Street\, 6251 Yew Street\, Powell River\, BC\, V8A4J9\, Canada
CATEGORIES:COMMUNITY,YOUTH,YOUTH SPORTS
END:VEVENT
BEGIN:VEVENT
DTSTART;TZID=America/Vancouver:20260207T133000
DTEND;TZID=America/Vancouver:20260207T163000
DTSTAMP:20260422T172818
CREATED:20260205T023836Z
LAST-MODIFIED:20260205T023839Z
UID:10007020-1770471000-1770481800@qathet365.ca
SUMMARY:The Nettle Dress Movie
DESCRIPTION:Free by donation\, come see a beautiful movie that follows a man who works through his grief by harvesting\, drying\, spinning and weaving nettles into cloth to make into a dress. The documentary touches on the need to protect our wild places\, as well as other things like using natural products\, death\, art. You’ll enjoy the film\, and even more\, you’ll love hearing from other organizations and people we have invited as collaborators. Come spend the afternoon with us.
URL:https://qathet365.ca/event/the-nettle-dress-movie/
LOCATION:patricia theater\, 5848 Ash Ave\, Powell River\, BC V8A 4R6\, Powell River
CATEGORIES:ARTS & ENTERTAINMENT,COMMUNITY,KIDS AND FAMILY,YOUTH
END:VEVENT
BEGIN:VEVENT
DTSTART;TZID=America/Vancouver:20260207T160000
DTEND;TZID=America/Vancouver:20260207T203000
DTSTAMP:20260422T172818
CREATED:20260131T012119Z
LAST-MODIFIED:20260131T012122Z
UID:10006983-1770480000-1770496200@qathet365.ca
SUMMARY:Harmony Vespers Presents: Jamberries Live Concert
DESCRIPTION:
URL:https://qathet365.ca/event/harmony-vespers-presents-jamberries-live-concert/
LOCATION:Powell River United Church\, 6932 Crofton Street\, Powell River\, BC\, Canada
CATEGORIES:ARTS & ENTERTAINMENT,COMMUNITY,ELDERS,KIDS AND FAMILY,MUSIC, FILM & COMEDY,YOUTH
END:VEVENT
BEGIN:VEVENT
DTSTART;TZID=America/Vancouver:20260207T190000
DTEND;TZID=America/Vancouver:20260207T190000
DTSTAMP:20260422T172818
CREATED:20250717T212654Z
LAST-MODIFIED:20250717T212657Z
UID:10002313-1770490800-1770490800@qathet365.ca
SUMMARY:Powell River vs. Nanaimo Clippers
DESCRIPTION:Cheer on the Powell River Kings as they face off against the Nanaimo Clippers at the Hap Parker Arena! Join the hometown crowd for fast-paced BCHL hockey action and support your local team. The Powell River Kings bring the energy every game night—grab your tickets\, wear your green and gold\, and get ready to shout “Go Kings Go!” \n\n\n\nStay up to date with all Kings home games on qathet365.
URL:https://qathet365.ca/event/powell-river-vs-nanaimo-clippers/2026-02-07/
LOCATION:Hap Parker Arena\, 5001 Joyce Ave\, Powell River\, BC\, V8A 5R2\, Canada
CATEGORIES:COMMUNITY,ELDERS,KIDS AND FAMILY,KINGS,SPORTS & OUTDOORS,YOUTH
ATTACH;FMTTYPE=image/png:https://qathet365.ca/wp-content/uploads/2025/06/Untitled-design.png
END:VEVENT
BEGIN:VEVENT
DTSTART;TZID=America/Vancouver:20260214T120000
DTEND;TZID=America/Vancouver:20260215T210000
DTSTAMP:20260422T172818
CREATED:20260205T023221Z
LAST-MODIFIED:20260209T024049Z
UID:10007019-1771070400-1771189200@qathet365.ca
SUMMARY:Bygone Parlour Valentines Pop-up
DESCRIPTION:We are pleased to announce the bygone parlor will open for a wee Valentines Day Weekend pop up event! Serving delicious desserts and Special home made cocoas as well as coffee and teas. Treat a friend or special someone\, or yourself to a Valentines day treat or after dinner dessert. Please note the menu below is the full menu and the regular ice cream parlor menu will resume spring. Thank you and hope to see you soon.
URL:https://qathet365.ca/event/valentines-weekend/
LOCATION:bygone parlor\, 5861 ash\, Powell River
CATEGORIES:ELDERS,KIDS AND FAMILY,YOUTH
END:VEVENT
BEGIN:VEVENT
DTSTART;TZID=America/Vancouver:20260221T120000
DTEND;TZID=America/Vancouver:20260221T160000
DTSTAMP:20260422T172818
CREATED:20260219T034907Z
LAST-MODIFIED:20260219T034909Z
UID:10007045-1771675200-1771689600@qathet365.ca
SUMMARY:Black History Month Grand Celebration
DESCRIPTION:🎤 Keynote Speaker: Dr. Joash Gambarage🎶 Live Music: Mivule Band🥁 Drum Circle: Chris Weekes✨ Cultural showcase\, games\, delicious food & more!🎟️ ADMISSION IS FREE!
URL:https://qathet365.ca/event/black-history-month-grand-celebration/
LOCATION:Dwight Hall\, Walnut St\,\, Powell River\, BC\, V8A 5R2\, Canada
CATEGORIES:COMMUNITY,ELDERS,KIDS AND FAMILY,YOUTH
END:VEVENT
END:VCALENDAR