BEGIN:VCALENDAR
VERSION:2.0
PRODID:-//qathet 365 - ECPv6.15.20//NONSGML v1.0//EN
CALSCALE:GREGORIAN
METHOD:PUBLISH
X-ORIGINAL-URL:https://qathet365.ca
X-WR-CALDESC:Events for qathet 365
REFRESH-INTERVAL;VALUE=DURATION:PT1H
X-Robots-Tag:noindex
X-PUBLISHED-TTL:PT1H
BEGIN:VTIMEZONE
TZID:America/Vancouver
BEGIN:DAYLIGHT
TZOFFSETFROM:-0800
TZOFFSETTO:-0700
TZNAME:PDT
DTSTART:20250309T100000
END:DAYLIGHT
BEGIN:STANDARD
TZOFFSETFROM:-0700
TZOFFSETTO:-0800
TZNAME:PST
DTSTART:20251102T090000
END:STANDARD
BEGIN:DAYLIGHT
TZOFFSETFROM:-0800
TZOFFSETTO:-0700
TZNAME:PDT
DTSTART:20260308T100000
END:DAYLIGHT
BEGIN:STANDARD
TZOFFSETFROM:-0700
TZOFFSETTO:-0800
TZNAME:PST
DTSTART:20261101T090000
END:STANDARD
BEGIN:DAYLIGHT
TZOFFSETFROM:-0800
TZOFFSETTO:-0700
TZNAME:PDT
DTSTART:20270314T100000
END:DAYLIGHT
BEGIN:STANDARD
TZOFFSETFROM:-0700
TZOFFSETTO:-0800
TZNAME:PST
DTSTART:20271107T090000
END:STANDARD
END:VTIMEZONE
BEGIN:VEVENT
DTSTART;TZID=America/Vancouver:20260225T000000
DTEND;TZID=America/Vancouver:20260307T235959
DTSTAMP:20260422T172823
CREATED:20260122T231901Z
LAST-MODIFIED:20260122T231906Z
UID:10006380-1771977600-1772927999@qathet365.ca
SUMMARY: qathet Festival of the Performing Arts 2026
DESCRIPTION:The qathet Festival of Performing Arts takes place February 25 – March 7\, showcasing young performers from across the qathet region in music\, dance\, and speech arts. \n\n\n\nThis annual community festival brings together students\, families\, teachers\, and adjudicators for live performances\, constructive feedback\, and meaningful on-stage experience. Events are held at local venues throughout Powell River / qathet\, with a mix of daytime and evening sessions open to the public. \n\n\n\nA highlight of the local arts calendar\, the qathet Festival of Performing Arts offers two weeks of performances that celebrate creativity\, dedication\, and the next generation of performers in our community.
URL:https://qathet365.ca/event/qathet-festival-of-the-performing-arts-2026/
LOCATION:BC
CATEGORIES:ARTS & ENTERTAINMENT,COMMUNITY,ELDERS,KIDS AND FAMILY,MUSIC, FILM & COMEDY,YOUTH
END:VEVENT
BEGIN:VEVENT
DTSTART;TZID=America/Vancouver:20260307T110000
DTEND;TZID=America/Vancouver:20260307T130000
DTSTAMP:20260422T172823
CREATED:20260131T004345Z
LAST-MODIFIED:20260131T004348Z
UID:10006451-1772881200-1772888400@qathet365.ca
SUMMARY:Everyone Welcome Skate
DESCRIPTION:Come Skate.
URL:https://qathet365.ca/event/everyone-welcome-skate-15/2026-03-07/
LOCATION:Powell River Recreation Complex\, 5001 Joyce Ave\, POWELL RIVER\, BC\, V8A 5R2\, Canada
CATEGORIES:COMMUNITY,ELDERS,KIDS AND FAMILY,YOUTH
END:VEVENT
BEGIN:VEVENT
DTSTART;TZID=America/Vancouver:20260307T130000
DTEND;TZID=America/Vancouver:20260307T160000
DTSTAMP:20260422T172823
CREATED:20260131T002047Z
LAST-MODIFIED:20260131T002049Z
UID:10006415-1772888400-1772899200@qathet365.ca
SUMMARY:Everyone Welcome Swim
DESCRIPTION:Come and swim.
URL:https://qathet365.ca/event/everyone-welcome-swim-18/2026-03-07/
LOCATION:Powell River Recreation Complex\, 5001 Joyce Ave\, POWELL RIVER\, BC\, V8A 5R2\, Canada
CATEGORIES:COMMUNITY,ELDERS,KIDS AND FAMILY,YOUTH
END:VEVENT
BEGIN:VEVENT
DTSTART;TZID=America/Vancouver:20260307T183000
DTEND;TZID=America/Vancouver:20260307T203000
DTSTAMP:20260422T172823
CREATED:20260131T002243Z
LAST-MODIFIED:20260131T002246Z
UID:10006424-1772908200-1772915400@qathet365.ca
SUMMARY:Everyone Welcome Swim
DESCRIPTION:Come and swim.
URL:https://qathet365.ca/event/everyone-welcome-swim-19/2026-03-07/
LOCATION:Powell River Recreation Complex\, 5001 Joyce Ave\, POWELL RIVER\, BC\, V8A 5R2\, Canada
CATEGORIES:COMMUNITY,ELDERS,KIDS AND FAMILY,YOUTH
END:VEVENT
BEGIN:VEVENT
DTSTART;TZID=America/Vancouver:20260308T110000
DTEND;TZID=America/Vancouver:20260308T130000
DTSTAMP:20260422T172823
CREATED:20260131T004847Z
LAST-MODIFIED:20260131T004850Z
UID:10006459-1772967600-1772974800@qathet365.ca
SUMMARY:Everyone Welcome Skate
DESCRIPTION:Come Skate.
URL:https://qathet365.ca/event/everyone-welcome-skate-16/2026-03-08/
LOCATION:Powell River Recreation Complex\, 5001 Joyce Ave\, POWELL RIVER\, BC\, V8A 5R2\, Canada
CATEGORIES:COMMUNITY,ELDERS,KIDS AND FAMILY,YOUTH
END:VEVENT
BEGIN:VEVENT
DTSTART;TZID=America/Vancouver:20260308T130000
DTEND;TZID=America/Vancouver:20260308T170000
DTSTAMP:20260422T172823
CREATED:20250807T230406Z
LAST-MODIFIED:20250807T230409Z
UID:10002913-1772974800-1772989200@qathet365.ca
SUMMARY:Chess Club
DESCRIPTION:The Powell River qathet Chess Club meets every Sunday afternoon starting at 1pm. The Chess Club is open to everyone – all ages and all skill levels. For more information contact Mark at mmerlino@prpl.ca.
URL:https://qathet365.ca/event/chess-club/2026-03-08/
LOCATION:Friends of the Library Lounge
CATEGORIES:ARTS & ENTERTAINMENT,COMMUNITY,ELDERS,KIDS AND FAMILY,YOUTH
ORGANIZER;CN="Powell River Public Library":MAILTO:edgar@prpl.ca
END:VEVENT
BEGIN:VEVENT
DTSTART;TZID=America/Vancouver:20260308T180000
DTEND;TZID=America/Vancouver:20260308T180000
DTSTAMP:20260422T172823
CREATED:20250818T184303Z
LAST-MODIFIED:20250818T184415Z
UID:10003245-1772992800-1772992800@qathet365.ca
SUMMARY:Magic the Gathering - Drop In
DESCRIPTION:Drop in and play Magic the Gathering every Sunday at High Tide Games!
URL:https://qathet365.ca/event/magic-the-gathering-drop-in/2026-03-08/
LOCATION:High tide games\, 7030 Glacier St #1\, Powell River\, BC V8A 5A1\, Powell River
CATEGORIES:ARTS & ENTERTAINMENT,COMMUNITY,KIDS AND FAMILY,YOUTH
ATTACH;FMTTYPE=image/jpeg:https://qathet365.ca/wp-content/uploads/2025/08/Magic_the_gathering-card_back.jpg
END:VEVENT
BEGIN:VEVENT
DTSTART;TZID=America/Vancouver:20260309T141500
DTEND;TZID=America/Vancouver:20260309T161500
DTSTAMP:20260422T172823
CREATED:20260131T002725Z
LAST-MODIFIED:20260131T002728Z
UID:10006431-1773065700-1773072900@qathet365.ca
SUMMARY:Family Skate
DESCRIPTION:Come and have a nice family outing\, and come skating!                     (Strollers allowed)
URL:https://qathet365.ca/event/family-skate-3/2026-03-09/
LOCATION:Powell River Recreation Complex\, 5001 Joyce Ave\, POWELL RIVER\, BC\, V8A 5R2\, Canada
CATEGORIES:COMMUNITY,ELDERS,KIDS AND FAMILY,YOUTH
END:VEVENT
BEGIN:VEVENT
DTSTART;TZID=America/Vancouver:20260309T163000
DTEND;TZID=America/Vancouver:20260309T180000
DTSTAMP:20260422T172823
CREATED:20260201T223430Z
LAST-MODIFIED:20260201T223432Z
UID:10006989-1773073800-1773079200@qathet365.ca
SUMMARY:Community Pasta Dinner
DESCRIPTION:The Community Pasta Dinner is back! \n\n\n\nJoin us every Monday for a free community meal\, served from 4:30–6:00 pm.Come for a warm plate of food\, familiar faces\, and easy conversation. \n\n\n\nEveryone is welcome.No registration. No cost. Just show up. \n\n\n\nWhether you’re coming on your own or bringing a friend\, there’s always a place at the table.
URL:https://qathet365.ca/event/community-pasta-dinner-2/2026-03-09/
LOCATION:Powell River United Church\, 6932 Crofton Street\, Powell River\, BC\, Canada
CATEGORIES:COMMUNITY,ELDERS,KIDS AND FAMILY,SPIRITUALITY & WELLNESS,YOUTH
END:VEVENT
BEGIN:VEVENT
DTSTART;TZID=America/Vancouver:20260309T180000
DTEND;TZID=America/Vancouver:20260309T210000
DTSTAMP:20260422T172823
CREATED:20250818T185336Z
LAST-MODIFIED:20250818T185550Z
UID:10003507-1773079200-1773090000@qathet365.ca
SUMMARY:Board Game Night - Drop In
DESCRIPTION:Its board game night tonight at High Tide Games! \n\n\n\nWe have a library of board games to choose from\, or you can bring your own  \n\n\n\n\n\n\n\nStarts at 6:00PM and goes until 9:00PM \n\n\n\nCome on in and have some fun!
URL:https://qathet365.ca/event/board-game-night-drop-in/2026-03-09/
LOCATION:High tide games\, 7030 Glacier St #1\, Powell River\, BC V8A 5A1\, Powell River
CATEGORIES:ARTS & ENTERTAINMENT,COMMUNITY,KIDS AND FAMILY,YOUTH
END:VEVENT
BEGIN:VEVENT
DTSTART;TZID=America/Vancouver:20260309T183000
DTEND;TZID=America/Vancouver:20260309T210000
DTSTAMP:20260422T172823
CREATED:20260131T001722Z
LAST-MODIFIED:20260131T001725Z
UID:10006402-1773081000-1773090000@qathet365.ca
SUMMARY:Everyone Welcome Swim
DESCRIPTION:Come and swim.
URL:https://qathet365.ca/event/everyone-welcome-swim-17/2026-03-09/
LOCATION:Powell River Recreation Complex\, 5001 Joyce Ave\, POWELL RIVER\, BC\, V8A 5R2\, Canada
CATEGORIES:COMMUNITY,ELDERS,KIDS AND FAMILY,YOUTH
END:VEVENT
BEGIN:VEVENT
DTSTART;TZID=America/Vancouver:20260310T130000
DTEND;TZID=America/Vancouver:20260310T150000
DTSTAMP:20260422T172823
CREATED:20250807T225833Z
LAST-MODIFIED:20250807T225837Z
UID:10002397-1773147600-1773154800@qathet365.ca
SUMMARY:Mahjong at the Library
DESCRIPTION:Mahjong groups meet every week at the lounge area from 1-3pm. Instruction is available and everyone is welcome. For more information\, contact Mark at mmerlino@prpl.ca
URL:https://qathet365.ca/event/mahjong-at-the-library-2/2026-03-10/
LOCATION:Friends of the Library Lounge
CATEGORIES:COMMUNITY,ELDERS,YOUTH
ORGANIZER;CN="Powell River Public Library":MAILTO:edgar@prpl.ca
END:VEVENT
BEGIN:VEVENT
DTSTART;TZID=America/Vancouver:20260310T153000
DTEND;TZID=America/Vancouver:20260310T171500
DTSTAMP:20260422T172823
CREATED:20260131T003212Z
LAST-MODIFIED:20260131T003215Z
UID:10006437-1773156600-1773162900@qathet365.ca
SUMMARY:Toonie Skate
DESCRIPTION:Come have fun on the ice with your family and friends for only a toonie!
URL:https://qathet365.ca/event/toonie-skate-4/2026-03-10/
LOCATION:Powell River Recreation Complex\, 5001 Joyce Ave\, POWELL RIVER\, BC\, V8A 5R2\, Canada
CATEGORIES:COMMUNITY,ELDERS,KIDS AND FAMILY,YOUTH
END:VEVENT
BEGIN:VEVENT
DTSTART;TZID=America/Vancouver:20260311T173000
DTEND;TZID=America/Vancouver:20260311T210000
DTSTAMP:20260422T172823
CREATED:20250818T185959Z
LAST-MODIFIED:20250818T190032Z
UID:10003768-1773250200-1773262800@qathet365.ca
SUMMARY:D&D Night - Drop In - All Ages
DESCRIPTION:Drop in and play some D&D at High Tide Games
URL:https://qathet365.ca/event/dd-night-drop-in-all-ages/2026-03-11/
LOCATION:High tide games\, 7030 Glacier St #1\, Powell River\, BC V8A 5A1\, Powell River
CATEGORIES:ARTS & ENTERTAINMENT,COMMUNITY,KIDS AND FAMILY,YOUTH
ATTACH;FMTTYPE=image/jpeg:https://qathet365.ca/wp-content/uploads/2025/08/download.jpeg
END:VEVENT
BEGIN:VEVENT
DTSTART;TZID=America/Vancouver:20260311T180000
DTEND;TZID=America/Vancouver:20260311T200000
DTSTAMP:20260422T172823
CREATED:20250807T230042Z
LAST-MODIFIED:20250807T230045Z
UID:10002655-1773252000-1773259200@qathet365.ca
SUMMARY:Knit Night
DESCRIPTION:Join fellow knitting enthusiasts in the Friends of the Library Lounge for a drop-in knit night.
URL:https://qathet365.ca/event/knit-night-10/2026-03-11/
LOCATION:Friends of the Library Lounge
CATEGORIES:Art & Craft,COMMUNITY,ELDERS,KIDS AND FAMILY,YOUTH
ORGANIZER;CN="Powell River Public Library":MAILTO:edgar@prpl.ca
END:VEVENT
BEGIN:VEVENT
DTSTART;TZID=America/Vancouver:20260312T131500
DTEND;TZID=America/Vancouver:20260312T150000
DTSTAMP:20260422T172823
CREATED:20260122T012717Z
LAST-MODIFIED:20260122T013020Z
UID:10006120-1773321300-1773327600@qathet365.ca
SUMMARY:Projects & Games
DESCRIPTION:Projects & Games is back! Join us in a relaxed\, welcoming space. \n\n\n\nBring a project to work on or enjoy some table games at your own pace. \n\n\n\nStay for coffee\, tea\, a few goodies\, and easy social time together.
URL:https://qathet365.ca/event/projects-games/2026-03-12/
LOCATION:Powell River United Church\, 6932 Crofton Street\, Powell River\, BC\, Canada
CATEGORIES:Art & Craft,COMMUNITY,ELDERS,KIDS AND FAMILY,YOUTH
END:VEVENT
BEGIN:VEVENT
DTSTART;TZID=America/Vancouver:20260312T163000
DTEND;TZID=America/Vancouver:20260312T183000
DTSTAMP:20260422T172823
CREATED:20260312T231832Z
LAST-MODIFIED:20260312T231835Z
UID:10007351-1773333000-1773340200@qathet365.ca
SUMMARY:Poetry Circle
DESCRIPTION:A shared creative space for poetry with Amira Abouelalla. A place for listening\, connecting\, and being inspired…and of course\, POETRY! Whether you are someone who writes poetry\, reads poetry or even thinks in poetry\, this is an open place for you to share.
URL:https://qathet365.ca/event/poetry-circle-6/2026-03-12/
LOCATION:Powell River Public Library\, 100-6975 Alberni St\, Powell River\, BC\, V8A2B8\, Canada
CATEGORIES:COMMUNITY,ELDERS,KIDS AND FAMILY,SPIRITUALITY & WELLNESS,YOUTH
END:VEVENT
BEGIN:VEVENT
DTSTART;TZID=America/Vancouver:20260312T190000
DTEND;TZID=America/Vancouver:20260312T190000
DTSTAMP:20260422T172823
CREATED:20250717T213505Z
LAST-MODIFIED:20250717T213509Z
UID:10002316-1773342000-1773342000@qathet365.ca
SUMMARY:Powell River Kings vs. Prince George Spruce Kings
DESCRIPTION:Cheer on the Powell River Kings as they face off against the Prince George Spruce Kings at the Hap Parker Arena! Join the hometown crowd for fast-paced BCHL hockey action and support your local team. The Powell River Kings bring the energy every game night—grab your tickets\, wear your green and gold\, and get ready to shout “Go Kings Go!” \n\n\n\nStay up to date with all Kings home games on qathet365.
URL:https://qathet365.ca/event/powell-river-kings-vs-prince-george-spruce-kings/2026-03-12/
LOCATION:Hap Parker Arena\, 5001 Joyce Ave\, Powell River\, BC\, V8A 5R2\, Canada
CATEGORIES:COMMUNITY,ELDERS,KIDS AND FAMILY,KINGS,SPORTS & OUTDOORS,YOUTH
ATTACH;FMTTYPE=image/png:https://qathet365.ca/wp-content/uploads/2025/06/Untitled-design.png
END:VEVENT
BEGIN:VEVENT
DTSTART;TZID=America/Vancouver:20260312T190000
DTEND;TZID=America/Vancouver:20260312T220000
DTSTAMP:20260422T172823
CREATED:20260312T234537Z
LAST-MODIFIED:20260312T234539Z
UID:10007355-1773342000-1773352800@qathet365.ca
SUMMARY:YEGG\, DEATH MACHINE\, BUTCHER
DESCRIPTION:YEGGFormed in the gritty streets of Nanaimo in 2023\, YEGG is a band that stays true to their roots. Drawing inspiration from iconic bands like Death\, Obituary\, Morbid Angel\, and Cannibal Corpse\, YEGG is a testament to the enduring power of Old School Death Metal. Their live shows are a sight to behold with intense energy and a ferocious wall of pure aggression.  \n\n\n\nDEATH MACHINEEstablished heavyweights of the Okanagan scene now based out of Vancouver\, Death Machine’s Death Harvest 2026 Tour is set to claw its way across Western Canada like some kind of fearsome combine harvester. Many bands talk about flattening the venue\, these lads may actually accomplish it.  \n\n\n\nBUTCHERButcher\, formed in December of 2023 in Nanaimo\, seeks to combine old school death metal roots with the raw aggression of brutal death metal and hardcore.In a few short years\, Butcher has pushed the envelope in terms of just how crushing a show can be.
URL:https://qathet365.ca/event/yegg-death-machine-butcher/
LOCATION:The Alley\, 4478 Marine Ave\, Powell River\, BC\, Canada
CATEGORIES:ARTS & ENTERTAINMENT,COMMUNITY,KIDS AND FAMILY,MUSIC, FILM & COMEDY,YOUTH
END:VEVENT
BEGIN:VEVENT
DTSTART;TZID=America/Vancouver:20260313T190000
DTEND;TZID=America/Vancouver:20260313T210000
DTSTAMP:20260422T172823
CREATED:20260131T003940Z
LAST-MODIFIED:20260131T003943Z
UID:10006445-1773428400-1773435600@qathet365.ca
SUMMARY:Everyone Welcome Skate
DESCRIPTION:[No skate February 13th
URL:https://qathet365.ca/event/everyone-welcome-skate-14/2026-03-13/
LOCATION:Powell River Recreation Complex\, 5001 Joyce Ave\, POWELL RIVER\, BC\, V8A 5R2\, Canada
CATEGORIES:COMMUNITY,ELDERS,KIDS AND FAMILY,YOUTH
END:VEVENT
BEGIN:VEVENT
DTSTART;TZID=America/Vancouver:20260314T150000
DTEND;TZID=America/Vancouver:20260314T150000
DTSTAMP:20260422T172823
CREATED:20260213T213238Z
LAST-MODIFIED:20260213T213240Z
UID:10007036-1773500400-1773500400@qathet365.ca
SUMMARY:Lip-Sync Contest Extravaganza
DESCRIPTION:Join us for an afternoon of fun\, laughter\, and unforgettable performances at the Lip-Sync Contest Extravaganza. Participants of all ages and abilities are invited to take the stage and showcase their stage presence\, humour\, and musical flair. Bring your friends and family to cheer on the performers and enjoy the show. \n\n\n\nPrizes will be awarded for Best Performance\, Crowd Favourite\, and Most Creative. Admission is by donation. \n\n\n\nTo participate\, email your song selection by March 7\, 2026 to Mary at revmjwhite@hotmail.ca\, or drop off your selection\, name\, and contact information at the church office. \n\n\n\nDate: Saturday\, March 14\, 2026Time: 3:00 p.m.Location: The Gathering Place\, Powell River United Church6932 Crofton Street\, Powell River\, BC
URL:https://qathet365.ca/event/lip-sync-contest-extravaganza/
LOCATION:Gathering Space at the United Church\, 6932 Crofton Street\, Powell River\, BC\, V8A 5H4\, Canada
CATEGORIES:ARTS & ENTERTAINMENT,COMMUNITY,ELDERS,KIDS AND FAMILY,MUSIC, FILM & COMEDY,YOUTH
END:VEVENT
BEGIN:VEVENT
DTSTART;TZID=America/Vancouver:20260323T190000
DTEND;TZID=America/Vancouver:20260323T190000
DTSTAMP:20260422T172823
CREATED:20260310T184746Z
LAST-MODIFIED:20260310T184749Z
UID:10007345-1774292400-1774292400@qathet365.ca
SUMMARY:Powell River Kings vs. West Kelowna Warriors
DESCRIPTION:Cheer on the Powell River Kings as they face off against the West Kelowna Warriors at the Hap Parker Arena!Join the hometown crowd for fast-paced BCHL hockey action and support your local team. The Powell River Kings bring the energy every game night—grab your tickets\, wear your green and gold\, and get ready to shout “Go Kings Go!”
URL:https://qathet365.ca/event/powell-river-kings-vs-west-kelowna-warriors-2/
LOCATION:Hap Parker Arena\, 5001 Joyce Ave\, Powell River\, BC\, V8A 5R2\, Canada
CATEGORIES:COMMUNITY,ELDERS,KIDS AND FAMILY,KINGS,SPORTS & OUTDOORS,YOUTH
ATTACH;FMTTYPE=image/png:https://qathet365.ca/wp-content/uploads/2025/09/kings-square1.png
END:VEVENT
BEGIN:VEVENT
DTSTART;TZID=America/Vancouver:20260326T173000
DTEND;TZID=America/Vancouver:20260326T193000
DTSTAMP:20260422T172823
CREATED:20250815T215408Z
LAST-MODIFIED:20250815T215411Z
UID:10003156-1774546200-1774553400@qathet365.ca
SUMMARY:Artist Trading Card Night
DESCRIPTION:Do you know about Artist Trading Cards? Whether you do or don’t\, we hope you’ll join us for ATC nights with host Harvey Chometsky. \n\n\n\nIn short\, Artist Trading Cards are self-made unique works or small series\, signed and dated on the reverse by the artist/producer\, exchanged and collected by the people who participate in this collaborative event. There are only 2 “rules”: the cards must be 2.5″x3.5″ (the same as modern hockey cards or baseball cards)\, and they are only to be traded\, not sold. \n\n\n\nMake them ahead of time\, or make them on the spot. We’ll bring some blanks and other art supplies. \n\n\n\nAnd this is a family-friendly event!
URL:https://qathet365.ca/event/artist-trading-card-night-2/2026-03-26/
LOCATION:The Alley\, 4478 Marine Ave\, Powell River\, BC\, Canada
CATEGORIES:Art & Craft,ARTS & ENTERTAINMENT,COMMUNITY,ELDERS,KIDS AND FAMILY,YOUTH
END:VEVENT
BEGIN:VEVENT
DTSTART;TZID=America/Vancouver:20260328T180000
DTEND;TZID=America/Vancouver:20260328T180000
DTSTAMP:20260422T172823
CREATED:20260222T223903Z
LAST-MODIFIED:20260222T223918Z
UID:10007053-1774720800-1774720800@qathet365.ca
SUMMARY:Battle of the Badges - Cops vs. Firefighters
DESCRIPTION:Battle of the Badges Powell River returns to Hap Parker Arena on March 28 at 6 pm for an action packed charity hockey game featuring Cops vs Firefighters. \n\n\n\nLocal RCMP officers and firefighters hit the ice in this annual community fundraiser supporting the Powell River Firefighters Charity and Cops for Cancer\, benefiting the Canadian Cancer Society. Expect competitive hockey\, hometown pride\, and plenty of fun for the whole family. \n\n\n\n50/50 tickets are available for $2 each or 3 for $5. Programs are available by donation\, and picking one up at the door automatically enters you into the 460 Realty prize draw. \n\n\n\nTickets are available at the RCMP station\, the Fire Hall\, and the 460 Realty office. Join the crowd at Hap Parker Arena and support a great cause in Powell River.
URL:https://qathet365.ca/event/battle-of-the-badges-cops-vs-firefighters/
LOCATION:Hap Parker Arena\, 5001 Joyce Ave\, Powell River\, BC\, V8A 5R2\, Canada
CATEGORIES:460 Realty,COMMUNITY,ELDERS,KIDS AND FAMILY,SPORTS & OUTDOORS,YOUTH
ATTACH;FMTTYPE=image/png:https://qathet365.ca/wp-content/uploads/2026/02/Screen-Shot-2026-02-22-at-2.37.56-PM.png
ORGANIZER;CN="460 Realty PR":MAILTO:adminpr@460realty.com
END:VEVENT
BEGIN:VEVENT
DTSTART;TZID=America/Vancouver:20260403T153000
DTEND;TZID=America/Vancouver:20260403T153000
DTSTAMP:20260422T172823
CREATED:20260403T231008Z
LAST-MODIFIED:20260403T231011Z
UID:10007494-1775230200-1775230200@qathet365.ca
SUMMARY:Super Mario Brother Galaxy Movie
DESCRIPTION:
URL:https://qathet365.ca/event/super-mario-brother-galaxy-movie/
LOCATION:Patricia Theatre\, 5848 Ash Ave\, POWELL RIVER\, BC\, V8A 4R6\, Canada
CATEGORIES:ARTS & ENTERTAINMENT,ELDERS,KIDS AND FAMILY,MUSIC, FILM & COMEDY,YOUTH
END:VEVENT
BEGIN:VEVENT
DTSTART;TZID=America/Vancouver:20260403T190000
DTEND;TZID=America/Vancouver:20260403T210000
DTSTAMP:20260422T172823
CREATED:20260313T225655Z
LAST-MODIFIED:20260313T225657Z
UID:10007401-1775242800-1775250000@qathet365.ca
SUMMARY:An Evening With Master Storyteller Jan Blake
DESCRIPTION:An Evening With Master Storyteller Jan Blake April 3rd\, 7-9 PM (Doors at 6:30) Cranberry Community Hall\, 6828 Cranberry St. Join master storyteller Jan Blake for the Re-Rooting Tour: an exploration of African folktales in the diaspora through storytelling\, music\, rhythm\, and song. Jan Blake shares myths and tales that reconnect her with her African heritage and Jamaican roots\, transforming ancestral bone-memory into a source of healing and joyful self‑expression. Percussion and soundscape by Reg Wilford.  \n\n\n\nABOUT THE STORY Shifter is an immersive storytelling experience exploring transformation and illusion. Drawing on myth and magic\, these tales feature shape shifters—born or made—who slip between human and animal forms: sly Loogaroos\, feral lovers\, protective mothers\, and uncanny elders. Sometimes unsettling\, always compelling\, Shifter invites audiences into a night of powerful change and embodied storytelling. Adults: $25 Youth 12-18: $10 This evening is for ages 12+. 
URL:https://qathet365.ca/event/an-evening-with-master-storyteller-jan-blake/
LOCATION:Cranberry Community Hall\, 6828 Cranberry Street\, POWELL RIVER\, BC\, V8A 3Z5\, Canada
CATEGORIES:ARTS & ENTERTAINMENT,COMMUNITY,KIDS AND FAMILY,MUSIC, FILM & COMEDY,YOUTH
END:VEVENT
BEGIN:VEVENT
DTSTART;TZID=America/Vancouver:20260404T110000
DTEND;TZID=America/Vancouver:20260404T150000
DTSTAMP:20260422T172823
CREATED:20260403T231437Z
LAST-MODIFIED:20260403T235146Z
UID:10007495-1775300400-1775314800@qathet365.ca
SUMMARY:Springtime Market - Easter Egg Hunt
DESCRIPTION:Come and enjoy an easter egg hunt\, cocktails\, food\, and more than 35 vendors!
URL:https://qathet365.ca/event/springtime-market/2026-04-04/
LOCATION:Springtime Garden Center\, 5300 Yukon Ave\, Powell River\, BC\, V8A 4H4\, Canada
CATEGORIES:460 Realty,COMMUNITY,ELDERS,FOOD & BUSINESS,KIDS AND FAMILY,YOUTH
ATTACH;FMTTYPE=image/jpeg:https://qathet365.ca/wp-content/uploads/2026/04/Feature-Friday-1.jpeg
ORGANIZER;CN="460 Realty PR":MAILTO:adminpr@460realty.com
END:VEVENT
BEGIN:VEVENT
DTSTART;TZID=America/Vancouver:20260404T180000
DTEND;TZID=America/Vancouver:20260404T210000
DTSTAMP:20260422T172823
CREATED:20260403T232328Z
LAST-MODIFIED:20260403T232331Z
UID:10007497-1775325600-1775336400@qathet365.ca
SUMMARY:Video Game Night
DESCRIPTION:
URL:https://qathet365.ca/event/video-game-night/
LOCATION:High tide games\, 7030 Glacier St #1\, Powell River\, BC V8A 5A1\, Powell River
CATEGORIES:COMMUNITY,KIDS AND FAMILY,YOUTH
END:VEVENT
BEGIN:VEVENT
DTSTART;TZID=America/Vancouver:20260404T190000
DTEND;TZID=America/Vancouver:20260404T190000
DTSTAMP:20260422T172823
CREATED:20260403T232047Z
LAST-MODIFIED:20260403T232049Z
UID:10007496-1775329200-1775329200@qathet365.ca
SUMMARY:Rock & Bowl 18- Caveman And The Banchee\, CHUNK\, DJ Full Bug
DESCRIPTION:
URL:https://qathet365.ca/event/rock-bowl-18-caveman-and-the-banchee-chunk-dj-full-bug/
LOCATION:The Alley\, 4478 Marine Ave\, Powell River\, BC\, Canada
CATEGORIES:ARTS & ENTERTAINMENT,COMMUNITY,ELDERS,KIDS AND FAMILY,MUSIC, FILM & COMEDY,YOUTH
END:VEVENT
BEGIN:VEVENT
DTSTART;TZID=America/Vancouver:20260405T100000
DTEND;TZID=America/Vancouver:20260405T140000
DTSTAMP:20260422T172823
CREATED:20260313T195601Z
LAST-MODIFIED:20260313T195603Z
UID:10007400-1775383200-1775397600@qathet365.ca
SUMMARY:VinylFlip 2026 - Record & Physical Media Fair
DESCRIPTION:When was the moment you became a fan of your favourite musician or band? Was it listening to the radio\, reading Rolling Stone or Creem magazine\, Spotify\, or maybe visiting the local record store? I remember patiently waiting for my brother to leave the house\, sneaking into his room and losing myself in Lou Reed’s Transformer\, T-rex The Slider\, and Bowie’s Ziggy Stardust. Just holding the record cover in my hands\, reading the liner notes and studying the artwork was – and still is exciting! \n\n\n\nDigging through bins of records is akin to visiting a museum or curated art show with a myriad of styles represented\, both visually and aurally!  \n\n\n\nApproximately 50% of records sold in 2025 were bought by people who don’t even own a turntable\, but for their collectability\, aesthetic\, or decorative purposes.  \n\n\n\nFortunately\, in qathet we have the Full Bug Record Store and the annual VinylFlip Record Fare on April 5th to help satisfy your need to have and hold physical media the way most artists intended their work to be experienced. \n\n\n\nThere will be plenty of bins to dig through. What’s on your list? \n\n\n\nSunday April 5th from 10am-2pm at The Townsite Public Market 5831 Ash Avenue
URL:https://qathet365.ca/event/vinylflip-2026-record-physical-media-fair/
LOCATION:Townsite Public Market\, 5831 Ash Ave\, Powell River\, BC\, V8A 4R5
CATEGORIES:COMMUNITY,ELDERS,FOOD & BUSINESS,KIDS AND FAMILY,MUSIC, FILM & COMEDY,YOUTH
END:VEVENT
END:VCALENDAR