BEGIN:VCALENDAR
VERSION:2.0
PRODID:-//qathet 365 - ECPv6.15.20//NONSGML v1.0//EN
CALSCALE:GREGORIAN
METHOD:PUBLISH
X-ORIGINAL-URL:https://qathet365.ca
X-WR-CALDESC:Events for qathet 365
REFRESH-INTERVAL;VALUE=DURATION:PT1H
X-Robots-Tag:noindex
X-PUBLISHED-TTL:PT1H
BEGIN:VTIMEZONE
TZID:America/Vancouver
BEGIN:DAYLIGHT
TZOFFSETFROM:-0800
TZOFFSETTO:-0700
TZNAME:PDT
DTSTART:20250309T100000
END:DAYLIGHT
BEGIN:STANDARD
TZOFFSETFROM:-0700
TZOFFSETTO:-0800
TZNAME:PST
DTSTART:20251102T090000
END:STANDARD
BEGIN:DAYLIGHT
TZOFFSETFROM:-0800
TZOFFSETTO:-0700
TZNAME:PDT
DTSTART:20260308T100000
END:DAYLIGHT
BEGIN:STANDARD
TZOFFSETFROM:-0700
TZOFFSETTO:-0800
TZNAME:PST
DTSTART:20261101T090000
END:STANDARD
BEGIN:DAYLIGHT
TZOFFSETFROM:-0800
TZOFFSETTO:-0700
TZNAME:PDT
DTSTART:20270314T100000
END:DAYLIGHT
BEGIN:STANDARD
TZOFFSETFROM:-0700
TZOFFSETTO:-0800
TZNAME:PST
DTSTART:20271107T090000
END:STANDARD
END:VTIMEZONE
BEGIN:VEVENT
DTSTART;TZID=America/Vancouver:20260408T180000
DTEND;TZID=America/Vancouver:20260408T200000
DTSTAMP:20260425T043516
CREATED:20250807T230042Z
LAST-MODIFIED:20250807T230045Z
UID:10002659-1775671200-1775678400@qathet365.ca
SUMMARY:Knit Night
DESCRIPTION:Join fellow knitting enthusiasts in the Friends of the Library Lounge for a drop-in knit night.
URL:https://qathet365.ca/event/knit-night-10/2026-04-08/
LOCATION:Friends of the Library Lounge
CATEGORIES:Art & Craft,COMMUNITY,ELDERS,KIDS AND FAMILY,YOUTH
ORGANIZER;CN="Powell River Public Library":MAILTO:edgar@prpl.ca
END:VEVENT
BEGIN:VEVENT
DTSTART;TZID=America/Vancouver:20260409T131500
DTEND;TZID=America/Vancouver:20260409T150000
DTSTAMP:20260425T043517
CREATED:20260122T012717Z
LAST-MODIFIED:20260122T013020Z
UID:10006124-1775740500-1775746800@qathet365.ca
SUMMARY:Projects & Games
DESCRIPTION:Projects & Games is back! Join us in a relaxed\, welcoming space. \n\n\n\nBring a project to work on or enjoy some table games at your own pace. \n\n\n\nStay for coffee\, tea\, a few goodies\, and easy social time together.
URL:https://qathet365.ca/event/projects-games/2026-04-09/
LOCATION:Powell River United Church\, 6932 Crofton Street\, Powell River\, BC\, Canada
CATEGORIES:Art & Craft,COMMUNITY,ELDERS,KIDS AND FAMILY,YOUTH
END:VEVENT
BEGIN:VEVENT
DTSTART;TZID=America/Vancouver:20260409T163000
DTEND;TZID=America/Vancouver:20260409T180000
DTSTAMP:20260425T043517
CREATED:20260402T012343Z
LAST-MODIFIED:20260402T012346Z
UID:10007425-1775752200-1775757600@qathet365.ca
SUMMARY:Poetry Circle
DESCRIPTION:A shared creative space for poetry with Amira Abouelalla. A place for listening\, connecting\, and being inspired…and of course\, POETRY! Whether you are someone who writes poetry\, reads poetry or even thinks in poetry\, this is an open place for you to share.Poetry Circle happens on the SECOND & LAST Thursdays of the month\, drop-in. For more information visit https://prpl.ca/series/poetry-circle/
URL:https://qathet365.ca/event/poetry-circle-7/2026-04-09/
LOCATION:Powell River Public Library\, 100-6975 Alberni St\, Powell River\, BC\, V8A2B8\, Canada
CATEGORIES:COMMUNITY,ELDERS,YOUTH
END:VEVENT
BEGIN:VEVENT
DTSTART;TZID=America/Vancouver:20260411T140000
DTEND;TZID=America/Vancouver:20260411T150000
DTSTAMP:20260425T043517
CREATED:20260402T012655Z
LAST-MODIFIED:20260402T012657Z
UID:10007427-1775916000-1775919600@qathet365.ca
SUMMARY:if: prey\, then: huntress
DESCRIPTION:Acclaimed poet Christina Shah discusses her new book about her observations and experiences on the road\, navigating heavy industry in Canada as a woman.
URL:https://qathet365.ca/event/if-prey-then-huntress/
LOCATION:Powell River Public Library\, 100-6975 Alberni St\, Powell River\, BC\, V8A2B8\, Canada
CATEGORIES:ARTS & ENTERTAINMENT,COMMUNITY,ELDERS,YOUTH
END:VEVENT
BEGIN:VEVENT
DTSTART;TZID=America/Vancouver:20260411T193000
DTEND;TZID=America/Vancouver:20260411T223000
DTSTAMP:20260425T043517
CREATED:20260313T004513Z
LAST-MODIFIED:20260313T004515Z
UID:10007360-1775935800-1775946600@qathet365.ca
SUMMARY:People's Prom - Enchanted Forest
DESCRIPTION:Join us for an all-ages night of dance-floor magic with your favourite CJMP DJs. Expect DIY crowns\, woodland weirdness\, a photo booth\, and an enchanted forest built the community-radio way. \n\n\n\nForest fae. Swamp glam. Mushroom formal. Glitter goblin. Soft moss monarch. Bring out your inner forest fabulous.
URL:https://qathet365.ca/event/peoples-prom-enchanted-forest-2/
LOCATION:The Alley\, 4478 Marine Ave\, Powell River\, BC\, Canada
CATEGORIES:COMMUNITY,KIDS AND FAMILY,MUSIC, FILM & COMEDY,YOUTH
END:VEVENT
BEGIN:VEVENT
DTSTART;TZID=America/Vancouver:20260412T130000
DTEND;TZID=America/Vancouver:20260412T170000
DTSTAMP:20260425T043517
CREATED:20250807T230406Z
LAST-MODIFIED:20250807T230409Z
UID:10002918-1775998800-1776013200@qathet365.ca
SUMMARY:Chess Club
DESCRIPTION:The Powell River qathet Chess Club meets every Sunday afternoon starting at 1pm. The Chess Club is open to everyone – all ages and all skill levels. For more information contact Mark at mmerlino@prpl.ca.
URL:https://qathet365.ca/event/chess-club/2026-04-12/
LOCATION:Friends of the Library Lounge
CATEGORIES:ARTS & ENTERTAINMENT,COMMUNITY,ELDERS,KIDS AND FAMILY,YOUTH
ORGANIZER;CN="Powell River Public Library":MAILTO:edgar@prpl.ca
END:VEVENT
BEGIN:VEVENT
DTSTART;TZID=America/Vancouver:20260412T180000
DTEND;TZID=America/Vancouver:20260412T180000
DTSTAMP:20260425T043517
CREATED:20250818T184303Z
LAST-MODIFIED:20250818T184415Z
UID:10003250-1776016800-1776016800@qathet365.ca
SUMMARY:Magic the Gathering - Drop In
DESCRIPTION:Drop in and play Magic the Gathering every Sunday at High Tide Games!
URL:https://qathet365.ca/event/magic-the-gathering-drop-in/2026-04-12/
LOCATION:High tide games\, 7030 Glacier St #1\, Powell River\, BC V8A 5A1\, Powell River
CATEGORIES:ARTS & ENTERTAINMENT,COMMUNITY,KIDS AND FAMILY,YOUTH
ATTACH;FMTTYPE=image/jpeg:https://qathet365.ca/wp-content/uploads/2025/08/Magic_the_gathering-card_back.jpg
END:VEVENT
BEGIN:VEVENT
DTSTART;TZID=America/Vancouver:20260413T163000
DTEND;TZID=America/Vancouver:20260413T180000
DTSTAMP:20260425T043517
CREATED:20260201T223430Z
LAST-MODIFIED:20260201T223432Z
UID:10006994-1776097800-1776103200@qathet365.ca
SUMMARY:Community Pasta Dinner
DESCRIPTION:The Community Pasta Dinner is back! \n\n\n\nJoin us every Monday for a free community meal\, served from 4:30–6:00 pm.Come for a warm plate of food\, familiar faces\, and easy conversation. \n\n\n\nEveryone is welcome.No registration. No cost. Just show up. \n\n\n\nWhether you’re coming on your own or bringing a friend\, there’s always a place at the table.
URL:https://qathet365.ca/event/community-pasta-dinner-2/2026-04-13/
LOCATION:Powell River United Church\, 6932 Crofton Street\, Powell River\, BC\, Canada
CATEGORIES:COMMUNITY,ELDERS,KIDS AND FAMILY,SPIRITUALITY & WELLNESS,YOUTH
END:VEVENT
BEGIN:VEVENT
DTSTART;TZID=America/Vancouver:20260413T173000
DTEND;TZID=America/Vancouver:20260413T210000
DTSTAMP:20260425T043517
CREATED:20260403T233233Z
LAST-MODIFIED:20260403T233236Z
UID:10007498-1776101400-1776114000@qathet365.ca
SUMMARY:D&D Night - Drop In - All Ages
DESCRIPTION:Drop in and play some D&D at High Tide Games
URL:https://qathet365.ca/event/dd-night-drop-in-all-ages-2/2026-04-13/
LOCATION:High tide games\, 7030 Glacier St #1\, Powell River\, BC V8A 5A1\, Powell River
CATEGORIES:ARTS & ENTERTAINMENT,COMMUNITY,KIDS AND FAMILY,YOUTH
ATTACH;FMTTYPE=image/jpeg:https://qathet365.ca/wp-content/uploads/2025/08/download.jpeg
END:VEVENT
BEGIN:VEVENT
DTSTART;TZID=America/Vancouver:20260413T180000
DTEND;TZID=America/Vancouver:20260413T210000
DTSTAMP:20260425T043517
CREATED:20250818T185336Z
LAST-MODIFIED:20250818T185550Z
UID:10003512-1776103200-1776114000@qathet365.ca
SUMMARY:Board Game Night - Drop In
DESCRIPTION:Its board game night tonight at High Tide Games! \n\n\n\nWe have a library of board games to choose from\, or you can bring your own  \n\n\n\n\n\n\n\nStarts at 6:00PM and goes until 9:00PM \n\n\n\nCome on in and have some fun!
URL:https://qathet365.ca/event/board-game-night-drop-in/2026-04-13/
LOCATION:High tide games\, 7030 Glacier St #1\, Powell River\, BC V8A 5A1\, Powell River
CATEGORIES:ARTS & ENTERTAINMENT,COMMUNITY,KIDS AND FAMILY,YOUTH
END:VEVENT
BEGIN:VEVENT
DTSTART;TZID=America/Vancouver:20260414T130000
DTEND;TZID=America/Vancouver:20260414T150000
DTSTAMP:20260425T043517
CREATED:20250807T225833Z
LAST-MODIFIED:20250807T225837Z
UID:10002402-1776171600-1776178800@qathet365.ca
SUMMARY:Mahjong at the Library
DESCRIPTION:Mahjong groups meet every week at the lounge area from 1-3pm. Instruction is available and everyone is welcome. For more information\, contact Mark at mmerlino@prpl.ca
URL:https://qathet365.ca/event/mahjong-at-the-library-2/2026-04-14/
LOCATION:Friends of the Library Lounge
CATEGORIES:COMMUNITY,ELDERS,YOUTH
ORGANIZER;CN="Powell River Public Library":MAILTO:edgar@prpl.ca
END:VEVENT
BEGIN:VEVENT
DTSTART;TZID=America/Vancouver:20260414T190000
DTEND;TZID=America/Vancouver:20260414T200000
DTSTAMP:20260425T043517
CREATED:20260402T012926Z
LAST-MODIFIED:20260402T013022Z
UID:10007428-1776193200-1776196800@qathet365.ca
SUMMARY:What is dementia
DESCRIPTION:Learn how dementia affects an individual’s brain and behaviour and some tips on keeping your brain healthy.
URL:https://qathet365.ca/event/what-is-dementia/
LOCATION:Powell River Public Library\, 100-6975 Alberni St\, Powell River\, BC\, V8A2B8\, Canada
CATEGORIES:COMMUNITY,ELDERS,SPIRITUALITY & WELLNESS,YOUTH
END:VEVENT
BEGIN:VEVENT
DTSTART;TZID=America/Vancouver:20260418T193000
DTEND;TZID=America/Vancouver:20260418T193000
DTSTAMP:20260425T043517
CREATED:20260324T233638Z
LAST-MODIFIED:20260324T233642Z
UID:10007405-1776540600-1776540600@qathet365.ca
SUMMARY:qathet Pop Choir in Concert!
DESCRIPTION:Melt into pop nostalgia with Annie Lennox\, Queen\, Rihanna and more with qathet Pop Choir’s inaugural spring concert! \n\n\n\nDoors at 7pm \n\n\n\nTickets: By donation at the door 
URL:https://qathet365.ca/event/qathet-pop-choir-in-concert/
LOCATION:Max Cameron Theatre\, 5400 Marine Ave\, Powell River\, BC\, V8A2L6\, Canada
CATEGORIES:ARTS & ENTERTAINMENT,COMMUNITY,ELDERS,KIDS AND FAMILY,MUSIC, FILM & COMEDY,YOUTH
END:VEVENT
BEGIN:VEVENT
DTSTART;TZID=America/Vancouver:20260423T173000
DTEND;TZID=America/Vancouver:20260423T193000
DTSTAMP:20260425T043517
CREATED:20250815T215408Z
LAST-MODIFIED:20250815T215411Z
UID:10003157-1776965400-1776972600@qathet365.ca
SUMMARY:Artist Trading Card Night
DESCRIPTION:Do you know about Artist Trading Cards? Whether you do or don’t\, we hope you’ll join us for ATC nights with host Harvey Chometsky. \n\n\n\nIn short\, Artist Trading Cards are self-made unique works or small series\, signed and dated on the reverse by the artist/producer\, exchanged and collected by the people who participate in this collaborative event. There are only 2 “rules”: the cards must be 2.5″x3.5″ (the same as modern hockey cards or baseball cards)\, and they are only to be traded\, not sold. \n\n\n\nMake them ahead of time\, or make them on the spot. We’ll bring some blanks and other art supplies. \n\n\n\nAnd this is a family-friendly event!
URL:https://qathet365.ca/event/artist-trading-card-night-2/2026-04-23/
LOCATION:The Alley\, 4478 Marine Ave\, Powell River\, BC\, Canada
CATEGORIES:Art & Craft,ARTS & ENTERTAINMENT,COMMUNITY,ELDERS,KIDS AND FAMILY,YOUTH
END:VEVENT
BEGIN:VEVENT
DTSTART;TZID=America/Vancouver:20260514T163000
DTEND;TZID=America/Vancouver:20260514T183000
DTSTAMP:20260425T043517
CREATED:20260402T015128Z
LAST-MODIFIED:20260402T015131Z
UID:10007490-1778776200-1778783400@qathet365.ca
SUMMARY:Poetry Circle
DESCRIPTION:A shared creative space for poetry with Amira Abouelalla. A place for listening\, connecting\, and being inspired…and of course\, POETRY! Whether you are someone who writes poetry\, reads poetry or even thinks in poetry\, this is an open place for you to share.Poetry Circle happens on the SECOND & LAST Thursdays of the month\, drop-in.
URL:https://qathet365.ca/event/poetry-circle-8/2026-05-14/
LOCATION:Powell River Public Library\, 100-6975 Alberni St\, Powell River\, BC\, V8A2B8\, Canada
CATEGORIES:COMMUNITY,ELDERS,YOUTH
END:VEVENT
BEGIN:VEVENT
DTSTART;TZID=America/Vancouver:20260615T000000
DTEND;TZID=America/Vancouver:20260627T235959
DTSTAMP:20260425T043517
CREATED:20260412T194007Z
LAST-MODIFIED:20260412T194110Z
UID:10007765-1781481600-1782604799@qathet365.ca
SUMMARY:PRISMA Festival 2026
DESCRIPTION:PRISMA Festival 2026\n\n\n\nThe PRISMA Festival returns to Powell River from June 15–27\, 2026\, bringing two weeks of world-class classical music\, emerging talent\, and unforgettable live performances to the qathet region. \n\n\n\nHosted annually in Powell River\, British Columbia\, the PRISMA Festival connects internationally renowned guest artists with top music students from around the world. Audiences can experience everything from full symphony concerts and chamber music to family-friendly performances and free community events. \n\n\n\nAt the heart of the festival is the PRISMA Festival Orchestra\, led by Artistic Director Arthur Arnold\, performing major orchestral works alongside guest soloists and competition winners. With nearly 50 events taking place throughout the festival\, PRISMA offers something for seasoned classical music lovers and curious newcomers alike. \n\n\n\nFestival Events\n\n\n\nJune 27 – PRISMA on the Beach – Free \n\n\n\nJune 17 – Concert Competition Finals – Pay What You Can \n\n\n\nJune 18 – Gala Grand Opening – Ticketed \n\n\n\nJune 19 – Week 1 Symphony Concert – Ticketed \n\n\n\nJune 20 – Sail to the Symphony Matinée – Ticketed \n\n\n\nJune 23 – PRISMA for Kids – Free \n\n\n\nJune 24 – Sinfonietta String Ensemble Concert – Pay What You Can \n\n\n\nJune 25 – Chamber Music Concert – Ticketed \n\n\n\nJune 26 – Week 2 Symphony Concert – Ticketed
URL:https://qathet365.ca/event/prisma-festival-2026/
LOCATION:Evergreen Theatre\, 5001 Joyce Ave\, Powell River\, BC\, V8A 5R2\, Canada
CATEGORIES:ARTS & ENTERTAINMENT,COMMUNITY,ELDERS,KIDS AND FAMILY,MUSIC, FILM & COMEDY,PRISMA,YOUTH
ATTACH;FMTTYPE=image/png:https://qathet365.ca/wp-content/uploads/2026/04/PRISMA-festival-qathet-powell-river-events-music.png
ORGANIZER;CN="PRISMA Festival & Academy":MAILTO:info@prismafestival.com
END:VEVENT
END:VCALENDAR