BEGIN:VCALENDAR
VERSION:2.0
PRODID:-//qathet 365 - ECPv6.15.20//NONSGML v1.0//EN
CALSCALE:GREGORIAN
METHOD:PUBLISH
X-WR-CALNAME:qathet 365
X-ORIGINAL-URL:https://qathet365.ca
X-WR-CALDESC:Events for qathet 365
REFRESH-INTERVAL;VALUE=DURATION:PT1H
X-Robots-Tag:noindex
X-PUBLISHED-TTL:PT1H
BEGIN:VTIMEZONE
TZID:America/Vancouver
BEGIN:DAYLIGHT
TZOFFSETFROM:-0800
TZOFFSETTO:-0700
TZNAME:PDT
DTSTART:20240310T100000
END:DAYLIGHT
BEGIN:STANDARD
TZOFFSETFROM:-0700
TZOFFSETTO:-0800
TZNAME:PST
DTSTART:20241103T090000
END:STANDARD
BEGIN:DAYLIGHT
TZOFFSETFROM:-0800
TZOFFSETTO:-0700
TZNAME:PDT
DTSTART:20250309T100000
END:DAYLIGHT
BEGIN:STANDARD
TZOFFSETFROM:-0700
TZOFFSETTO:-0800
TZNAME:PST
DTSTART:20251102T090000
END:STANDARD
BEGIN:DAYLIGHT
TZOFFSETFROM:-0800
TZOFFSETTO:-0700
TZNAME:PDT
DTSTART:20260308T100000
END:DAYLIGHT
BEGIN:STANDARD
TZOFFSETFROM:-0700
TZOFFSETTO:-0800
TZNAME:PST
DTSTART:20261101T090000
END:STANDARD
BEGIN:DAYLIGHT
TZOFFSETFROM:-0800
TZOFFSETTO:-0700
TZNAME:PDT
DTSTART:20270314T100000
END:DAYLIGHT
BEGIN:STANDARD
TZOFFSETFROM:-0700
TZOFFSETTO:-0800
TZNAME:PST
DTSTART:20271107T090000
END:STANDARD
END:VTIMEZONE
BEGIN:VEVENT
DTSTART;TZID=America/Vancouver:20251213T190000
DTEND;TZID=America/Vancouver:20251213T210000
DTSTAMP:20260421T055606
CREATED:20251206T183431Z
LAST-MODIFIED:20251206T183434Z
UID:10004601-1765652400-1765659600@qathet365.ca
SUMMARY:Cookie Decorating & Mocktails
DESCRIPTION:Gingerbrute Bakery at El Centro – 7053 C Glacier Street. $45 per person. Join us for an in-person cookie decorating tutorial with Kelsey from ‘Gingerbrute Bakery’! Price includes 4 different cookie designs\, decorating supplies\, and a mocktail flight to enjoy while you create.
URL:https://qathet365.ca/event/cookie-decorating-mocktails/
LOCATION:el centro\, 7053 Glacier St C\, Powell River\, BC\, V8A 5J7\, Canada
CATEGORIES:Art & Craft,ARTS & ENTERTAINMENT,COMMUNITY,FOOD & BUSINESS,RESTAURANTS
END:VEVENT
BEGIN:VEVENT
DTSTART;TZID=America/Vancouver:20251213T190000
DTEND;TZID=America/Vancouver:20251213T220000
DTSTAMP:20260421T055606
CREATED:20251207T215107Z
LAST-MODIFIED:20251207T215109Z
UID:10004611-1765652400-1765663200@qathet365.ca
SUMMARY:WInter in Cyberia
DESCRIPTION:DJ night at the Wishing Well with music selection from♦WOBBLES♦♦NICKAUS♦♦IUS♦♦LEFTCOAST♦Set times coming soon\,Visuals\, Music\, Snacks maybe? Coffee on demand for sure. Come warm up your bunz with this 90s anime/matrix/hacker theme inspired event.PWYC sliding scale 10$-20$ at the door
URL:https://qathet365.ca/event/winter-in-cyberia/
LOCATION:The Wishing Well\, 6251 Yew St\, Powell River\, BC\, V8A 4J9
CATEGORIES:COMMUNITY,MUSIC, FILM & COMEDY
END:VEVENT
BEGIN:VEVENT
DTSTART;TZID=America/Vancouver:20251213T200000
DTEND;TZID=America/Vancouver:20251213T220000
DTSTAMP:20260421T055606
CREATED:20251207T213156Z
LAST-MODIFIED:20251207T213159Z
UID:10004607-1765656000-1765663200@qathet365.ca
SUMMARY:JAWS in the Pool
DESCRIPTION:Dun Dun. Dun Dun. Dun Dun Dun Dun. We are showing JAWS in the pool from 8:15–10:00pm. $5 per person\, age 13+. Due to limited space\, this is a pre-registered event. You may register by calling 604-485-2891\, or visit us today at the Recreation Complex. Bring your own floaty!!
URL:https://qathet365.ca/event/jaws-in-the-pool/
LOCATION:Powell River Recreation Complex\, 5001 Joyce Ave\, POWELL RIVER\, BC\, V8A 5R2\, Canada
CATEGORIES:KIDS AND FAMILY,MUSIC, FILM & COMEDY,YOUTH
END:VEVENT
BEGIN:VEVENT
DTSTART;TZID=America/Vancouver:20251213T200000
DTEND;TZID=America/Vancouver:20251213T230000
DTSTAMP:20260421T055606
CREATED:20251207T215254Z
LAST-MODIFIED:20251207T215257Z
UID:10004612-1765656000-1765666800@qathet365.ca
SUMMARY:Candy Cane! A holiday dance party
DESCRIPTION:The Wildwood Pub and Velvet Rhythms presents Candy Cane! A pre-holiday dance party to get in the spirit of the boogie season! Hosted by Radiostar\, Blaise\, and guests! Red and white and green attire encouraged. By donation.
URL:https://qathet365.ca/event/candy-cane-a-holiday-dance-party/
LOCATION:Wildwood Pub\, 5987 Lund St.\, Powell River\, BC\, V8A 4S9\, Canada
CATEGORIES:COMMUNITY,FOOD & BUSINESS
END:VEVENT
BEGIN:VEVENT
DTSTART;TZID=America/Vancouver:20251213T210000
DTEND;TZID=America/Vancouver:20251213T235700
DTSTAMP:20260421T055606
CREATED:20250219T233939Z
LAST-MODIFIED:20250308T200705Z
UID:10001066-1765659600-1765670220@qathet365.ca
SUMMARY:Karaoke
DESCRIPTION:Fridays & Saturdays 9PM – Close \n\n\n\nFree admission \n\n\n\nDrink specials  \n\n\n\nCash bar only
URL:https://qathet365.ca/event/karaoke-6/2025-12-13/
LOCATION:Cranberry Pub\, 5728 Manson Ave\,\, Powell River\, BC\, V8A 3R8\, Canada
CATEGORIES:ARTS & ENTERTAINMENT,FOOD & BUSINESS,MUSIC, FILM & COMEDY
END:VEVENT
BEGIN:VEVENT
DTSTART;TZID=America/Vancouver:20251214T100000
DTEND;TZID=America/Vancouver:20251214T140000
DTSTAMP:20260421T055606
CREATED:20251214T005904Z
LAST-MODIFIED:20251214T005906Z
UID:10004886-1765706400-1765720800@qathet365.ca
SUMMARY:32 Lakes sunday market
DESCRIPTION:
URL:https://qathet365.ca/event/32-lakes-sunday-market/
LOCATION:32 Lakes\, 6812 Alberni St\, Powell River\, BC\, V8A 2B4\, Canada
CATEGORIES:COMMUNITY,FOOD & BUSINESS
END:VEVENT
BEGIN:VEVENT
DTSTART;TZID=America/Vancouver:20251214T103000
DTEND;TZID=America/Vancouver:20251214T130000
DTSTAMP:20260421T055606
CREATED:20251214T010138Z
LAST-MODIFIED:20251214T010141Z
UID:10004887-1765708200-1765717200@qathet365.ca
SUMMARY:Childrens Christmas Pagent
DESCRIPTION:
URL:https://qathet365.ca/event/childrens-christmas-pagent/
LOCATION:Powell River United Church\, 6932 Crofton Street\, Powell River\, BC\, Canada
CATEGORIES:ARTS & ENTERTAINMENT,KIDS AND FAMILY
END:VEVENT
BEGIN:VEVENT
DTSTART;TZID=America/Vancouver:20251214T130000
DTEND;TZID=America/Vancouver:20251214T170000
DTSTAMP:20260421T055606
CREATED:20250807T230406Z
LAST-MODIFIED:20250807T230409Z
UID:10002901-1765717200-1765731600@qathet365.ca
SUMMARY:Chess Club
DESCRIPTION:The Powell River qathet Chess Club meets every Sunday afternoon starting at 1pm. The Chess Club is open to everyone – all ages and all skill levels. For more information contact Mark at mmerlino@prpl.ca.
URL:https://qathet365.ca/event/chess-club/2025-12-14/
LOCATION:Friends of the Library Lounge
CATEGORIES:ARTS & ENTERTAINMENT,COMMUNITY,ELDERS,KIDS AND FAMILY,YOUTH
ORGANIZER;CN="Powell River Public Library":MAILTO:edgar@prpl.ca
END:VEVENT
BEGIN:VEVENT
DTSTART;TZID=America/Vancouver:20251214T170000
DTEND;TZID=America/Vancouver:20251214T200000
DTSTAMP:20260421T055606
CREATED:20251207T215641Z
LAST-MODIFIED:20251207T215645Z
UID:10004613-1765731600-1765742400@qathet365.ca
SUMMARY:Harbour Lights Festival
DESCRIPTION:Powell River Yacht Club is excited to announce the 2025 edition of the “Harbour Lights Festival”. Come down with friends and family to cast your vote for the best decorated boat! Enjoy the lights\, festive decorations and a hot chocolate for some holiday cheer. Everyone is welcome to join us on Sunday\, December 14 from 5 – 6:30 PM at the South Harbour. See you there!
URL:https://qathet365.ca/event/harbour-lights-festival/
LOCATION:South Harbour\, Coast Guard Station\, 4315 Marine Ave\,\, Powell River\, bc\, V8A 1Z4\, Canada
CATEGORIES:COMMUNITY,ELDERS,KIDS AND FAMILY,YOUTH
END:VEVENT
BEGIN:VEVENT
DTSTART;TZID=America/Vancouver:20251214T170000
DTEND;TZID=America/Vancouver:20251220T200000
DTSTAMP:20260421T055606
CREATED:20251214T011402Z
LAST-MODIFIED:20251215T191135Z
UID:10004888-1765731600-1766260800@qathet365.ca
SUMMARY:Enchanted forest walk
DESCRIPTION:
URL:https://qathet365.ca/event/enchanted-forest-walk/
LOCATION:twin eagles rd\, Powell River
CATEGORIES:COMMUNITY,KIDS AND FAMILY,SPIRITUALITY & WELLNESS
END:VEVENT
BEGIN:VEVENT
DTSTART;TZID=America/Vancouver:20251214T180000
DTEND;TZID=America/Vancouver:20251214T180000
DTSTAMP:20260421T055606
CREATED:20250818T184303Z
LAST-MODIFIED:20250818T184415Z
UID:10003233-1765735200-1765735200@qathet365.ca
SUMMARY:Magic the Gathering - Drop In
DESCRIPTION:Drop in and play Magic the Gathering every Sunday at High Tide Games!
URL:https://qathet365.ca/event/magic-the-gathering-drop-in/2025-12-14/
LOCATION:High tide games\, 7030 Glacier St #1\, Powell River\, BC V8A 5A1\, Powell River
CATEGORIES:ARTS & ENTERTAINMENT,COMMUNITY,KIDS AND FAMILY,YOUTH
ATTACH;FMTTYPE=image/jpeg:https://qathet365.ca/wp-content/uploads/2025/08/Magic_the_gathering-card_back.jpg
END:VEVENT
BEGIN:VEVENT
DTSTART;TZID=America/Vancouver:20251215T180000
DTEND;TZID=America/Vancouver:20251215T210000
DTSTAMP:20260421T055606
CREATED:20250818T185336Z
LAST-MODIFIED:20250818T185550Z
UID:10003495-1765821600-1765832400@qathet365.ca
SUMMARY:Board Game Night - Drop In
DESCRIPTION:Its board game night tonight at High Tide Games! \n\n\n\nWe have a library of board games to choose from\, or you can bring your own  \n\n\n\n\n\n\n\nStarts at 6:00PM and goes until 9:00PM \n\n\n\nCome on in and have some fun!
URL:https://qathet365.ca/event/board-game-night-drop-in/2025-12-15/
LOCATION:High tide games\, 7030 Glacier St #1\, Powell River\, BC V8A 5A1\, Powell River
CATEGORIES:ARTS & ENTERTAINMENT,COMMUNITY,KIDS AND FAMILY,YOUTH
END:VEVENT
BEGIN:VEVENT
DTSTART;TZID=America/Vancouver:20251215T183000
DTEND;TZID=America/Vancouver:20251215T210000
DTSTAMP:20260421T055606
CREATED:20250916T212812Z
LAST-MODIFIED:20250916T212815Z
UID:10004115-1765823400-1765832400@qathet365.ca
SUMMARY:Everyone Welcome Swim
DESCRIPTION:
URL:https://qathet365.ca/event/everyone-welcome-swim-11/2025-12-15/
LOCATION:Powell River Recreation Complex\, 5001 Joyce Ave\, POWELL RIVER\, BC\, V8A 5R2\, Canada
CATEGORIES:COMMUNITY,ELDERS,KIDS AND FAMILY,SPORTS & OUTDOORS,YOUTH
END:VEVENT
BEGIN:VEVENT
DTSTART;TZID=America/Vancouver:20251215T183000
DTEND;TZID=America/Vancouver:20251215T213000
DTSTAMP:20260421T055606
CREATED:20251207T215926Z
LAST-MODIFIED:20251207T215930Z
UID:10004614-1765823400-1765834200@qathet365.ca
SUMMARY:Free Winter Wonderland Skate
DESCRIPTION:Winter Wonderland Skate is back! \n\n\n\nBring your family and friends for a FREE community skate at the PR Recreation Complex. ❄️⛸️ \n\n\n\nDecember 156:30–7:30pm \n\n\n\nSkates and helmets are available to rent\, so just come as you are and enjoy a cozy hour on the ice with your community. \n\n\n\nHosted by Powell River United Church – The Gathering Space.
URL:https://qathet365.ca/event/free-winter-wonderland-skate/
LOCATION:Powell River Recreation Complex\, 5001 Joyce Ave\, POWELL RIVER\, BC\, V8A 5R2\, Canada
CATEGORIES:COMMUNITY,ELDERS,KIDS AND FAMILY,SPORTS & OUTDOORS,YOUTH
END:VEVENT
BEGIN:VEVENT
DTSTART;TZID=America/Vancouver:20251215T190000
DTEND;TZID=America/Vancouver:20251215T190000
DTSTAMP:20260421T055606
CREATED:20251129T001436Z
LAST-MODIFIED:20251129T001439Z
UID:10004600-1765825200-1765825200@qathet365.ca
SUMMARY:Piano Heist - A Very Merry Heistmas!
DESCRIPTION:PIANO HEIST: A VERY MERRY HEISTMAS! \n\n\n\nPiano Heist is back with a dazzling new holiday production: A Very Merry Heistmas!  \n\n\n\nA festive romp through Christmas classics interlaced with their own brand of musical and comedic shenanigans\, Nico Rhodes & Patrick Courtin tackle everything “Christmas”.  \n\n\n\nWhether it’s the nostalgic charm of Charlie Brown Christmas\, a rock & roll styled Nutcracker Suite; The Messiah on melodicas\, or a rollicking ragtime Rudolph the Red Nose Reindeer\, get ready for a holiday experience that’s truly one-of-a-kind!  \n\n\n\nBring your festive spirit and pre-pare to sing-a-long for A Very Merry Heistmas! \n\n\n\nWatch the trailer
URL:https://qathet365.ca/event/piano-heist/
LOCATION:Max Cameron Theatre\, 5400 Marine Ave\, Powell River\, BC\, V8A2L6\, Canada
CATEGORIES:ARTS & ENTERTAINMENT,COMMUNITY,ELDERS,KIDS AND FAMILY,MUSIC, FILM & COMEDY,YOUTH
ATTACH;FMTTYPE=image/jpeg:https://qathet365.ca/wp-content/uploads/2025/11/piano-heist-max-cameron-theatre-powell-river-qathet-events.jpeg
END:VEVENT
BEGIN:VEVENT
DTSTART;TZID=America/Vancouver:20251216T130000
DTEND;TZID=America/Vancouver:20251216T150000
DTSTAMP:20260421T055606
CREATED:20250807T225833Z
LAST-MODIFIED:20250807T225837Z
UID:10002385-1765890000-1765897200@qathet365.ca
SUMMARY:Mahjong at the Library
DESCRIPTION:Mahjong groups meet every week at the lounge area from 1-3pm. Instruction is available and everyone is welcome. For more information\, contact Mark at mmerlino@prpl.ca
URL:https://qathet365.ca/event/mahjong-at-the-library-2/2025-12-16/
LOCATION:Friends of the Library Lounge
CATEGORIES:COMMUNITY,ELDERS,YOUTH
ORGANIZER;CN="Powell River Public Library":MAILTO:edgar@prpl.ca
END:VEVENT
BEGIN:VEVENT
DTSTART;TZID=America/Vancouver:20251216T170000
DTEND;TZID=America/Vancouver:20251216T183000
DTSTAMP:20260421T055606
CREATED:20251029T181039Z
LAST-MODIFIED:20251029T181041Z
UID:10004502-1765904400-1765909800@qathet365.ca
SUMMARY:Wing Chun Kung-fu - Free Trial Classes
DESCRIPTION:Come and try a wing chun class! Free trial classes on any Tuesday\, Thursday evening 5:00-6:30 and Saturday mornings 11:00-12:30.
URL:https://qathet365.ca/event/wing-chun-kung-fu-free-trial-classes-2/2025-12-16/
LOCATION:6251 Yew Street\, 6251 Yew Street\, Powell River\, BC\, V8A4J9\, Canada
CATEGORIES:COMMUNITY,SPIRITUALITY & WELLNESS,SPORTS & OUTDOORS
END:VEVENT
BEGIN:VEVENT
DTSTART;TZID=America/Vancouver:20251216T190000
DTEND;TZID=America/Vancouver:20251216T213000
DTSTAMP:20260421T055606
CREATED:20251214T011648Z
LAST-MODIFIED:20251214T011651Z
UID:10004889-1765911600-1765920600@qathet365.ca
SUMMARY:The Elvis Christmas Concert
DESCRIPTION:[By donation]
URL:https://qathet365.ca/event/the-elvis-christmas-concert/
LOCATION:Powell River Academy of Music\, 7280 Kemano St\, POWELL RIVER\, BC\, V8A 1M2\, Canada
CATEGORIES:ARTS & ENTERTAINMENT,COMMUNITY,ELDERS,KIDS AND FAMILY
END:VEVENT
BEGIN:VEVENT
DTSTART;TZID=America/Vancouver:20251217T173000
DTEND;TZID=America/Vancouver:20251217T210000
DTSTAMP:20260421T055606
CREATED:20250818T185959Z
LAST-MODIFIED:20250818T190032Z
UID:10003756-1765992600-1766005200@qathet365.ca
SUMMARY:D&D Night - Drop In - All Ages
DESCRIPTION:Drop in and play some D&D at High Tide Games
URL:https://qathet365.ca/event/dd-night-drop-in-all-ages/2025-12-17/
LOCATION:High tide games\, 7030 Glacier St #1\, Powell River\, BC V8A 5A1\, Powell River
CATEGORIES:ARTS & ENTERTAINMENT,COMMUNITY,KIDS AND FAMILY,YOUTH
ATTACH;FMTTYPE=image/jpeg:https://qathet365.ca/wp-content/uploads/2025/08/download.jpeg
END:VEVENT
BEGIN:VEVENT
DTSTART;TZID=America/Vancouver:20251217T173000
DTEND;TZID=America/Vancouver:20251217T210000
DTSTAMP:20260421T055607
CREATED:20251217T010126Z
LAST-MODIFIED:20251217T010147Z
UID:10004898-1765992600-1766005200@qathet365.ca
SUMMARY:Living Water Christmas Banquet
DESCRIPTION:Friends\, dinner\, silent auction\, treats\, games\, worship\, the word. Hollywood theme.
URL:https://qathet365.ca/event/living-water-christmas-banquet/
LOCATION:Living Water Church\, 4640 Manson Ave\, Powell River\, BC\, Canada
CATEGORIES:ARTS & ENTERTAINMENT,COMMUNITY,FOOD & BUSINESS,KIDS AND FAMILY,SPIRITUALITY & WELLNESS,YOUTH
END:VEVENT
BEGIN:VEVENT
DTSTART;TZID=America/Vancouver:20251217T180000
DTEND;TZID=America/Vancouver:20251217T200000
DTSTAMP:20260421T055607
CREATED:20250807T230042Z
LAST-MODIFIED:20250807T230045Z
UID:10002643-1765994400-1766001600@qathet365.ca
SUMMARY:Knit Night
DESCRIPTION:Join fellow knitting enthusiasts in the Friends of the Library Lounge for a drop-in knit night.
URL:https://qathet365.ca/event/knit-night-10/2025-12-17/
LOCATION:Friends of the Library Lounge
CATEGORIES:Art & Craft,COMMUNITY,ELDERS,KIDS AND FAMILY,YOUTH
ORGANIZER;CN="Powell River Public Library":MAILTO:edgar@prpl.ca
END:VEVENT
BEGIN:VEVENT
DTSTART;TZID=America/Vancouver:20251218T080000
DTEND;TZID=America/Vancouver:20251218T170000
DTSTAMP:20260421T055607
CREATED:20251004T192527Z
LAST-MODIFIED:20251004T192531Z
UID:10004386-1766044800-1766077200@qathet365.ca
SUMMARY:Get the Most Out of Excel: Beyond the Basics - VIU
DESCRIPTION:Advance your Excel skills — charts\, formulas\, pivot tables\, macros\, etc. For folks who already know the basics.
URL:https://qathet365.ca/event/get-the-most-out-of-excel-beyond-the-basics-viu/2025-12-18/
LOCATION:VIU – tiwšɛmawtxʷ\, 7085 Nootka Street\, Powell River\, BC\, Canada
CATEGORIES:COMMUNITY,VIU,YOUTH
ATTACH;FMTTYPE=image/jpeg:https://qathet365.ca/wp-content/uploads/2025/10/excel-basics.jpg
END:VEVENT
BEGIN:VEVENT
DTSTART;TZID=America/Vancouver:20251218T113000
DTEND;TZID=America/Vancouver:20251218T123000
DTSTAMP:20260421T055607
CREATED:20251207T225630Z
LAST-MODIFIED:20251207T225641Z
UID:10004620-1766057400-1766061000@qathet365.ca
SUMMARY:Seniors Lunch
DESCRIPTION:Free Seniors Lunch every Thursday. A place to gather and connect.
URL:https://qathet365.ca/event/seniors-lunch/2025-12-18/
LOCATION:Powell River United Church\, 6932 Crofton Street\, Powell River\, BC\, Canada
CATEGORIES:COMMUNITY,ELDERS
END:VEVENT
BEGIN:VEVENT
DTSTART;TZID=America/Vancouver:20251218T180000
DTEND;TZID=America/Vancouver:20251218T220000
DTSTAMP:20260421T055607
CREATED:20251214T012001Z
LAST-MODIFIED:20251214T012003Z
UID:10004890-1766080800-1766095200@qathet365.ca
SUMMARY:A Peanuts Christmas
DESCRIPTION:[by donation]
URL:https://qathet365.ca/event/a-peanuts-christmas/
LOCATION:Powell River Academy of Music\, 7280 Kemano St\, POWELL RIVER\, BC\, V8A 1M2\, Canada
CATEGORIES:COMMUNITY,MUSIC, FILM & COMEDY
END:VEVENT
BEGIN:VEVENT
DTSTART;TZID=America/Vancouver:20251219T170000
DTEND;TZID=America/Vancouver:20251223T200000
DTSTAMP:20260421T055607
CREATED:20251207T220221Z
LAST-MODIFIED:20251207T220225Z
UID:10004615-1766163600-1766520000@qathet365.ca
SUMMARY:Putters Mini Golf 5th Annual Light Up The Park
DESCRIPTION:It’s that time of the year again!! 🥳Putters’ 5th Annual Light Up the Park\, in partnership with Powell River Fire Rescue.Take a walk through the lit-up park!!Entry by donation- All proceeds go to the Powell River Fire Fighter Charitable Fund.December 19th-23rd from 5:00pm-8:00pm.NEW THIS YEARWe have Glow in the Dark Golf on December 20th only!! (regular mini golf rates apply)
URL:https://qathet365.ca/event/putters-mini-golf-5th-annual-light-up-the-park/
LOCATION:Putters Golf\, 4800 Marine Ave\, Powell River\, BC\, V8A 2L5\, Canada
CATEGORIES:COMMUNITY,KIDS AND FAMILY,YOUTH
END:VEVENT
BEGIN:VEVENT
DTSTART;TZID=America/Vancouver:20251219T190000
DTEND;TZID=America/Vancouver:20251219T190000
DTSTAMP:20260421T055607
CREATED:20250717T194414Z
LAST-MODIFIED:20250717T194417Z
UID:10002306-1766170800-1766170800@qathet365.ca
SUMMARY:Powell River Kings vs. Victoria Grizzlies
DESCRIPTION:Cheer on the Powell River Kings as they face off against the Victoria Grizzlies at the Hap Parker Arena! Join the hometown crowd for fast-paced BCHL hockey action and support your local team. The Powell River Kings bring the energy every game night—grab your tickets\, wear your green and gold\, and get ready to shout “Go Kings Go!” \n\n\n\nStay up to date with all Kings home games on qathet365.
URL:https://qathet365.ca/event/powell-river-kings-vs-victoria-grizzlies-3/
LOCATION:Hap Parker Arena\, 5001 Joyce Ave\, Powell River\, BC\, V8A 5R2\, Canada
CATEGORIES:COMMUNITY,ELDERS,KIDS AND FAMILY,KINGS,SPORTS & OUTDOORS,YOUTH
ATTACH;FMTTYPE=image/png:https://qathet365.ca/wp-content/uploads/2025/06/Untitled-design.png
END:VEVENT
BEGIN:VEVENT
DTSTART;TZID=America/Vancouver:20251219T190000
DTEND;TZID=America/Vancouver:20260101T190000
DTSTAMP:20260421T055607
CREATED:20251226T224141Z
LAST-MODIFIED:20251226T224143Z
UID:10004914-1766170800-1767294000@qathet365.ca
SUMMARY:Wicked for Good
DESCRIPTION:Music / FantasyPG — 2 hr 17 min \n\n\n\nThe final chapter of the untold story of the witches of Oz begins with Elphaba and Glinda estranged and living with the consequences of their choices.
URL:https://qathet365.ca/event/wicked-for-good/
LOCATION:Patricia Theatre\, 5848 Ash Ave\, POWELL RIVER\, BC\, V8A 4R6\, Canada
CATEGORIES:ELDERS,KIDS AND FAMILY,MUSIC, FILM & COMEDY,YOUTH
END:VEVENT
BEGIN:VEVENT
DTSTART;TZID=America/Vancouver:20251225T173000
DTEND;TZID=America/Vancouver:20251225T193000
DTSTAMP:20260421T055607
CREATED:20250815T215408Z
LAST-MODIFIED:20250815T215411Z
UID:10003153-1766683800-1766691000@qathet365.ca
SUMMARY:Artist Trading Card Night
DESCRIPTION:Do you know about Artist Trading Cards? Whether you do or don’t\, we hope you’ll join us for ATC nights with host Harvey Chometsky. \n\n\n\nIn short\, Artist Trading Cards are self-made unique works or small series\, signed and dated on the reverse by the artist/producer\, exchanged and collected by the people who participate in this collaborative event. There are only 2 “rules”: the cards must be 2.5″x3.5″ (the same as modern hockey cards or baseball cards)\, and they are only to be traded\, not sold. \n\n\n\nMake them ahead of time\, or make them on the spot. We’ll bring some blanks and other art supplies. \n\n\n\nAnd this is a family-friendly event!
URL:https://qathet365.ca/event/artist-trading-card-night-2/2025-12-25/
LOCATION:The Alley\, 4478 Marine Ave\, Powell River\, BC\, Canada
CATEGORIES:Art & Craft,ARTS & ENTERTAINMENT,COMMUNITY,ELDERS,KIDS AND FAMILY,YOUTH
END:VEVENT
BEGIN:VEVENT
DTSTART;TZID=America/Vancouver:20251226T080000
DTEND;TZID=America/Vancouver:20251226T170000
DTSTAMP:20260421T055607
CREATED:20251226T224648Z
LAST-MODIFIED:20251226T224651Z
UID:10004916-1766736000-1766768400@qathet365.ca
SUMMARY:Live Music at Seasider Bistro
DESCRIPTION:Come see Dawson and Renelle perform this New Year’s Eve at the Seasider! \n\n\n\nPerformance is from 6pm until 8:30pm. \n\n\n\nThere will also be special feature food items to kick off the New Year! \n\n\n\nReservations encouraged.
URL:https://qathet365.ca/event/live-music-at-seasider-bistro/
LOCATION:Seasider Bistro\, Powell River
END:VEVENT
BEGIN:VEVENT
DTSTART;TZID=America/Vancouver:20251230T130000
DTEND;TZID=America/Vancouver:20251230T150000
DTSTAMP:20260421T055607
CREATED:20251226T223609Z
LAST-MODIFIED:20251226T231158Z
UID:10004913-1767099600-1767106800@qathet365.ca
SUMMARY:Midwinter Matinee: The Velvet Queen
DESCRIPTION:Movie-loving folks are invited for a free midwinter matinee at PRPL. Hot chocolate and popcorn provided! Drop-in. \n\n\n\nAbout the Film: The Velvet Queen  (2022\, 92 minutes\, Rated G)In the Tibetan highlands\, award-winning nature photographer Vincent Munier guides writer Sylvain Tesson on a quest to documentthe elusive snow leopard. Through their journey the men ponder humankind’s place amongst the magnificent creatures and glorious landscapes they encounter. \n\n\n\nIn French\, Tibetan\, and Spanish with English subtitles. Original score by Nick Cave and Warren Ellis.
URL:https://qathet365.ca/event/midwinter-matinee-the-velvet-queen/
LOCATION:Powell River Public Library\, 100-6975 Alberni St\, Powell River\, BC\, V8A2B8\, Canada
CATEGORIES:ARTS & ENTERTAINMENT,COMMUNITY,ELDERS,KIDS AND FAMILY,MUSIC, FILM & COMEDY,YOUTH
ORGANIZER;CN="Powell River Public Library":MAILTO:edgar@prpl.ca
END:VEVENT
END:VCALENDAR