BEGIN:VCALENDAR
VERSION:2.0
PRODID:-//qathet 365 - ECPv6.15.20//NONSGML v1.0//EN
CALSCALE:GREGORIAN
METHOD:PUBLISH
X-ORIGINAL-URL:https://qathet365.ca
X-WR-CALDESC:Events for qathet 365
REFRESH-INTERVAL;VALUE=DURATION:PT1H
X-Robots-Tag:noindex
X-PUBLISHED-TTL:PT1H
BEGIN:VTIMEZONE
TZID:America/Vancouver
BEGIN:DAYLIGHT
TZOFFSETFROM:-0800
TZOFFSETTO:-0700
TZNAME:PDT
DTSTART:20250309T100000
END:DAYLIGHT
BEGIN:STANDARD
TZOFFSETFROM:-0700
TZOFFSETTO:-0800
TZNAME:PST
DTSTART:20251102T090000
END:STANDARD
BEGIN:DAYLIGHT
TZOFFSETFROM:-0800
TZOFFSETTO:-0700
TZNAME:PDT
DTSTART:20260308T100000
END:DAYLIGHT
BEGIN:STANDARD
TZOFFSETFROM:-0700
TZOFFSETTO:-0800
TZNAME:PST
DTSTART:20261101T090000
END:STANDARD
BEGIN:DAYLIGHT
TZOFFSETFROM:-0800
TZOFFSETTO:-0700
TZNAME:PDT
DTSTART:20270314T100000
END:DAYLIGHT
BEGIN:STANDARD
TZOFFSETFROM:-0700
TZOFFSETTO:-0800
TZNAME:PST
DTSTART:20271107T090000
END:STANDARD
END:VTIMEZONE
BEGIN:VEVENT
DTSTART;TZID=America/Vancouver:20260205T180000
DTEND;TZID=America/Vancouver:20260205T210000
DTSTAMP:20260419T162355
CREATED:20260122T021036Z
LAST-MODIFIED:20260122T021038Z
UID:10006376-1770314400-1770325200@qathet365.ca
SUMMARY:Galentine's Workshop
DESCRIPTION:Grab your girls and join Nicole of Bloom Therapy for this fun workshop where you’ll get to play with beautiful flowers as you make your own arrangement. Upon arrival\, you’ll receive your choice of a beverage (alcoholic or non-alcoholic) from the array of options available at Townsite Brewery and your own personal snack pack made fresh by Rosemary Lane.This special workshop aimed at celebrating your amazing girlfriends only happens once a year. Don’t delay and secure your spot.
URL:https://qathet365.ca/event/galentines-workshop-2/
LOCATION:bloom therapy\, 5300 Yukon Avenue\, Powell River\, BC\, Canada\, Powell River
CATEGORIES:COMMUNITY
END:VEVENT
BEGIN:VEVENT
DTSTART;TZID=America/Vancouver:20260206T100000
DTEND;TZID=America/Vancouver:20260206T113000
DTSTAMP:20260419T162355
CREATED:20260108T014159Z
LAST-MODIFIED:20260108T014202Z
UID:10005458-1770372000-1770377400@qathet365.ca
SUMMARY:Chat & Play- Grandparents Group
DESCRIPTION:
URL:https://qathet365.ca/event/chat-play-grandparents-group-3/2026-02-06/
LOCATION:5814 ash ave\, 5814 Ash Ave\, Powell River\, BC V8A 4R4\, Powell River
CATEGORIES:KIDS AND FAMILY
END:VEVENT
BEGIN:VEVENT
DTSTART;TZID=America/Vancouver:20260206T190000
DTEND;TZID=America/Vancouver:20260206T210000
DTSTAMP:20260419T162355
CREATED:20260131T003940Z
LAST-MODIFIED:20260131T003943Z
UID:10006440-1770404400-1770411600@qathet365.ca
SUMMARY:Everyone Welcome Skate
DESCRIPTION:[No skate February 13th
URL:https://qathet365.ca/event/everyone-welcome-skate-14/2026-02-06/
LOCATION:Powell River Recreation Complex\, 5001 Joyce Ave\, POWELL RIVER\, BC\, V8A 5R2\, Canada
CATEGORIES:COMMUNITY,ELDERS,KIDS AND FAMILY,YOUTH
END:VEVENT
BEGIN:VEVENT
DTSTART;TZID=America/Vancouver:20260206T210000
DTEND;TZID=America/Vancouver:20260206T233000
DTSTAMP:20260419T162355
CREATED:20260131T005613Z
LAST-MODIFIED:20260131T005616Z
UID:10006463-1770411600-1770420600@qathet365.ca
SUMMARY:Karaoke Night!
DESCRIPTION:[19+]
URL:https://qathet365.ca/event/karaoke-night/2026-02-06/
LOCATION:Cranberry Pub\, 5728 Manson Ave\,\, Powell River\, BC\, V8A 3R8\, Canada
CATEGORIES:ARTS & ENTERTAINMENT,COMMUNITY,MUSIC, FILM & COMEDY
END:VEVENT
BEGIN:VEVENT
DTSTART;TZID=America/Vancouver:20260207T110000
DTEND;TZID=America/Vancouver:20260207T120000
DTSTAMP:20260419T162355
CREATED:20260203T193608Z
LAST-MODIFIED:20260203T193611Z
UID:10007006-1770462000-1770465600@qathet365.ca
SUMMARY:460 - Open House - Burnaby St.
DESCRIPTION:INVEST OR DOWNSIZE In Style. This bright\, spacious open-concept home showcases a modern two-tone kitchen with stainless steel appliances\, sleek quartz countertops\, and a generous prep island perfect for cooking and gathering. A fantastic opportunity to enter the market\, simplify your lifestyle\, or secure a low-maintenance\, turn-key rental with confidence.  \n\n\n\nListed and hosted by: Austyn MacKinnon
URL:https://qathet365.ca/event/460-open-house-burnaby-st/
CATEGORIES:460 Realty
ATTACH;FMTTYPE=image/png:https://qathet365.ca/wp-content/uploads/2026/02/BUrnaby-St.png
ORGANIZER;CN="460 Realty PR":MAILTO:adminpr@460realty.com
END:VEVENT
BEGIN:VEVENT
DTSTART;TZID=America/Vancouver:20260207T110000
DTEND;TZID=America/Vancouver:20260207T123000
DTSTAMP:20260419T162355
CREATED:20260205T021819Z
LAST-MODIFIED:20260205T022054Z
UID:10007015-1770462000-1770467400@qathet365.ca
SUMMARY:Wing Chun Kung-Fu Free Trial Classes
DESCRIPTION:Come and try a wing chun kung-fu class!
URL:https://qathet365.ca/event/wing-chun-kung-fu/2026-02-07/
LOCATION:6251 Yew Street\, 6251 Yew Street\, Powell River\, BC\, V8A4J9\, Canada
CATEGORIES:COMMUNITY,YOUTH,YOUTH SPORTS
END:VEVENT
BEGIN:VEVENT
DTSTART;TZID=America/Vancouver:20260207T110000
DTEND;TZID=America/Vancouver:20260207T130000
DTSTAMP:20260419T162355
CREATED:20260131T004345Z
LAST-MODIFIED:20260131T004348Z
UID:10006447-1770462000-1770469200@qathet365.ca
SUMMARY:Everyone Welcome Skate
DESCRIPTION:Come Skate.
URL:https://qathet365.ca/event/everyone-welcome-skate-15/2026-02-07/
LOCATION:Powell River Recreation Complex\, 5001 Joyce Ave\, POWELL RIVER\, BC\, V8A 5R2\, Canada
CATEGORIES:COMMUNITY,ELDERS,KIDS AND FAMILY,YOUTH
END:VEVENT
BEGIN:VEVENT
DTSTART;TZID=America/Vancouver:20260207T133000
DTEND;TZID=America/Vancouver:20260207T163000
DTSTAMP:20260419T162355
CREATED:20260205T023836Z
LAST-MODIFIED:20260205T023839Z
UID:10007020-1770471000-1770481800@qathet365.ca
SUMMARY:The Nettle Dress Movie
DESCRIPTION:Free by donation\, come see a beautiful movie that follows a man who works through his grief by harvesting\, drying\, spinning and weaving nettles into cloth to make into a dress. The documentary touches on the need to protect our wild places\, as well as other things like using natural products\, death\, art. You’ll enjoy the film\, and even more\, you’ll love hearing from other organizations and people we have invited as collaborators. Come spend the afternoon with us.
URL:https://qathet365.ca/event/the-nettle-dress-movie/
LOCATION:patricia theater\, 5848 Ash Ave\, Powell River\, BC V8A 4R6\, Powell River
CATEGORIES:ARTS & ENTERTAINMENT,COMMUNITY,KIDS AND FAMILY,YOUTH
END:VEVENT
BEGIN:VEVENT
DTSTART;TZID=America/Vancouver:20260207T160000
DTEND;TZID=America/Vancouver:20260207T190000
DTSTAMP:20260419T162355
CREATED:20260122T022146Z
LAST-MODIFIED:20260122T022148Z
UID:10006377-1770480000-1770490800@qathet365.ca
SUMMARY:Live Concert - Harmony Vespers featuring The Jamberries!
DESCRIPTION:Join us for a special Harmony Vespers evening on Saturday\, February 7\, featuring the JanBerries. \n\n\n\nHarmony Vespers is a relaxed\, welcoming gathering—an invitation to slow down\, enjoy the evening\, and spend time together. \n\n\n\nCome as you are.Enjoy the moment.Have a good time. \n\n\n\nAll are welcome.
URL:https://qathet365.ca/event/live-concert-harmony-vespers-featuring-the-jamberries/
CATEGORIES:ARTS & ENTERTAINMENT,COMMUNITY,MUSIC, FILM & COMEDY
END:VEVENT
BEGIN:VEVENT
DTSTART;TZID=America/Vancouver:20260207T160000
DTEND;TZID=America/Vancouver:20260207T203000
DTSTAMP:20260419T162355
CREATED:20260131T012119Z
LAST-MODIFIED:20260131T012122Z
UID:10006983-1770480000-1770496200@qathet365.ca
SUMMARY:Harmony Vespers Presents: Jamberries Live Concert
DESCRIPTION:
URL:https://qathet365.ca/event/harmony-vespers-presents-jamberries-live-concert/
LOCATION:Powell River United Church\, 6932 Crofton Street\, Powell River\, BC\, Canada
CATEGORIES:ARTS & ENTERTAINMENT,COMMUNITY,ELDERS,KIDS AND FAMILY,MUSIC, FILM & COMEDY,YOUTH
END:VEVENT
BEGIN:VEVENT
DTSTART;TZID=America/Vancouver:20260207T183000
DTEND;TZID=America/Vancouver:20260207T203000
DTSTAMP:20260419T162355
CREATED:20260131T002243Z
LAST-MODIFIED:20260131T002246Z
UID:10006420-1770489000-1770496200@qathet365.ca
SUMMARY:Everyone Welcome Swim
DESCRIPTION:Come and swim.
URL:https://qathet365.ca/event/everyone-welcome-swim-19/2026-02-07/
LOCATION:Powell River Recreation Complex\, 5001 Joyce Ave\, POWELL RIVER\, BC\, V8A 5R2\, Canada
CATEGORIES:COMMUNITY,ELDERS,KIDS AND FAMILY,YOUTH
END:VEVENT
BEGIN:VEVENT
DTSTART;TZID=America/Vancouver:20260207T190000
DTEND;TZID=America/Vancouver:20260207T190000
DTSTAMP:20260419T162355
CREATED:20250717T212654Z
LAST-MODIFIED:20250717T212657Z
UID:10002313-1770490800-1770490800@qathet365.ca
SUMMARY:Powell River vs. Nanaimo Clippers
DESCRIPTION:Cheer on the Powell River Kings as they face off against the Nanaimo Clippers at the Hap Parker Arena! Join the hometown crowd for fast-paced BCHL hockey action and support your local team. The Powell River Kings bring the energy every game night—grab your tickets\, wear your green and gold\, and get ready to shout “Go Kings Go!” \n\n\n\nStay up to date with all Kings home games on qathet365.
URL:https://qathet365.ca/event/powell-river-vs-nanaimo-clippers/2026-02-07/
LOCATION:Hap Parker Arena\, 5001 Joyce Ave\, Powell River\, BC\, V8A 5R2\, Canada
CATEGORIES:COMMUNITY,ELDERS,KIDS AND FAMILY,KINGS,SPORTS & OUTDOORS,YOUTH
ATTACH;FMTTYPE=image/png:https://qathet365.ca/wp-content/uploads/2025/06/Untitled-design.png
END:VEVENT
BEGIN:VEVENT
DTSTART;TZID=America/Vancouver:20260211T190000
DTEND;TZID=America/Vancouver:20260211T190000
DTSTAMP:20260419T162355
CREATED:20260124T232750Z
LAST-MODIFIED:20260124T232752Z
UID:10006386-1770836400-1770836400@qathet365.ca
SUMMARY:Ian Maksin - Songs of Love & Peace
DESCRIPTION:IAN MAKSIN in POWELL RIVER BC: SONGS OF LOVE & PEACE New Album Concert Tour  \n\n\n\nSONGS OF LOVE & PEACE: an amazing multilingual journey in search of comfort\, healing and empowerment through music. Get immersed in the deep sounds of Ian Maksin’s soulful one-man-cello orchestra\, paired and blended with his vibrant voice\, as he explores a collection of traditional songs from different corners of the world: Japan\, Finland\, Bosnia\, Iran\, Ukraine\, Armenia\, India\, Kyrgyzstan\, and Medieval France and Spain\, woven together with original instrumental works.  \n\n\n\nHis latest release reflects the path of a true musical globetrotter: a sonic offering shaped by countless journeys across continents as a touring artist\, along with mountaineering\, flying airplanes\, practicing meditation\, and collaborating with local musicians in search of the mystical thread that connects all cultures.  \n\n\n\nThis album invites listeners into a space of presence\, clarity\, and emotional restoration. In addition to music from the new album\, Ian will perform works from his earlier opuses—The Alchemist\, Amor Renatus—as well as selections from his vast repertoire of over 300 songs in 43 languages. \n\n\n\nWith loop pedal and other electronics\, he transforms the cello into an entire orchestra\, merging timeless global traditions into an unforgettable\, immersive\, and deeply personal experience.
URL:https://qathet365.ca/event/ian-maksin-songs-of-love-peace/
LOCATION:Powell River Academy of Music\, 7280 Kemano St\, POWELL RIVER\, BC\, V8A 1M2\, Canada
CATEGORIES:ARTS & ENTERTAINMENT,MUSIC, FILM & COMEDY
END:VEVENT
BEGIN:VEVENT
DTSTART;TZID=America/Vancouver:20260214T100000
DTEND;TZID=America/Vancouver:20260214T130000
DTSTAMP:20260419T162355
CREATED:20260206T042155Z
LAST-MODIFIED:20260206T042158Z
UID:10007029-1771063200-1771074000@qathet365.ca
SUMMARY:Seedy Saturday
DESCRIPTION:Seedy Saturday is a Canada wide event being held March 14 here in Powell River. Come for the seed swap (if you have none to trade you can purchase for $2)\, Workshops\, Information/vendor tables and the silent auction. \n\n\n\nIf you would like to help with the event or have a table please contact Ellen at gmofreeseed@gmail.com or 604-487-1304
URL:https://qathet365.ca/event/seedy-saturday-3/
LOCATION:Dwight Hall\, Walnut St\,\, Powell River\, BC\, V8A 5R2\, Canada
CATEGORIES:ARTS & ENTERTAINMENT,COMMUNITY
END:VEVENT
BEGIN:VEVENT
DTSTART;TZID=America/Vancouver:20260214T110000
DTEND;TZID=America/Vancouver:20260214T120000
DTSTAMP:20260419T162355
CREATED:20260208T224722Z
LAST-MODIFIED:20260208T224746Z
UID:10007032-1771066800-1771070400@qathet365.ca
SUMMARY:460 - Open House - Ontario Ave.
DESCRIPTION:4678 Ontario Ave | $599\,900 | MLS® 19603 \n\n\n\nListed by Bill BaileyHosted by Dustin Villeneuve
URL:https://qathet365.ca/event/460-open-house-ontario-ave/
CATEGORIES:460 Realty
ATTACH;FMTTYPE=image/png:https://qathet365.ca/wp-content/uploads/2026/02/Ontario.png
ORGANIZER;CN="460 Realty PR":MAILTO:adminpr@460realty.com
END:VEVENT
BEGIN:VEVENT
DTSTART;TZID=America/Vancouver:20260214T110000
DTEND;TZID=America/Vancouver:20260214T120000
DTSTAMP:20260419T162355
CREATED:20260208T225310Z
LAST-MODIFIED:20260208T225338Z
UID:10007033-1771066800-1771070400@qathet365.ca
SUMMARY:460 - Open House - Manson Ave
DESCRIPTION:Creekside Living Townhomes 5191 Manson Avenue \n\n\n\nListed/Hosted by Katie Indrebo
URL:https://qathet365.ca/event/460-open-house-manson-ave/
CATEGORIES:460 Realty
ATTACH;FMTTYPE=image/png:https://qathet365.ca/wp-content/uploads/2026/01/Creekside-crossing.png
ORGANIZER;CN="460 Realty PR":MAILTO:adminpr@460realty.com
END:VEVENT
BEGIN:VEVENT
DTSTART;TZID=America/Vancouver:20260214T120000
DTEND;TZID=America/Vancouver:20260215T210000
DTSTAMP:20260419T162356
CREATED:20260205T023221Z
LAST-MODIFIED:20260209T024049Z
UID:10007019-1771070400-1771189200@qathet365.ca
SUMMARY:Bygone Parlour Valentines Pop-up
DESCRIPTION:We are pleased to announce the bygone parlor will open for a wee Valentines Day Weekend pop up event! Serving delicious desserts and Special home made cocoas as well as coffee and teas. Treat a friend or special someone\, or yourself to a Valentines day treat or after dinner dessert. Please note the menu below is the full menu and the regular ice cream parlor menu will resume spring. Thank you and hope to see you soon.
URL:https://qathet365.ca/event/valentines-weekend/
LOCATION:bygone parlor\, 5861 ash\, Powell River
CATEGORIES:ELDERS,KIDS AND FAMILY,YOUTH
END:VEVENT
BEGIN:VEVENT
DTSTART;TZID=America/Vancouver:20260214T130000
DTEND;TZID=America/Vancouver:20260214T140000
DTSTAMP:20260419T162356
CREATED:20260208T225448Z
LAST-MODIFIED:20260210T180027Z
UID:10007034-1771074000-1771077600@qathet365.ca
SUMMARY:460 - Open House - Fraser St
DESCRIPTION:5875 Fraser Street | $550\,000 | MLS® 19528 \n\n\n\nA Wildwood gem bursting with character\, history\, and possibility! Set on 1.1 serene acres at the end of a quiet no-thru road\, this inviting spot boasts a BRAND NEW Roof\, a refreshed kitchen highlighting original wood and new paint inside and out for a bright\, welcoming feel. \n\n\n\nHosted by Austyn MacKinnon
URL:https://qathet365.ca/event/460-open-house-fraser-st-5/
CATEGORIES:460 Realty
ATTACH;FMTTYPE=image/png:https://qathet365.ca/wp-content/uploads/2026/01/Fraser-St.png
ORGANIZER;CN="460 Realty PR":MAILTO:adminpr@460realty.com
END:VEVENT
BEGIN:VEVENT
DTSTART;TZID=America/Vancouver:20260214T140000
DTEND;TZID=America/Vancouver:20260214T150000
DTSTAMP:20260419T162356
CREATED:20260122T023616Z
LAST-MODIFIED:20260122T023619Z
UID:10006379-1771077600-1771081200@qathet365.ca
SUMMARY:Award Winning Author Iona Whishaw
DESCRIPTION:Mystery writer Iona Whishaw will present her new novel A Season for Spies a cozy and action-packed prequel set in wartime England. For information contact Mark at mmerlino@prpl.ca \n\n\n\nThis event is made available by a the generous support of the qathet Friends of the Library.
URL:https://qathet365.ca/event/award-winning-author-iona-whishaw/
LOCATION:Powell River Public Library\, 100-6975 Alberni St\, Powell River\, BC\, V8A2B8\, Canada
CATEGORIES:COMMUNITY
END:VEVENT
BEGIN:VEVENT
DTSTART;TZID=America/Vancouver:20260214T200000
DTEND;TZID=America/Vancouver:20260214T200000
DTSTAMP:20260419T162356
CREATED:20260115T003251Z
LAST-MODIFIED:20260206T032707Z
UID:10005986-1771099200-1771099200@qathet365.ca
SUMMARY:MuchMusic Dance Party
DESCRIPTION:Nostalgic late 80s 90s early 2000. Contest\, prizes\, midnight snack\, cheap drinks. \n\n\n\nTo avoid paying GST buy hard copy tickets at the following businesses \n\n\n\nTla’amin Convenience Store Mon – Friday 6:30am – 6pmPacific Coastal Cannabis 7 days a week 9am – 11pmWesterly Studio Wednesday – Sunday10am – 4pmRiver city coffee Monday to Friday7:30am – 3pm \n\n\n\nOr click the link:
URL:https://qathet365.ca/event/muchmusic-dance-party/
LOCATION:Dwight Hall\, Walnut St\,\, Powell River\, BC\, V8A 5R2\, Canada
CATEGORIES:COMMUNITY,MUSIC, FILM & COMEDY
ATTACH;FMTTYPE=image/jpeg:https://qathet365.ca/wp-content/uploads/2026/01/cd426379-fe53-4d13-b214-4b48d9bb820c.jpeg
END:VEVENT
BEGIN:VEVENT
DTSTART;TZID=America/Vancouver:20260214T200000
DTEND;TZID=America/Vancouver:20260214T230000
DTSTAMP:20260419T162356
CREATED:20260206T033055Z
LAST-MODIFIED:20260206T033058Z
UID:10007022-1771099200-1771110000@qathet365.ca
SUMMARY:The PowTown GetDown Radio Show + CJMP 90.1 Celebrating Bob Marley's Birthday +15 Years of Broadcast
DESCRIPTION:The PowTown GetDown and qathet Community Radio Society/CJMP 90.1FM are once again celebrating Bob Marley’s Birthday on Valentine’s Day. It’s also a celebration of 15 years of broadcasting!DJ Triple Dub will be spinning all your favourite Bob Marley tunes + dubs\, versions\, and rarities.Triple Dub has been doing this almost annually for well over 15 years and it’s guaranteed to be a fun dance party.Tickets by donation/pay what you can at the door! All proceeds go to fund your community radio station!Artwork by Brad Collins @ bradcollinsart.com
URL:https://qathet365.ca/event/the-powtown-getdown-radio-show-cjmp-90-1-celebrating-bob-marleys-birthday-15-years-of-broadcast/
LOCATION:wildwood public house\, 5987 Lund Street\, Powell River\, BC\, Canada\, Powell River
CATEGORIES:ARTS & ENTERTAINMENT,COMMUNITY,MUSIC, FILM & COMEDY
END:VEVENT
BEGIN:VEVENT
DTSTART;TZID=America/Vancouver:20260218T173000
DTEND;TZID=America/Vancouver:20260218T203000
DTSTAMP:20260419T162356
CREATED:20251214T020513Z
LAST-MODIFIED:20251214T020517Z
UID:10004895-1771435800-1771446600@qathet365.ca
SUMMARY:WORKSHOP: Watercolour Landscapes
DESCRIPTION:WORKSHOP: Watercolour Landscapes Join Noelle Blue Moon as she teaches you how to use watercolour techniques to render a beautiful landscape We will begin with several loose warm up exercises to learn how to use light to dark washes\, building up layers by glazing wet on dry. You will learn how to use colour and movement to capture the light and depth of a scene. During the second portion of the class\, Noelle will take you step by step through the stages of painting a more detailed study of a local landscape. https://www.qa-w.ca/workshops
URL:https://qathet365.ca/event/workshop-watercolour-landscapes/
LOCATION:qathet arts and wares\, 4488 Marine Ave\, Powell River\, BC\, V8A 2K2\, Canada
CATEGORIES:Art & Craft,ARTS & ENTERTAINMENT,COMMUNITY
END:VEVENT
BEGIN:VEVENT
DTSTART;TZID=America/Vancouver:20260219T100000
DTEND;TZID=America/Vancouver:20260219T113000
DTSTAMP:20260419T162356
CREATED:20260219T031426Z
LAST-MODIFIED:20260219T031429Z
UID:10007039-1771495200-1771500600@qathet365.ca
SUMMARY:ORCA Bus
DESCRIPTION:
URL:https://qathet365.ca/event/orca-bus-8/
LOCATION:Palm Beach\, qathet\, V8A 5C1\, Canada
CATEGORIES:ARTS & ENTERTAINMENT,COMMUNITY,KIDS AND FAMILY
END:VEVENT
BEGIN:VEVENT
DTSTART;TZID=America/Vancouver:20260220T100000
DTEND;TZID=America/Vancouver:20260220T113000
DTSTAMP:20260419T162356
CREATED:20260219T031902Z
LAST-MODIFIED:20260219T031904Z
UID:10007040-1771581600-1771587000@qathet365.ca
SUMMARY:Chat and Play- Grandparents Group
DESCRIPTION:
URL:https://qathet365.ca/event/chat-and-play-grandparents-group/
LOCATION:5814 ash ave\, 5814 Ash Ave\, Powell River\, BC V8A 4R4\, Powell River
CATEGORIES:Art & Craft,COMMUNITY,KIDS AND FAMILY
END:VEVENT
BEGIN:VEVENT
DTSTART;TZID=America/Vancouver:20260221T120000
DTEND;TZID=America/Vancouver:20260221T160000
DTSTAMP:20260419T162356
CREATED:20260219T034907Z
LAST-MODIFIED:20260219T034909Z
UID:10007045-1771675200-1771689600@qathet365.ca
SUMMARY:Black History Month Grand Celebration
DESCRIPTION:🎤 Keynote Speaker: Dr. Joash Gambarage🎶 Live Music: Mivule Band🥁 Drum Circle: Chris Weekes✨ Cultural showcase\, games\, delicious food & more!🎟️ ADMISSION IS FREE!
URL:https://qathet365.ca/event/black-history-month-grand-celebration/
LOCATION:Dwight Hall\, Walnut St\,\, Powell River\, BC\, V8A 5R2\, Canada
CATEGORIES:COMMUNITY,ELDERS,KIDS AND FAMILY,YOUTH
END:VEVENT
BEGIN:VEVENT
DTSTART;TZID=America/Vancouver:20260221T140000
DTEND;TZID=America/Vancouver:20260221T153000
DTSTAMP:20260419T162356
CREATED:20260115T005350Z
LAST-MODIFIED:20260115T005353Z
UID:10005988-1771682400-1771687800@qathet365.ca
SUMMARY:Snippets from a Small Coastal Town: Understanding the Sunshine Coast
DESCRIPTION:A presentation of a new anthology of prose\, poetry and art\, featuring readings by local authors Pat Buckna\, Jan DeGrass\, Jo Forrest and Doris Good. For more information contact Mark at mmerlino@prpl.ca
URL:https://qathet365.ca/event/snippets-from-a-small-coastal-town-understanding-the-sunshine-coast/
LOCATION:Powell River Public Library\, 100-6975 Alberni St\, Powell River\, BC\, V8A2B8\, Canada
CATEGORIES:COMMUNITY
END:VEVENT
BEGIN:VEVENT
DTSTART;TZID=America/Vancouver:20260221T190000
DTEND;TZID=America/Vancouver:20260221T220000
DTSTAMP:20260419T162356
CREATED:20260206T034202Z
LAST-MODIFIED:20260206T034204Z
UID:10007024-1771700400-1771711200@qathet365.ca
SUMMARY:Jazz Night At Magpies Diner
DESCRIPTION:Magpies Diner is hosting a “Jazz Night” with the “Ron Campbell Jazz Trio” Classic jazz standards and torch music with a touch of the jazzy blues will be played featuring Ron Campbell on piano and vocal. Dennis on bass Neko on brushes. Doors open at 7pm music starts at 8. Light snacks and signature cocktails will be available.
URL:https://qathet365.ca/event/jazz-night-at-magpies-diner/
LOCATION:magpies diner\, 6762 Cranberry St\, Powell River\, BC V8A 3Z3\, Powell River
CATEGORIES:ARTS & ENTERTAINMENT,ELDERS,MUSIC, FILM & COMEDY
END:VEVENT
BEGIN:VEVENT
DTSTART;TZID=America/Vancouver:20260223T100000
DTEND;TZID=America/Vancouver:20260223T113000
DTSTAMP:20260419T162356
CREATED:20260219T032355Z
LAST-MODIFIED:20260219T032357Z
UID:10007041-1771840800-1771846200@qathet365.ca
SUMMARY:Pitter Patter
DESCRIPTION:
URL:https://qathet365.ca/event/pitter-patter-6/
LOCATION:Oceanview Education Centre\, 7105 Nootka St\, Powell River\, BC\, V8A 5E3\, Canada
CATEGORIES:COMMUNITY,KIDS AND FAMILY
END:VEVENT
BEGIN:VEVENT
DTSTART;TZID=America/Vancouver:20260223T100000
DTEND;TZID=America/Vancouver:20260223T113000
DTSTAMP:20260419T162356
CREATED:20260219T032824Z
LAST-MODIFIED:20260219T032826Z
UID:10007042-1771840800-1771846200@qathet365.ca
SUMMARY:Snug Bugs
DESCRIPTION:
URL:https://qathet365.ca/event/snug-bugs-8/
LOCATION:5814 ash ave\, 5814 Ash Ave\, Powell River\, BC V8A 4R4\, Powell River
CATEGORIES:KIDS AND FAMILY
END:VEVENT
BEGIN:VEVENT
DTSTART;TZID=America/Vancouver:20260224T094500
DTEND;TZID=America/Vancouver:20260224T111500
DTSTAMP:20260419T162356
CREATED:20260219T033256Z
LAST-MODIFIED:20260219T033300Z
UID:10007043-1771926300-1771931700@qathet365.ca
SUMMARY:ORCA Bus- Texada Sandpipers
DESCRIPTION:
URL:https://qathet365.ca/event/orca-bus-texada-sandpipers-2/
LOCATION:5079 gillies rd\, Texada\, bc
CATEGORIES:KIDS AND FAMILY
END:VEVENT
END:VCALENDAR