BEGIN:VCALENDAR
VERSION:2.0
PRODID:-//qathet 365 - ECPv6.15.20//NONSGML v1.0//EN
CALSCALE:GREGORIAN
METHOD:PUBLISH
X-WR-CALNAME:qathet 365
X-ORIGINAL-URL:https://qathet365.ca
X-WR-CALDESC:Events for qathet 365
REFRESH-INTERVAL;VALUE=DURATION:PT1H
X-Robots-Tag:noindex
X-PUBLISHED-TTL:PT1H
BEGIN:VTIMEZONE
TZID:America/Vancouver
BEGIN:DAYLIGHT
TZOFFSETFROM:-0800
TZOFFSETTO:-0700
TZNAME:PDT
DTSTART:20250309T100000
END:DAYLIGHT
BEGIN:STANDARD
TZOFFSETFROM:-0700
TZOFFSETTO:-0800
TZNAME:PST
DTSTART:20251102T090000
END:STANDARD
BEGIN:DAYLIGHT
TZOFFSETFROM:-0800
TZOFFSETTO:-0700
TZNAME:PDT
DTSTART:20260308T100000
END:DAYLIGHT
BEGIN:STANDARD
TZOFFSETFROM:-0700
TZOFFSETTO:-0800
TZNAME:PST
DTSTART:20261101T090000
END:STANDARD
BEGIN:DAYLIGHT
TZOFFSETFROM:-0800
TZOFFSETTO:-0700
TZNAME:PDT
DTSTART:20270314T100000
END:DAYLIGHT
BEGIN:STANDARD
TZOFFSETFROM:-0700
TZOFFSETTO:-0800
TZNAME:PST
DTSTART:20271107T090000
END:STANDARD
END:VTIMEZONE
BEGIN:VEVENT
DTSTART;TZID=America/Vancouver:20260220T100000
DTEND;TZID=America/Vancouver:20260220T113000
DTSTAMP:20260421T024920
CREATED:20260108T014159Z
LAST-MODIFIED:20260108T014202Z
UID:10005460-1771581600-1771587000@qathet365.ca
SUMMARY:Chat & Play- Grandparents Group
DESCRIPTION:
URL:https://qathet365.ca/event/chat-play-grandparents-group-3/2026-02-20/
LOCATION:5814 ash ave\, 5814 Ash Ave\, Powell River\, BC V8A 4R4\, Powell River
CATEGORIES:KIDS AND FAMILY
END:VEVENT
BEGIN:VEVENT
DTSTART;TZID=America/Vancouver:20260220T100000
DTEND;TZID=America/Vancouver:20260220T113000
DTSTAMP:20260421T024920
CREATED:20260219T031902Z
LAST-MODIFIED:20260219T031904Z
UID:10007040-1771581600-1771587000@qathet365.ca
SUMMARY:Chat and Play- Grandparents Group
DESCRIPTION:
URL:https://qathet365.ca/event/chat-and-play-grandparents-group/
LOCATION:5814 ash ave\, 5814 Ash Ave\, Powell River\, BC V8A 4R4\, Powell River
CATEGORIES:Art & Craft,COMMUNITY,KIDS AND FAMILY
END:VEVENT
BEGIN:VEVENT
DTSTART;TZID=America/Vancouver:20260220T183000
DTEND;TZID=America/Vancouver:20260220T210000
DTSTAMP:20260421T024920
CREATED:20260131T001722Z
LAST-MODIFIED:20260131T001725Z
UID:10006395-1771612200-1771621200@qathet365.ca
SUMMARY:Everyone Welcome Swim
DESCRIPTION:Come and swim.
URL:https://qathet365.ca/event/everyone-welcome-swim-17/2026-02-20/
LOCATION:Powell River Recreation Complex\, 5001 Joyce Ave\, POWELL RIVER\, BC\, V8A 5R2\, Canada
CATEGORIES:COMMUNITY,ELDERS,KIDS AND FAMILY,YOUTH
END:VEVENT
BEGIN:VEVENT
DTSTART;TZID=America/Vancouver:20260220T190000
DTEND;TZID=America/Vancouver:20260220T210000
DTSTAMP:20260421T024920
CREATED:20260131T003940Z
LAST-MODIFIED:20260131T003943Z
UID:10006442-1771614000-1771621200@qathet365.ca
SUMMARY:Everyone Welcome Skate
DESCRIPTION:[No skate February 13th
URL:https://qathet365.ca/event/everyone-welcome-skate-14/2026-02-20/
LOCATION:Powell River Recreation Complex\, 5001 Joyce Ave\, POWELL RIVER\, BC\, V8A 5R2\, Canada
CATEGORIES:COMMUNITY,ELDERS,KIDS AND FAMILY,YOUTH
END:VEVENT
BEGIN:VEVENT
DTSTART;TZID=America/Vancouver:20260220T210000
DTEND;TZID=America/Vancouver:20260220T233000
DTSTAMP:20260421T024920
CREATED:20260131T005613Z
LAST-MODIFIED:20260131T005616Z
UID:10006467-1771621200-1771630200@qathet365.ca
SUMMARY:Karaoke Night!
DESCRIPTION:[19+]
URL:https://qathet365.ca/event/karaoke-night/2026-02-20/
LOCATION:Cranberry Pub\, 5728 Manson Ave\,\, Powell River\, BC\, V8A 3R8\, Canada
CATEGORIES:ARTS & ENTERTAINMENT,COMMUNITY,MUSIC, FILM & COMEDY
END:VEVENT
BEGIN:VEVENT
DTSTART;TZID=America/Vancouver:20260221T110000
DTEND;TZID=America/Vancouver:20260221T123000
DTSTAMP:20260421T024920
CREATED:20260205T021819Z
LAST-MODIFIED:20260205T022054Z
UID:10007017-1771671600-1771677000@qathet365.ca
SUMMARY:Wing Chun Kung-Fu Free Trial Classes
DESCRIPTION:Come and try a wing chun kung-fu class!
URL:https://qathet365.ca/event/wing-chun-kung-fu/2026-02-21/
LOCATION:6251 Yew Street\, 6251 Yew Street\, Powell River\, BC\, V8A4J9\, Canada
CATEGORIES:COMMUNITY,YOUTH,YOUTH SPORTS
END:VEVENT
BEGIN:VEVENT
DTSTART;TZID=America/Vancouver:20260221T110000
DTEND;TZID=America/Vancouver:20260221T130000
DTSTAMP:20260421T024920
CREATED:20260131T004345Z
LAST-MODIFIED:20260131T004348Z
UID:10006449-1771671600-1771678800@qathet365.ca
SUMMARY:Everyone Welcome Skate
DESCRIPTION:Come Skate.
URL:https://qathet365.ca/event/everyone-welcome-skate-15/2026-02-21/
LOCATION:Powell River Recreation Complex\, 5001 Joyce Ave\, POWELL RIVER\, BC\, V8A 5R2\, Canada
CATEGORIES:COMMUNITY,ELDERS,KIDS AND FAMILY,YOUTH
END:VEVENT
BEGIN:VEVENT
DTSTART;TZID=America/Vancouver:20260221T120000
DTEND;TZID=America/Vancouver:20260221T160000
DTSTAMP:20260421T024921
CREATED:20260219T034907Z
LAST-MODIFIED:20260219T034909Z
UID:10007045-1771675200-1771689600@qathet365.ca
SUMMARY:Black History Month Grand Celebration
DESCRIPTION:🎤 Keynote Speaker: Dr. Joash Gambarage🎶 Live Music: Mivule Band🥁 Drum Circle: Chris Weekes✨ Cultural showcase\, games\, delicious food & more!🎟️ ADMISSION IS FREE!
URL:https://qathet365.ca/event/black-history-month-grand-celebration/
LOCATION:Dwight Hall\, Walnut St\,\, Powell River\, BC\, V8A 5R2\, Canada
CATEGORIES:COMMUNITY,ELDERS,KIDS AND FAMILY,YOUTH
END:VEVENT
BEGIN:VEVENT
DTSTART;TZID=America/Vancouver:20260221T130000
DTEND;TZID=America/Vancouver:20260221T160000
DTSTAMP:20260421T024921
CREATED:20260131T002047Z
LAST-MODIFIED:20260131T002049Z
UID:10006411-1771678800-1771689600@qathet365.ca
SUMMARY:Everyone Welcome Swim
DESCRIPTION:Come and swim.
URL:https://qathet365.ca/event/everyone-welcome-swim-18/2026-02-21/
LOCATION:Powell River Recreation Complex\, 5001 Joyce Ave\, POWELL RIVER\, BC\, V8A 5R2\, Canada
CATEGORIES:COMMUNITY,ELDERS,KIDS AND FAMILY,YOUTH
END:VEVENT
BEGIN:VEVENT
DTSTART;TZID=America/Vancouver:20260221T140000
DTEND;TZID=America/Vancouver:20260221T153000
DTSTAMP:20260421T024921
CREATED:20260115T005350Z
LAST-MODIFIED:20260115T005353Z
UID:10005988-1771682400-1771687800@qathet365.ca
SUMMARY:Snippets from a Small Coastal Town: Understanding the Sunshine Coast
DESCRIPTION:A presentation of a new anthology of prose\, poetry and art\, featuring readings by local authors Pat Buckna\, Jan DeGrass\, Jo Forrest and Doris Good. For more information contact Mark at mmerlino@prpl.ca
URL:https://qathet365.ca/event/snippets-from-a-small-coastal-town-understanding-the-sunshine-coast/
LOCATION:Powell River Public Library\, 100-6975 Alberni St\, Powell River\, BC\, V8A2B8\, Canada
CATEGORIES:COMMUNITY
END:VEVENT
BEGIN:VEVENT
DTSTART;TZID=America/Vancouver:20260221T183000
DTEND;TZID=America/Vancouver:20260221T203000
DTSTAMP:20260421T024921
CREATED:20260131T002243Z
LAST-MODIFIED:20260131T002246Z
UID:10006422-1771698600-1771705800@qathet365.ca
SUMMARY:Everyone Welcome Swim
DESCRIPTION:Come and swim.
URL:https://qathet365.ca/event/everyone-welcome-swim-19/2026-02-21/
LOCATION:Powell River Recreation Complex\, 5001 Joyce Ave\, POWELL RIVER\, BC\, V8A 5R2\, Canada
CATEGORIES:COMMUNITY,ELDERS,KIDS AND FAMILY,YOUTH
END:VEVENT
BEGIN:VEVENT
DTSTART;TZID=America/Vancouver:20260221T190000
DTEND;TZID=America/Vancouver:20260221T220000
DTSTAMP:20260421T024921
CREATED:20260206T034202Z
LAST-MODIFIED:20260206T034204Z
UID:10007024-1771700400-1771711200@qathet365.ca
SUMMARY:Jazz Night At Magpies Diner
DESCRIPTION:Magpies Diner is hosting a “Jazz Night” with the “Ron Campbell Jazz Trio” Classic jazz standards and torch music with a touch of the jazzy blues will be played featuring Ron Campbell on piano and vocal. Dennis on bass Neko on brushes. Doors open at 7pm music starts at 8. Light snacks and signature cocktails will be available.
URL:https://qathet365.ca/event/jazz-night-at-magpies-diner/
LOCATION:magpies diner\, 6762 Cranberry St\, Powell River\, BC V8A 3Z3\, Powell River
CATEGORIES:ARTS & ENTERTAINMENT,ELDERS,MUSIC, FILM & COMEDY
END:VEVENT
BEGIN:VEVENT
DTSTART;TZID=America/Vancouver:20260222T110000
DTEND;TZID=America/Vancouver:20260222T130000
DTSTAMP:20260421T024921
CREATED:20260131T004847Z
LAST-MODIFIED:20260131T004850Z
UID:10006457-1771758000-1771765200@qathet365.ca
SUMMARY:Everyone Welcome Skate
DESCRIPTION:Come Skate.
URL:https://qathet365.ca/event/everyone-welcome-skate-16/2026-02-22/
LOCATION:Powell River Recreation Complex\, 5001 Joyce Ave\, POWELL RIVER\, BC\, V8A 5R2\, Canada
CATEGORIES:COMMUNITY,ELDERS,KIDS AND FAMILY,YOUTH
END:VEVENT
BEGIN:VEVENT
DTSTART;TZID=America/Vancouver:20260222T130000
DTEND;TZID=America/Vancouver:20260222T170000
DTSTAMP:20260421T024921
CREATED:20250807T230406Z
LAST-MODIFIED:20250807T230409Z
UID:10002911-1771765200-1771779600@qathet365.ca
SUMMARY:Chess Club
DESCRIPTION:The Powell River qathet Chess Club meets every Sunday afternoon starting at 1pm. The Chess Club is open to everyone – all ages and all skill levels. For more information contact Mark at mmerlino@prpl.ca.
URL:https://qathet365.ca/event/chess-club/2026-02-22/
LOCATION:Friends of the Library Lounge
CATEGORIES:ARTS & ENTERTAINMENT,COMMUNITY,ELDERS,KIDS AND FAMILY,YOUTH
ORGANIZER;CN="Powell River Public Library":MAILTO:edgar@prpl.ca
END:VEVENT
BEGIN:VEVENT
DTSTART;TZID=America/Vancouver:20260222T180000
DTEND;TZID=America/Vancouver:20260222T180000
DTSTAMP:20260421T024921
CREATED:20250818T184303Z
LAST-MODIFIED:20250818T184415Z
UID:10003243-1771783200-1771783200@qathet365.ca
SUMMARY:Magic the Gathering - Drop In
DESCRIPTION:Drop in and play Magic the Gathering every Sunday at High Tide Games!
URL:https://qathet365.ca/event/magic-the-gathering-drop-in/2026-02-22/
LOCATION:High tide games\, 7030 Glacier St #1\, Powell River\, BC V8A 5A1\, Powell River
CATEGORIES:ARTS & ENTERTAINMENT,COMMUNITY,KIDS AND FAMILY,YOUTH
ATTACH;FMTTYPE=image/jpeg:https://qathet365.ca/wp-content/uploads/2025/08/Magic_the_gathering-card_back.jpg
END:VEVENT
BEGIN:VEVENT
DTSTART;TZID=America/Vancouver:20260223T100000
DTEND;TZID=America/Vancouver:20260223T113000
DTSTAMP:20260421T024921
CREATED:20260219T032355Z
LAST-MODIFIED:20260219T032357Z
UID:10007041-1771840800-1771846200@qathet365.ca
SUMMARY:Pitter Patter
DESCRIPTION:
URL:https://qathet365.ca/event/pitter-patter-6/
LOCATION:Oceanview Education Centre\, 7105 Nootka St\, Powell River\, BC\, V8A 5E3\, Canada
CATEGORIES:COMMUNITY,KIDS AND FAMILY
END:VEVENT
BEGIN:VEVENT
DTSTART;TZID=America/Vancouver:20260223T100000
DTEND;TZID=America/Vancouver:20260223T113000
DTSTAMP:20260421T024921
CREATED:20260219T032824Z
LAST-MODIFIED:20260219T032826Z
UID:10007042-1771840800-1771846200@qathet365.ca
SUMMARY:Snug Bugs
DESCRIPTION:
URL:https://qathet365.ca/event/snug-bugs-8/
LOCATION:5814 ash ave\, 5814 Ash Ave\, Powell River\, BC V8A 4R4\, Powell River
CATEGORIES:KIDS AND FAMILY
END:VEVENT
BEGIN:VEVENT
DTSTART;TZID=America/Vancouver:20260223T141500
DTEND;TZID=America/Vancouver:20260223T161500
DTSTAMP:20260421T024921
CREATED:20260131T002725Z
LAST-MODIFIED:20260131T002728Z
UID:10006429-1771856100-1771863300@qathet365.ca
SUMMARY:Family Skate
DESCRIPTION:Come and have a nice family outing\, and come skating!                     (Strollers allowed)
URL:https://qathet365.ca/event/family-skate-3/2026-02-23/
LOCATION:Powell River Recreation Complex\, 5001 Joyce Ave\, POWELL RIVER\, BC\, V8A 5R2\, Canada
CATEGORIES:COMMUNITY,ELDERS,KIDS AND FAMILY,YOUTH
END:VEVENT
BEGIN:VEVENT
DTSTART;TZID=America/Vancouver:20260223T163000
DTEND;TZID=America/Vancouver:20260223T180000
DTSTAMP:20260421T024921
CREATED:20260201T223430Z
LAST-MODIFIED:20260201T223432Z
UID:10006987-1771864200-1771869600@qathet365.ca
SUMMARY:Community Pasta Dinner
DESCRIPTION:The Community Pasta Dinner is back! \n\n\n\nJoin us every Monday for a free community meal\, served from 4:30–6:00 pm.Come for a warm plate of food\, familiar faces\, and easy conversation. \n\n\n\nEveryone is welcome.No registration. No cost. Just show up. \n\n\n\nWhether you’re coming on your own or bringing a friend\, there’s always a place at the table.
URL:https://qathet365.ca/event/community-pasta-dinner-2/2026-02-23/
LOCATION:Powell River United Church\, 6932 Crofton Street\, Powell River\, BC\, Canada
CATEGORIES:COMMUNITY,ELDERS,KIDS AND FAMILY,SPIRITUALITY & WELLNESS,YOUTH
END:VEVENT
BEGIN:VEVENT
DTSTART;TZID=America/Vancouver:20260223T180000
DTEND;TZID=America/Vancouver:20260223T210000
DTSTAMP:20260421T024921
CREATED:20250818T185336Z
LAST-MODIFIED:20250818T185550Z
UID:10003505-1771869600-1771880400@qathet365.ca
SUMMARY:Board Game Night - Drop In
DESCRIPTION:Its board game night tonight at High Tide Games! \n\n\n\nWe have a library of board games to choose from\, or you can bring your own  \n\n\n\n\n\n\n\nStarts at 6:00PM and goes until 9:00PM \n\n\n\nCome on in and have some fun!
URL:https://qathet365.ca/event/board-game-night-drop-in/2026-02-23/
LOCATION:High tide games\, 7030 Glacier St #1\, Powell River\, BC V8A 5A1\, Powell River
CATEGORIES:ARTS & ENTERTAINMENT,COMMUNITY,KIDS AND FAMILY,YOUTH
END:VEVENT
BEGIN:VEVENT
DTSTART;TZID=America/Vancouver:20260224T094500
DTEND;TZID=America/Vancouver:20260224T111500
DTSTAMP:20260421T024921
CREATED:20260219T033256Z
LAST-MODIFIED:20260219T033300Z
UID:10007043-1771926300-1771931700@qathet365.ca
SUMMARY:ORCA Bus- Texada Sandpipers
DESCRIPTION:
URL:https://qathet365.ca/event/orca-bus-texada-sandpipers-2/
LOCATION:5079 gillies rd\, Texada\, bc
CATEGORIES:KIDS AND FAMILY
END:VEVENT
BEGIN:VEVENT
DTSTART;TZID=America/Vancouver:20260224T130000
DTEND;TZID=America/Vancouver:20260224T150000
DTSTAMP:20260421T024921
CREATED:20250807T225833Z
LAST-MODIFIED:20250807T225837Z
UID:10002395-1771938000-1771945200@qathet365.ca
SUMMARY:Mahjong at the Library
DESCRIPTION:Mahjong groups meet every week at the lounge area from 1-3pm. Instruction is available and everyone is welcome. For more information\, contact Mark at mmerlino@prpl.ca
URL:https://qathet365.ca/event/mahjong-at-the-library-2/2026-02-24/
LOCATION:Friends of the Library Lounge
CATEGORIES:COMMUNITY,ELDERS,YOUTH
ORGANIZER;CN="Powell River Public Library":MAILTO:edgar@prpl.ca
END:VEVENT
BEGIN:VEVENT
DTSTART;TZID=America/Vancouver:20260224T153000
DTEND;TZID=America/Vancouver:20260224T171500
DTSTAMP:20260421T024921
CREATED:20260131T003212Z
LAST-MODIFIED:20260131T003215Z
UID:10006435-1771947000-1771953300@qathet365.ca
SUMMARY:Toonie Skate
DESCRIPTION:Come have fun on the ice with your family and friends for only a toonie!
URL:https://qathet365.ca/event/toonie-skate-4/2026-02-24/
LOCATION:Powell River Recreation Complex\, 5001 Joyce Ave\, POWELL RIVER\, BC\, V8A 5R2\, Canada
CATEGORIES:COMMUNITY,ELDERS,KIDS AND FAMILY,YOUTH
END:VEVENT
BEGIN:VEVENT
DTSTART;TZID=America/Vancouver:20260224T170000
DTEND;TZID=America/Vancouver:20260224T183000
DTSTAMP:20260421T024921
CREATED:20260205T021606Z
LAST-MODIFIED:20260205T021933Z
UID:10007013-1771952400-1771957800@qathet365.ca
SUMMARY:Wing Chun Kung-Fu Free Trial Classes
DESCRIPTION:Come and try a wing chun kung-fu class!
URL:https://qathet365.ca/event/wing-chun-kung-fu-free-trial-classes-3/2026-02-24/
LOCATION:6251 Yew Street\, 6251 Yew Street\, Powell River\, BC\, V8A4J9\, Canada
CATEGORIES:COMMUNITY,YOUTH,YOUTH SPORTS
END:VEVENT
BEGIN:VEVENT
DTSTART;TZID=America/Vancouver:20260224T173000
DTEND;TZID=America/Vancouver:20260224T183000
DTSTAMP:20260421T024921
CREATED:20251226T220658Z
LAST-MODIFIED:20251227T005205Z
UID:10004909-1771954200-1771957800@qathet365.ca
SUMMARY:Bellydance for Fitness & Joy - Weekly Classes
DESCRIPTION:Join Aaliyah Araw for a series of introductory bellydance moves blended with an exercise routine designed to build strength\, balance\, and grace in your daily life and physique. \n\n\n\nDetails: \n\n\n\nDates: Jan 06 – Feb 24Day: TuesdaysTime: 5:30 – 6:30 PM \n\n\n\n\nOnly 15 spots\n\n\n\nAll levels welcome\n\n\n\n\nLocation:Dwight Hall Dance Studio \n\n\n\nPricing: \n\n\n\n\n8 Classes: $190.00\n\n\n\n4 Classes: $100.00\n\n\n\nDrop-in: $30\n\n\n\n\nContact:aaliyah.araw.dance@proton.me
URL:https://qathet365.ca/event/bellydance-for-fitness-joy-weekly-classes/2026-02-24/
LOCATION:Dwight Hall\, Walnut St\,\, Powell River\, BC\, V8A 5R2\, Canada
CATEGORIES:ARTS & ENTERTAINMENT,MUSIC, FILM & COMEDY,SPORTS & OUTDOORS
END:VEVENT
BEGIN:VEVENT
DTSTART;TZID=America/Vancouver:20260225T000000
DTEND;TZID=America/Vancouver:20260307T235959
DTSTAMP:20260421T024921
CREATED:20260122T231901Z
LAST-MODIFIED:20260122T231906Z
UID:10006380-1771977600-1772927999@qathet365.ca
SUMMARY: qathet Festival of the Performing Arts 2026
DESCRIPTION:The qathet Festival of Performing Arts takes place February 25 – March 7\, showcasing young performers from across the qathet region in music\, dance\, and speech arts. \n\n\n\nThis annual community festival brings together students\, families\, teachers\, and adjudicators for live performances\, constructive feedback\, and meaningful on-stage experience. Events are held at local venues throughout Powell River / qathet\, with a mix of daytime and evening sessions open to the public. \n\n\n\nA highlight of the local arts calendar\, the qathet Festival of Performing Arts offers two weeks of performances that celebrate creativity\, dedication\, and the next generation of performers in our community.
URL:https://qathet365.ca/event/qathet-festival-of-the-performing-arts-2026/
LOCATION:BC
CATEGORIES:ARTS & ENTERTAINMENT,COMMUNITY,ELDERS,KIDS AND FAMILY,MUSIC, FILM & COMEDY,YOUTH
END:VEVENT
BEGIN:VEVENT
DTSTART;TZID=America/Vancouver:20260225T173000
DTEND;TZID=America/Vancouver:20260225T210000
DTSTAMP:20260421T024921
CREATED:20250818T185959Z
LAST-MODIFIED:20250818T190032Z
UID:10003766-1772040600-1772053200@qathet365.ca
SUMMARY:D&D Night - Drop In - All Ages
DESCRIPTION:Drop in and play some D&D at High Tide Games
URL:https://qathet365.ca/event/dd-night-drop-in-all-ages/2026-02-25/
LOCATION:High tide games\, 7030 Glacier St #1\, Powell River\, BC V8A 5A1\, Powell River
CATEGORIES:ARTS & ENTERTAINMENT,COMMUNITY,KIDS AND FAMILY,YOUTH
ATTACH;FMTTYPE=image/jpeg:https://qathet365.ca/wp-content/uploads/2025/08/download.jpeg
END:VEVENT
BEGIN:VEVENT
DTSTART;TZID=America/Vancouver:20260225T180000
DTEND;TZID=America/Vancouver:20260225T200000
DTSTAMP:20260421T024921
CREATED:20250807T230042Z
LAST-MODIFIED:20250807T230045Z
UID:10002653-1772042400-1772049600@qathet365.ca
SUMMARY:Knit Night
DESCRIPTION:Join fellow knitting enthusiasts in the Friends of the Library Lounge for a drop-in knit night.
URL:https://qathet365.ca/event/knit-night-10/2026-02-25/
LOCATION:Friends of the Library Lounge
CATEGORIES:Art & Craft,COMMUNITY,ELDERS,KIDS AND FAMILY,YOUTH
ORGANIZER;CN="Powell River Public Library":MAILTO:edgar@prpl.ca
END:VEVENT
BEGIN:VEVENT
DTSTART;TZID=America/Vancouver:20260225T190000
DTEND;TZID=America/Vancouver:20260225T220000
DTSTAMP:20260421T024921
CREATED:20260219T035532Z
LAST-MODIFIED:20260219T035535Z
UID:10007046-1772046000-1772056800@qathet365.ca
SUMMARY:Dope is Death - A Documentary Film Night
DESCRIPTION:Join the qathet Community Action Team and Cinema Politica qathet for a documentary film night and panel discussion at the Patricia Theatre on Wednesday\, February 25th\, at 7pm. By donation. \n\n\n\nAbout the film: Dope is Death (2020)\, a film by Mia Donovan. In 1973\, Dr. Mutulu Shakur\, along with fellow Black Panthers and the Young Lords\, combined community health with radical politics to create the first acupuncture detoxification program in America. This form of radical harm reduction was a revolutionary act toward the government programs that transfixed the lives of black and brown communities throughout the South Bronx. Dope is Death utilizes an abundant archive while giving us insight into how the acupuncture clinic rose to prominence and\, despite funding challenges\, still functions to this day. Some of those who benefited from the program became acupuncturists themselves. Dr. Mutulu’s legacy is cemented within this profound story of community healing and activism.
URL:https://qathet365.ca/event/dope-is-death-a-documentary-film-night/
LOCATION:BC
CATEGORIES:ARTS & ENTERTAINMENT,COMMUNITY,MUSIC, FILM & COMEDY
END:VEVENT
BEGIN:VEVENT
DTSTART;TZID=America/Vancouver:20260226T113000
DTEND;TZID=America/Vancouver:20260226T123000
DTSTAMP:20260421T024921
CREATED:20251207T225630Z
LAST-MODIFIED:20251207T225641Z
UID:10004630-1772105400-1772109000@qathet365.ca
SUMMARY:Seniors Lunch
DESCRIPTION:Free Seniors Lunch every Thursday. A place to gather and connect.
URL:https://qathet365.ca/event/seniors-lunch/2026-02-26/
LOCATION:Powell River United Church\, 6932 Crofton Street\, Powell River\, BC\, Canada
CATEGORIES:COMMUNITY,ELDERS
END:VEVENT
END:VCALENDAR