BEGIN:VCALENDAR
VERSION:2.0
PRODID:-//qathet 365 - ECPv6.15.20//NONSGML v1.0//EN
CALSCALE:GREGORIAN
METHOD:PUBLISH
X-ORIGINAL-URL:https://qathet365.ca
X-WR-CALDESC:Events for qathet 365
REFRESH-INTERVAL;VALUE=DURATION:PT1H
X-Robots-Tag:noindex
X-PUBLISHED-TTL:PT1H
BEGIN:VTIMEZONE
TZID:America/Vancouver
BEGIN:DAYLIGHT
TZOFFSETFROM:-0800
TZOFFSETTO:-0700
TZNAME:PDT
DTSTART:20250309T100000
END:DAYLIGHT
BEGIN:STANDARD
TZOFFSETFROM:-0700
TZOFFSETTO:-0800
TZNAME:PST
DTSTART:20251102T090000
END:STANDARD
BEGIN:DAYLIGHT
TZOFFSETFROM:-0800
TZOFFSETTO:-0700
TZNAME:PDT
DTSTART:20260308T100000
END:DAYLIGHT
BEGIN:STANDARD
TZOFFSETFROM:-0700
TZOFFSETTO:-0800
TZNAME:PST
DTSTART:20261101T090000
END:STANDARD
BEGIN:DAYLIGHT
TZOFFSETFROM:-0800
TZOFFSETTO:-0700
TZNAME:PDT
DTSTART:20270314T100000
END:DAYLIGHT
BEGIN:STANDARD
TZOFFSETFROM:-0700
TZOFFSETTO:-0800
TZNAME:PST
DTSTART:20271107T090000
END:STANDARD
END:VTIMEZONE
BEGIN:VEVENT
DTSTART;TZID=America/Vancouver:20261023T100000
DTEND;TZID=America/Vancouver:20261023T113000
DTSTAMP:20260423T144417
CREATED:20260108T014159Z
LAST-MODIFIED:20260108T014202Z
UID:10005495-1792749600-1792755000@qathet365.ca
SUMMARY:Chat & Play- Grandparents Group
DESCRIPTION:
URL:https://qathet365.ca/event/chat-play-grandparents-group-3/2026-10-23/
LOCATION:5814 ash ave\, 5814 Ash Ave\, Powell River\, BC V8A 4R4\, Powell River
CATEGORIES:KIDS AND FAMILY
END:VEVENT
BEGIN:VEVENT
DTSTART;TZID=America/Vancouver:20261023T210000
DTEND;TZID=America/Vancouver:20261023T233000
DTSTAMP:20260423T144417
CREATED:20260131T005613Z
LAST-MODIFIED:20260131T005616Z
UID:10006537-1792789200-1792798200@qathet365.ca
SUMMARY:Karaoke Night!
DESCRIPTION:[19+]
URL:https://qathet365.ca/event/karaoke-night/2026-10-23/
LOCATION:Cranberry Pub\, 5728 Manson Ave\,\, Powell River\, BC\, V8A 3R8\, Canada
CATEGORIES:ARTS & ENTERTAINMENT,COMMUNITY,MUSIC, FILM & COMEDY
END:VEVENT
BEGIN:VEVENT
DTSTART;TZID=America/Vancouver:20261110T100000
DTEND;TZID=America/Vancouver:20261110T120000
DTSTAMP:20260423T144417
CREATED:20260115T011037Z
LAST-MODIFIED:20260115T011040Z
UID:10006055-1794304800-1794312000@qathet365.ca
SUMMARY:Caregiver Support Group
DESCRIPTION:Caring for someone with Alzheimer’s disease or other dementia can be a challenging and overwhelming task. This confidential support group is for caregivers of individuals living with dementia. Group members share experiences\, information\, and strategies\, while facilitators guide the group process. Administered by Four Tides Hospice Society
URL:https://qathet365.ca/event/caregiver-support-group-3/2026-11-10/
LOCATION:6975 Alberni St\, Powell River\, BC V8A 2B8\, Canada\, Powell River
CATEGORIES:SPIRITUALITY & WELLNESS
END:VEVENT
BEGIN:VEVENT
DTSTART;TZID=America/Vancouver:20261112T100000
DTEND;TZID=America/Vancouver:20261112T120000
DTSTAMP:20260423T144417
CREATED:20260402T014448Z
LAST-MODIFIED:20260402T014450Z
UID:10007437-1794477600-1794484800@qathet365.ca
SUMMARY:Caregiver Support Group
DESCRIPTION:Caring for someone with Alzheimer’s disease or other dementia can be a challenging and overwhelming task. This confidential support group is for caregivers of individuals living with dementia. Group members share experiences\, information\, and strategies\, while facilitators guide the group process.
URL:https://qathet365.ca/event/caregiver-support-group-5/2026-11-12/
LOCATION:Powell River Public Library\, 100-6975 Alberni St\, Powell River\, BC\, V8A2B8\, Canada
CATEGORIES:COMMUNITY,SPIRITUALITY & WELLNESS
END:VEVENT
BEGIN:VEVENT
DTSTART;TZID=America/Vancouver:20261114T100000
DTEND;TZID=America/Vancouver:20261114T120000
DTSTAMP:20260423T144417
CREATED:20260115T010110Z
LAST-MODIFIED:20260115T010114Z
UID:10005997-1794650400-1794657600@qathet365.ca
SUMMARY:Caregiver Support Group
DESCRIPTION:Caring for someone with Alzheimer’s disease or other dementia can be a challenging and overwhelming task. This confidential support group is for caregivers of individuals living with dementia. Group members share experiences\, information\, and strategies\, while facilitators guide the group process. Administered by Four Tides Hospice Society
URL:https://qathet365.ca/event/caregiver-support-group-2/2026-11-14/
LOCATION:6975 Alberni St\, Powell River\, BC V8A 2B8\, Canada\, Powell River
CATEGORIES:SPIRITUALITY & WELLNESS
END:VEVENT
END:VCALENDAR