BEGIN:VCALENDAR
VERSION:2.0
PRODID:-//qathet 365 - ECPv6.15.20//NONSGML v1.0//EN
CALSCALE:GREGORIAN
METHOD:PUBLISH
X-WR-CALNAME:qathet 365
X-ORIGINAL-URL:https://qathet365.ca
X-WR-CALDESC:Events for qathet 365
REFRESH-INTERVAL;VALUE=DURATION:PT1H
X-Robots-Tag:noindex
X-PUBLISHED-TTL:PT1H
BEGIN:VTIMEZONE
TZID:America/Vancouver
BEGIN:DAYLIGHT
TZOFFSETFROM:-0800
TZOFFSETTO:-0700
TZNAME:PDT
DTSTART:20250309T100000
END:DAYLIGHT
BEGIN:STANDARD
TZOFFSETFROM:-0700
TZOFFSETTO:-0800
TZNAME:PST
DTSTART:20251102T090000
END:STANDARD
BEGIN:DAYLIGHT
TZOFFSETFROM:-0800
TZOFFSETTO:-0700
TZNAME:PDT
DTSTART:20260308T100000
END:DAYLIGHT
BEGIN:STANDARD
TZOFFSETFROM:-0700
TZOFFSETTO:-0800
TZNAME:PST
DTSTART:20261101T090000
END:STANDARD
BEGIN:DAYLIGHT
TZOFFSETFROM:-0800
TZOFFSETTO:-0700
TZNAME:PDT
DTSTART:20270314T100000
END:DAYLIGHT
BEGIN:STANDARD
TZOFFSETFROM:-0700
TZOFFSETTO:-0800
TZNAME:PST
DTSTART:20271107T090000
END:STANDARD
END:VTIMEZONE
BEGIN:VEVENT
DTSTART;TZID=America/Vancouver:20260430T113000
DTEND;TZID=America/Vancouver:20260430T123000
DTSTAMP:20260423T131527
CREATED:20251207T225630Z
LAST-MODIFIED:20251207T225641Z
UID:10004639-1777548600-1777552200@qathet365.ca
SUMMARY:Seniors Lunch
DESCRIPTION:Free Seniors Lunch every Thursday. A place to gather and connect.
URL:https://qathet365.ca/event/seniors-lunch/2026-04-30/
LOCATION:Powell River United Church\, 6932 Crofton Street\, Powell River\, BC\, Canada
CATEGORIES:COMMUNITY,ELDERS
END:VEVENT
BEGIN:VEVENT
DTSTART;TZID=America/Vancouver:20260507T113000
DTEND;TZID=America/Vancouver:20260507T123000
DTSTAMP:20260423T131527
CREATED:20251207T225630Z
LAST-MODIFIED:20251207T225641Z
UID:10004640-1778153400-1778157000@qathet365.ca
SUMMARY:Seniors Lunch
DESCRIPTION:Free Seniors Lunch every Thursday. A place to gather and connect.
URL:https://qathet365.ca/event/seniors-lunch/2026-05-07/
LOCATION:Powell River United Church\, 6932 Crofton Street\, Powell River\, BC\, Canada
CATEGORIES:COMMUNITY,ELDERS
END:VEVENT
BEGIN:VEVENT
DTSTART;TZID=America/Vancouver:20260514T113000
DTEND;TZID=America/Vancouver:20260514T123000
DTSTAMP:20260423T131527
CREATED:20251207T225630Z
LAST-MODIFIED:20251207T225641Z
UID:10004641-1778758200-1778761800@qathet365.ca
SUMMARY:Seniors Lunch
DESCRIPTION:Free Seniors Lunch every Thursday. A place to gather and connect.
URL:https://qathet365.ca/event/seniors-lunch/2026-05-14/
LOCATION:Powell River United Church\, 6932 Crofton Street\, Powell River\, BC\, Canada
CATEGORIES:COMMUNITY,ELDERS
END:VEVENT
BEGIN:VEVENT
DTSTART;TZID=America/Vancouver:20260521T113000
DTEND;TZID=America/Vancouver:20260521T123000
DTSTAMP:20260423T131527
CREATED:20251207T225630Z
LAST-MODIFIED:20251207T225641Z
UID:10004642-1779363000-1779366600@qathet365.ca
SUMMARY:Seniors Lunch
DESCRIPTION:Free Seniors Lunch every Thursday. A place to gather and connect.
URL:https://qathet365.ca/event/seniors-lunch/2026-05-21/
LOCATION:Powell River United Church\, 6932 Crofton Street\, Powell River\, BC\, Canada
CATEGORIES:COMMUNITY,ELDERS
END:VEVENT
BEGIN:VEVENT
DTSTART;TZID=America/Vancouver:20260528T113000
DTEND;TZID=America/Vancouver:20260528T123000
DTSTAMP:20260423T131527
CREATED:20251207T225630Z
LAST-MODIFIED:20251207T225641Z
UID:10004643-1779967800-1779971400@qathet365.ca
SUMMARY:Seniors Lunch
DESCRIPTION:Free Seniors Lunch every Thursday. A place to gather and connect.
URL:https://qathet365.ca/event/seniors-lunch/2026-05-28/
LOCATION:Powell River United Church\, 6932 Crofton Street\, Powell River\, BC\, Canada
CATEGORIES:COMMUNITY,ELDERS
END:VEVENT
BEGIN:VEVENT
DTSTART;TZID=America/Vancouver:20260604T113000
DTEND;TZID=America/Vancouver:20260604T123000
DTSTAMP:20260423T131527
CREATED:20251207T225630Z
LAST-MODIFIED:20251207T225641Z
UID:10004644-1780572600-1780576200@qathet365.ca
SUMMARY:Seniors Lunch
DESCRIPTION:Free Seniors Lunch every Thursday. A place to gather and connect.
URL:https://qathet365.ca/event/seniors-lunch/2026-06-04/
LOCATION:Powell River United Church\, 6932 Crofton Street\, Powell River\, BC\, Canada
CATEGORIES:COMMUNITY,ELDERS
END:VEVENT
BEGIN:VEVENT
DTSTART;TZID=America/Vancouver:20260611T113000
DTEND;TZID=America/Vancouver:20260611T123000
DTSTAMP:20260423T131527
CREATED:20251207T225630Z
LAST-MODIFIED:20251207T225641Z
UID:10004645-1781177400-1781181000@qathet365.ca
SUMMARY:Seniors Lunch
DESCRIPTION:Free Seniors Lunch every Thursday. A place to gather and connect.
URL:https://qathet365.ca/event/seniors-lunch/2026-06-11/
LOCATION:Powell River United Church\, 6932 Crofton Street\, Powell River\, BC\, Canada
CATEGORIES:COMMUNITY,ELDERS
END:VEVENT
BEGIN:VEVENT
DTSTART;TZID=America/Vancouver:20260618T113000
DTEND;TZID=America/Vancouver:20260618T123000
DTSTAMP:20260423T131527
CREATED:20251207T225630Z
LAST-MODIFIED:20251207T225641Z
UID:10004646-1781782200-1781785800@qathet365.ca
SUMMARY:Seniors Lunch
DESCRIPTION:Free Seniors Lunch every Thursday. A place to gather and connect.
URL:https://qathet365.ca/event/seniors-lunch/2026-06-18/
LOCATION:Powell River United Church\, 6932 Crofton Street\, Powell River\, BC\, Canada
CATEGORIES:COMMUNITY,ELDERS
END:VEVENT
BEGIN:VEVENT
DTSTART;TZID=America/Vancouver:20260625T113000
DTEND;TZID=America/Vancouver:20260625T123000
DTSTAMP:20260423T131527
CREATED:20251207T225630Z
LAST-MODIFIED:20251207T225641Z
UID:10004647-1782387000-1782390600@qathet365.ca
SUMMARY:Seniors Lunch
DESCRIPTION:Free Seniors Lunch every Thursday. A place to gather and connect.
URL:https://qathet365.ca/event/seniors-lunch/2026-06-25/
LOCATION:Powell River United Church\, 6932 Crofton Street\, Powell River\, BC\, Canada
CATEGORIES:COMMUNITY,ELDERS
END:VEVENT
BEGIN:VEVENT
DTSTART;TZID=America/Vancouver:20260702T113000
DTEND;TZID=America/Vancouver:20260702T123000
DTSTAMP:20260423T131527
CREATED:20251207T225630Z
LAST-MODIFIED:20251207T225641Z
UID:10004648-1782991800-1782995400@qathet365.ca
SUMMARY:Seniors Lunch
DESCRIPTION:Free Seniors Lunch every Thursday. A place to gather and connect.
URL:https://qathet365.ca/event/seniors-lunch/2026-07-02/
LOCATION:Powell River United Church\, 6932 Crofton Street\, Powell River\, BC\, Canada
CATEGORIES:COMMUNITY,ELDERS
END:VEVENT
BEGIN:VEVENT
DTSTART;TZID=America/Vancouver:20260709T113000
DTEND;TZID=America/Vancouver:20260709T123000
DTSTAMP:20260423T131527
CREATED:20251207T225630Z
LAST-MODIFIED:20251207T225641Z
UID:10004649-1783596600-1783600200@qathet365.ca
SUMMARY:Seniors Lunch
DESCRIPTION:Free Seniors Lunch every Thursday. A place to gather and connect.
URL:https://qathet365.ca/event/seniors-lunch/2026-07-09/
LOCATION:Powell River United Church\, 6932 Crofton Street\, Powell River\, BC\, Canada
CATEGORIES:COMMUNITY,ELDERS
END:VEVENT
BEGIN:VEVENT
DTSTART;TZID=America/Vancouver:20260716T113000
DTEND;TZID=America/Vancouver:20260716T123000
DTSTAMP:20260423T131527
CREATED:20251207T225630Z
LAST-MODIFIED:20251207T225641Z
UID:10004650-1784201400-1784205000@qathet365.ca
SUMMARY:Seniors Lunch
DESCRIPTION:Free Seniors Lunch every Thursday. A place to gather and connect.
URL:https://qathet365.ca/event/seniors-lunch/2026-07-16/
LOCATION:Powell River United Church\, 6932 Crofton Street\, Powell River\, BC\, Canada
CATEGORIES:COMMUNITY,ELDERS
END:VEVENT
BEGIN:VEVENT
DTSTART;TZID=America/Vancouver:20260723T113000
DTEND;TZID=America/Vancouver:20260723T123000
DTSTAMP:20260423T131527
CREATED:20251207T225630Z
LAST-MODIFIED:20251207T225641Z
UID:10004651-1784806200-1784809800@qathet365.ca
SUMMARY:Seniors Lunch
DESCRIPTION:Free Seniors Lunch every Thursday. A place to gather and connect.
URL:https://qathet365.ca/event/seniors-lunch/2026-07-23/
LOCATION:Powell River United Church\, 6932 Crofton Street\, Powell River\, BC\, Canada
CATEGORIES:COMMUNITY,ELDERS
END:VEVENT
BEGIN:VEVENT
DTSTART;TZID=America/Vancouver:20260730T113000
DTEND;TZID=America/Vancouver:20260730T123000
DTSTAMP:20260423T131527
CREATED:20251207T225630Z
LAST-MODIFIED:20251207T225641Z
UID:10004652-1785411000-1785414600@qathet365.ca
SUMMARY:Seniors Lunch
DESCRIPTION:Free Seniors Lunch every Thursday. A place to gather and connect.
URL:https://qathet365.ca/event/seniors-lunch/2026-07-30/
LOCATION:Powell River United Church\, 6932 Crofton Street\, Powell River\, BC\, Canada
CATEGORIES:COMMUNITY,ELDERS
END:VEVENT
BEGIN:VEVENT
DTSTART;TZID=America/Vancouver:20260806T113000
DTEND;TZID=America/Vancouver:20260806T123000
DTSTAMP:20260423T131527
CREATED:20251207T225630Z
LAST-MODIFIED:20251207T225641Z
UID:10004653-1786015800-1786019400@qathet365.ca
SUMMARY:Seniors Lunch
DESCRIPTION:Free Seniors Lunch every Thursday. A place to gather and connect.
URL:https://qathet365.ca/event/seniors-lunch/2026-08-06/
LOCATION:Powell River United Church\, 6932 Crofton Street\, Powell River\, BC\, Canada
CATEGORIES:COMMUNITY,ELDERS
END:VEVENT
BEGIN:VEVENT
DTSTART;TZID=America/Vancouver:20260813T113000
DTEND;TZID=America/Vancouver:20260813T123000
DTSTAMP:20260423T131527
CREATED:20251207T225630Z
LAST-MODIFIED:20251207T225641Z
UID:10004654-1786620600-1786624200@qathet365.ca
SUMMARY:Seniors Lunch
DESCRIPTION:Free Seniors Lunch every Thursday. A place to gather and connect.
URL:https://qathet365.ca/event/seniors-lunch/2026-08-13/
LOCATION:Powell River United Church\, 6932 Crofton Street\, Powell River\, BC\, Canada
CATEGORIES:COMMUNITY,ELDERS
END:VEVENT
BEGIN:VEVENT
DTSTART;TZID=America/Vancouver:20260820T113000
DTEND;TZID=America/Vancouver:20260820T123000
DTSTAMP:20260423T131527
CREATED:20251207T225630Z
LAST-MODIFIED:20251207T225641Z
UID:10004655-1787225400-1787229000@qathet365.ca
SUMMARY:Seniors Lunch
DESCRIPTION:Free Seniors Lunch every Thursday. A place to gather and connect.
URL:https://qathet365.ca/event/seniors-lunch/2026-08-20/
LOCATION:Powell River United Church\, 6932 Crofton Street\, Powell River\, BC\, Canada
CATEGORIES:COMMUNITY,ELDERS
END:VEVENT
BEGIN:VEVENT
DTSTART;TZID=America/Vancouver:20260827T113000
DTEND;TZID=America/Vancouver:20260827T123000
DTSTAMP:20260423T131527
CREATED:20251207T225630Z
LAST-MODIFIED:20251207T225641Z
UID:10004656-1787830200-1787833800@qathet365.ca
SUMMARY:Seniors Lunch
DESCRIPTION:Free Seniors Lunch every Thursday. A place to gather and connect.
URL:https://qathet365.ca/event/seniors-lunch/2026-08-27/
LOCATION:Powell River United Church\, 6932 Crofton Street\, Powell River\, BC\, Canada
CATEGORIES:COMMUNITY,ELDERS
END:VEVENT
BEGIN:VEVENT
DTSTART;TZID=America/Vancouver:20260903T113000
DTEND;TZID=America/Vancouver:20260903T123000
DTSTAMP:20260423T131527
CREATED:20251207T225630Z
LAST-MODIFIED:20251207T225641Z
UID:10004657-1788435000-1788438600@qathet365.ca
SUMMARY:Seniors Lunch
DESCRIPTION:Free Seniors Lunch every Thursday. A place to gather and connect.
URL:https://qathet365.ca/event/seniors-lunch/2026-09-03/
LOCATION:Powell River United Church\, 6932 Crofton Street\, Powell River\, BC\, Canada
CATEGORIES:COMMUNITY,ELDERS
END:VEVENT
BEGIN:VEVENT
DTSTART;TZID=America/Vancouver:20260910T113000
DTEND;TZID=America/Vancouver:20260910T123000
DTSTAMP:20260423T131527
CREATED:20251207T225630Z
LAST-MODIFIED:20251207T225641Z
UID:10004658-1789039800-1789043400@qathet365.ca
SUMMARY:Seniors Lunch
DESCRIPTION:Free Seniors Lunch every Thursday. A place to gather and connect.
URL:https://qathet365.ca/event/seniors-lunch/2026-09-10/
LOCATION:Powell River United Church\, 6932 Crofton Street\, Powell River\, BC\, Canada
CATEGORIES:COMMUNITY,ELDERS
END:VEVENT
BEGIN:VEVENT
DTSTART;TZID=America/Vancouver:20260917T113000
DTEND;TZID=America/Vancouver:20260917T123000
DTSTAMP:20260423T131527
CREATED:20251207T225630Z
LAST-MODIFIED:20251207T225641Z
UID:10004659-1789644600-1789648200@qathet365.ca
SUMMARY:Seniors Lunch
DESCRIPTION:Free Seniors Lunch every Thursday. A place to gather and connect.
URL:https://qathet365.ca/event/seniors-lunch/2026-09-17/
LOCATION:Powell River United Church\, 6932 Crofton Street\, Powell River\, BC\, Canada
CATEGORIES:COMMUNITY,ELDERS
END:VEVENT
BEGIN:VEVENT
DTSTART;TZID=America/Vancouver:20260924T113000
DTEND;TZID=America/Vancouver:20260924T123000
DTSTAMP:20260423T131527
CREATED:20251207T225630Z
LAST-MODIFIED:20251207T225641Z
UID:10004660-1790249400-1790253000@qathet365.ca
SUMMARY:Seniors Lunch
DESCRIPTION:Free Seniors Lunch every Thursday. A place to gather and connect.
URL:https://qathet365.ca/event/seniors-lunch/2026-09-24/
LOCATION:Powell River United Church\, 6932 Crofton Street\, Powell River\, BC\, Canada
CATEGORIES:COMMUNITY,ELDERS
END:VEVENT
BEGIN:VEVENT
DTSTART;TZID=America/Vancouver:20261001T113000
DTEND;TZID=America/Vancouver:20261001T123000
DTSTAMP:20260423T131527
CREATED:20251207T225630Z
LAST-MODIFIED:20251207T225641Z
UID:10004661-1790854200-1790857800@qathet365.ca
SUMMARY:Seniors Lunch
DESCRIPTION:Free Seniors Lunch every Thursday. A place to gather and connect.
URL:https://qathet365.ca/event/seniors-lunch/2026-10-01/
LOCATION:Powell River United Church\, 6932 Crofton Street\, Powell River\, BC\, Canada
CATEGORIES:COMMUNITY,ELDERS
END:VEVENT
BEGIN:VEVENT
DTSTART;TZID=America/Vancouver:20261008T113000
DTEND;TZID=America/Vancouver:20261008T123000
DTSTAMP:20260423T131527
CREATED:20251207T225630Z
LAST-MODIFIED:20251207T225641Z
UID:10004662-1791459000-1791462600@qathet365.ca
SUMMARY:Seniors Lunch
DESCRIPTION:Free Seniors Lunch every Thursday. A place to gather and connect.
URL:https://qathet365.ca/event/seniors-lunch/2026-10-08/
LOCATION:Powell River United Church\, 6932 Crofton Street\, Powell River\, BC\, Canada
CATEGORIES:COMMUNITY,ELDERS
END:VEVENT
BEGIN:VEVENT
DTSTART;TZID=America/Vancouver:20261015T113000
DTEND;TZID=America/Vancouver:20261015T123000
DTSTAMP:20260423T131527
CREATED:20251207T225630Z
LAST-MODIFIED:20251207T225641Z
UID:10004663-1792063800-1792067400@qathet365.ca
SUMMARY:Seniors Lunch
DESCRIPTION:Free Seniors Lunch every Thursday. A place to gather and connect.
URL:https://qathet365.ca/event/seniors-lunch/2026-10-15/
LOCATION:Powell River United Church\, 6932 Crofton Street\, Powell River\, BC\, Canada
CATEGORIES:COMMUNITY,ELDERS
END:VEVENT
BEGIN:VEVENT
DTSTART;TZID=America/Vancouver:20261022T113000
DTEND;TZID=America/Vancouver:20261022T123000
DTSTAMP:20260423T131527
CREATED:20251207T225630Z
LAST-MODIFIED:20251207T225641Z
UID:10004664-1792668600-1792672200@qathet365.ca
SUMMARY:Seniors Lunch
DESCRIPTION:Free Seniors Lunch every Thursday. A place to gather and connect.
URL:https://qathet365.ca/event/seniors-lunch/2026-10-22/
LOCATION:Powell River United Church\, 6932 Crofton Street\, Powell River\, BC\, Canada
CATEGORIES:COMMUNITY,ELDERS
END:VEVENT
BEGIN:VEVENT
DTSTART;TZID=America/Vancouver:20261029T113000
DTEND;TZID=America/Vancouver:20261029T123000
DTSTAMP:20260423T131527
CREATED:20251207T225630Z
LAST-MODIFIED:20251207T225641Z
UID:10004665-1793273400-1793277000@qathet365.ca
SUMMARY:Seniors Lunch
DESCRIPTION:Free Seniors Lunch every Thursday. A place to gather and connect.
URL:https://qathet365.ca/event/seniors-lunch/2026-10-29/
LOCATION:Powell River United Church\, 6932 Crofton Street\, Powell River\, BC\, Canada
CATEGORIES:COMMUNITY,ELDERS
END:VEVENT
BEGIN:VEVENT
DTSTART;TZID=America/Vancouver:20261105T113000
DTEND;TZID=America/Vancouver:20261105T123000
DTSTAMP:20260423T131527
CREATED:20251207T225630Z
LAST-MODIFIED:20251207T225641Z
UID:10004666-1793878200-1793881800@qathet365.ca
SUMMARY:Seniors Lunch
DESCRIPTION:Free Seniors Lunch every Thursday. A place to gather and connect.
URL:https://qathet365.ca/event/seniors-lunch/2026-11-05/
LOCATION:Powell River United Church\, 6932 Crofton Street\, Powell River\, BC\, Canada
CATEGORIES:COMMUNITY,ELDERS
END:VEVENT
BEGIN:VEVENT
DTSTART;TZID=America/Vancouver:20261112T113000
DTEND;TZID=America/Vancouver:20261112T123000
DTSTAMP:20260423T131527
CREATED:20251207T225630Z
LAST-MODIFIED:20251207T225641Z
UID:10004667-1794483000-1794486600@qathet365.ca
SUMMARY:Seniors Lunch
DESCRIPTION:Free Seniors Lunch every Thursday. A place to gather and connect.
URL:https://qathet365.ca/event/seniors-lunch/2026-11-12/
LOCATION:Powell River United Church\, 6932 Crofton Street\, Powell River\, BC\, Canada
CATEGORIES:COMMUNITY,ELDERS
END:VEVENT
BEGIN:VEVENT
DTSTART;TZID=America/Vancouver:20261119T113000
DTEND;TZID=America/Vancouver:20261119T123000
DTSTAMP:20260423T131527
CREATED:20251207T225630Z
LAST-MODIFIED:20251207T225641Z
UID:10004668-1795087800-1795091400@qathet365.ca
SUMMARY:Seniors Lunch
DESCRIPTION:Free Seniors Lunch every Thursday. A place to gather and connect.
URL:https://qathet365.ca/event/seniors-lunch/2026-11-19/
LOCATION:Powell River United Church\, 6932 Crofton Street\, Powell River\, BC\, Canada
CATEGORIES:COMMUNITY,ELDERS
END:VEVENT
END:VCALENDAR