BEGIN:VCALENDAR
VERSION:2.0
PRODID:-//qathet 365 - ECPv6.15.20//NONSGML v1.0//EN
CALSCALE:GREGORIAN
METHOD:PUBLISH
X-WR-CALNAME:qathet 365
X-ORIGINAL-URL:https://qathet365.ca
X-WR-CALDESC:Events for qathet 365
REFRESH-INTERVAL;VALUE=DURATION:PT1H
X-Robots-Tag:noindex
X-PUBLISHED-TTL:PT1H
BEGIN:VTIMEZONE
TZID:America/Vancouver
BEGIN:DAYLIGHT
TZOFFSETFROM:-0800
TZOFFSETTO:-0700
TZNAME:PDT
DTSTART:20250309T100000
END:DAYLIGHT
BEGIN:STANDARD
TZOFFSETFROM:-0700
TZOFFSETTO:-0800
TZNAME:PST
DTSTART:20251102T090000
END:STANDARD
BEGIN:DAYLIGHT
TZOFFSETFROM:-0800
TZOFFSETTO:-0700
TZNAME:PDT
DTSTART:20260308T100000
END:DAYLIGHT
BEGIN:STANDARD
TZOFFSETFROM:-0700
TZOFFSETTO:-0800
TZNAME:PST
DTSTART:20261101T090000
END:STANDARD
BEGIN:DAYLIGHT
TZOFFSETFROM:-0800
TZOFFSETTO:-0700
TZNAME:PDT
DTSTART:20270314T100000
END:DAYLIGHT
BEGIN:STANDARD
TZOFFSETFROM:-0700
TZOFFSETTO:-0800
TZNAME:PST
DTSTART:20271107T090000
END:STANDARD
BEGIN:DAYLIGHT
TZOFFSETFROM:-0800
TZOFFSETTO:-0700
TZNAME:PDT
DTSTART:20280312T100000
END:DAYLIGHT
BEGIN:STANDARD
TZOFFSETFROM:-0700
TZOFFSETTO:-0800
TZNAME:PST
DTSTART:20281105T090000
END:STANDARD
BEGIN:DAYLIGHT
TZOFFSETFROM:-0800
TZOFFSETTO:-0700
TZNAME:PDT
DTSTART:20290311T100000
END:DAYLIGHT
BEGIN:STANDARD
TZOFFSETFROM:-0700
TZOFFSETTO:-0800
TZNAME:PST
DTSTART:20291104T090000
END:STANDARD
END:VTIMEZONE
BEGIN:VEVENT
DTSTART;TZID=America/Vancouver:20260509T100000
DTEND;TZID=America/Vancouver:20260509T120000
DTSTAMP:20260423T173503
CREATED:20260115T010110Z
LAST-MODIFIED:20260115T010114Z
UID:10005991-1778320800-1778328000@qathet365.ca
SUMMARY:Caregiver Support Group
DESCRIPTION:Caring for someone with Alzheimer’s disease or other dementia can be a challenging and overwhelming task. This confidential support group is for caregivers of individuals living with dementia. Group members share experiences\, information\, and strategies\, while facilitators guide the group process. Administered by Four Tides Hospice Society
URL:https://qathet365.ca/event/caregiver-support-group-2/2026-05-09/
LOCATION:6975 Alberni St\, Powell River\, BC V8A 2B8\, Canada\, Powell River
CATEGORIES:SPIRITUALITY & WELLNESS
END:VEVENT
BEGIN:VEVENT
DTSTART;TZID=America/Vancouver:20260613T100000
DTEND;TZID=America/Vancouver:20260613T120000
DTSTAMP:20260423T173503
CREATED:20260115T010110Z
LAST-MODIFIED:20260115T010114Z
UID:10005992-1781344800-1781352000@qathet365.ca
SUMMARY:Caregiver Support Group
DESCRIPTION:Caring for someone with Alzheimer’s disease or other dementia can be a challenging and overwhelming task. This confidential support group is for caregivers of individuals living with dementia. Group members share experiences\, information\, and strategies\, while facilitators guide the group process. Administered by Four Tides Hospice Society
URL:https://qathet365.ca/event/caregiver-support-group-2/2026-06-13/
LOCATION:6975 Alberni St\, Powell River\, BC V8A 2B8\, Canada\, Powell River
CATEGORIES:SPIRITUALITY & WELLNESS
END:VEVENT
BEGIN:VEVENT
DTSTART;TZID=America/Vancouver:20260711T100000
DTEND;TZID=America/Vancouver:20260711T120000
DTSTAMP:20260423T173503
CREATED:20260115T010110Z
LAST-MODIFIED:20260115T010114Z
UID:10005993-1783764000-1783771200@qathet365.ca
SUMMARY:Caregiver Support Group
DESCRIPTION:Caring for someone with Alzheimer’s disease or other dementia can be a challenging and overwhelming task. This confidential support group is for caregivers of individuals living with dementia. Group members share experiences\, information\, and strategies\, while facilitators guide the group process. Administered by Four Tides Hospice Society
URL:https://qathet365.ca/event/caregiver-support-group-2/2026-07-11/
LOCATION:6975 Alberni St\, Powell River\, BC V8A 2B8\, Canada\, Powell River
CATEGORIES:SPIRITUALITY & WELLNESS
END:VEVENT
BEGIN:VEVENT
DTSTART;TZID=America/Vancouver:20260808T100000
DTEND;TZID=America/Vancouver:20260808T120000
DTSTAMP:20260423T173503
CREATED:20260115T010110Z
LAST-MODIFIED:20260115T010114Z
UID:10005994-1786183200-1786190400@qathet365.ca
SUMMARY:Caregiver Support Group
DESCRIPTION:Caring for someone with Alzheimer’s disease or other dementia can be a challenging and overwhelming task. This confidential support group is for caregivers of individuals living with dementia. Group members share experiences\, information\, and strategies\, while facilitators guide the group process. Administered by Four Tides Hospice Society
URL:https://qathet365.ca/event/caregiver-support-group-2/2026-08-08/
LOCATION:6975 Alberni St\, Powell River\, BC V8A 2B8\, Canada\, Powell River
CATEGORIES:SPIRITUALITY & WELLNESS
END:VEVENT
BEGIN:VEVENT
DTSTART;TZID=America/Vancouver:20260912T100000
DTEND;TZID=America/Vancouver:20260912T120000
DTSTAMP:20260423T173503
CREATED:20260115T010110Z
LAST-MODIFIED:20260115T010114Z
UID:10005995-1789207200-1789214400@qathet365.ca
SUMMARY:Caregiver Support Group
DESCRIPTION:Caring for someone with Alzheimer’s disease or other dementia can be a challenging and overwhelming task. This confidential support group is for caregivers of individuals living with dementia. Group members share experiences\, information\, and strategies\, while facilitators guide the group process. Administered by Four Tides Hospice Society
URL:https://qathet365.ca/event/caregiver-support-group-2/2026-09-12/
LOCATION:6975 Alberni St\, Powell River\, BC V8A 2B8\, Canada\, Powell River
CATEGORIES:SPIRITUALITY & WELLNESS
END:VEVENT
BEGIN:VEVENT
DTSTART;TZID=America/Vancouver:20261010T100000
DTEND;TZID=America/Vancouver:20261010T120000
DTSTAMP:20260423T173503
CREATED:20260115T010110Z
LAST-MODIFIED:20260115T010114Z
UID:10005996-1791626400-1791633600@qathet365.ca
SUMMARY:Caregiver Support Group
DESCRIPTION:Caring for someone with Alzheimer’s disease or other dementia can be a challenging and overwhelming task. This confidential support group is for caregivers of individuals living with dementia. Group members share experiences\, information\, and strategies\, while facilitators guide the group process. Administered by Four Tides Hospice Society
URL:https://qathet365.ca/event/caregiver-support-group-2/2026-10-10/
LOCATION:6975 Alberni St\, Powell River\, BC V8A 2B8\, Canada\, Powell River
CATEGORIES:SPIRITUALITY & WELLNESS
END:VEVENT
BEGIN:VEVENT
DTSTART;TZID=America/Vancouver:20261114T100000
DTEND;TZID=America/Vancouver:20261114T120000
DTSTAMP:20260423T173503
CREATED:20260115T010110Z
LAST-MODIFIED:20260115T010114Z
UID:10005997-1794650400-1794657600@qathet365.ca
SUMMARY:Caregiver Support Group
DESCRIPTION:Caring for someone with Alzheimer’s disease or other dementia can be a challenging and overwhelming task. This confidential support group is for caregivers of individuals living with dementia. Group members share experiences\, information\, and strategies\, while facilitators guide the group process. Administered by Four Tides Hospice Society
URL:https://qathet365.ca/event/caregiver-support-group-2/2026-11-14/
LOCATION:6975 Alberni St\, Powell River\, BC V8A 2B8\, Canada\, Powell River
CATEGORIES:SPIRITUALITY & WELLNESS
END:VEVENT
BEGIN:VEVENT
DTSTART;TZID=America/Vancouver:20261212T100000
DTEND;TZID=America/Vancouver:20261212T120000
DTSTAMP:20260423T173503
CREATED:20260115T010110Z
LAST-MODIFIED:20260115T010114Z
UID:10005998-1797069600-1797076800@qathet365.ca
SUMMARY:Caregiver Support Group
DESCRIPTION:Caring for someone with Alzheimer’s disease or other dementia can be a challenging and overwhelming task. This confidential support group is for caregivers of individuals living with dementia. Group members share experiences\, information\, and strategies\, while facilitators guide the group process. Administered by Four Tides Hospice Society
URL:https://qathet365.ca/event/caregiver-support-group-2/2026-12-12/
LOCATION:6975 Alberni St\, Powell River\, BC V8A 2B8\, Canada\, Powell River
CATEGORIES:SPIRITUALITY & WELLNESS
END:VEVENT
BEGIN:VEVENT
DTSTART;TZID=America/Vancouver:20270109T100000
DTEND;TZID=America/Vancouver:20270109T120000
DTSTAMP:20260423T173503
CREATED:20260115T010110Z
LAST-MODIFIED:20260115T010114Z
UID:10005999-1799488800-1799496000@qathet365.ca
SUMMARY:Caregiver Support Group
DESCRIPTION:Caring for someone with Alzheimer’s disease or other dementia can be a challenging and overwhelming task. This confidential support group is for caregivers of individuals living with dementia. Group members share experiences\, information\, and strategies\, while facilitators guide the group process. Administered by Four Tides Hospice Society
URL:https://qathet365.ca/event/caregiver-support-group-2/2027-01-09/
LOCATION:6975 Alberni St\, Powell River\, BC V8A 2B8\, Canada\, Powell River
CATEGORIES:SPIRITUALITY & WELLNESS
END:VEVENT
BEGIN:VEVENT
DTSTART;TZID=America/Vancouver:20270213T100000
DTEND;TZID=America/Vancouver:20270213T120000
DTSTAMP:20260423T173503
CREATED:20260115T010110Z
LAST-MODIFIED:20260115T010114Z
UID:10006000-1802512800-1802520000@qathet365.ca
SUMMARY:Caregiver Support Group
DESCRIPTION:Caring for someone with Alzheimer’s disease or other dementia can be a challenging and overwhelming task. This confidential support group is for caregivers of individuals living with dementia. Group members share experiences\, information\, and strategies\, while facilitators guide the group process. Administered by Four Tides Hospice Society
URL:https://qathet365.ca/event/caregiver-support-group-2/2027-02-13/
LOCATION:6975 Alberni St\, Powell River\, BC V8A 2B8\, Canada\, Powell River
CATEGORIES:SPIRITUALITY & WELLNESS
END:VEVENT
BEGIN:VEVENT
DTSTART;TZID=America/Vancouver:20270313T100000
DTEND;TZID=America/Vancouver:20270313T120000
DTSTAMP:20260423T173503
CREATED:20260115T010110Z
LAST-MODIFIED:20260115T010114Z
UID:10006001-1804932000-1804939200@qathet365.ca
SUMMARY:Caregiver Support Group
DESCRIPTION:Caring for someone with Alzheimer’s disease or other dementia can be a challenging and overwhelming task. This confidential support group is for caregivers of individuals living with dementia. Group members share experiences\, information\, and strategies\, while facilitators guide the group process. Administered by Four Tides Hospice Society
URL:https://qathet365.ca/event/caregiver-support-group-2/2027-03-13/
LOCATION:6975 Alberni St\, Powell River\, BC V8A 2B8\, Canada\, Powell River
CATEGORIES:SPIRITUALITY & WELLNESS
END:VEVENT
BEGIN:VEVENT
DTSTART;TZID=America/Vancouver:20270410T100000
DTEND;TZID=America/Vancouver:20270410T120000
DTSTAMP:20260423T173503
CREATED:20260115T010110Z
LAST-MODIFIED:20260115T010114Z
UID:10006002-1807351200-1807358400@qathet365.ca
SUMMARY:Caregiver Support Group
DESCRIPTION:Caring for someone with Alzheimer’s disease or other dementia can be a challenging and overwhelming task. This confidential support group is for caregivers of individuals living with dementia. Group members share experiences\, information\, and strategies\, while facilitators guide the group process. Administered by Four Tides Hospice Society
URL:https://qathet365.ca/event/caregiver-support-group-2/2027-04-10/
LOCATION:6975 Alberni St\, Powell River\, BC V8A 2B8\, Canada\, Powell River
CATEGORIES:SPIRITUALITY & WELLNESS
END:VEVENT
BEGIN:VEVENT
DTSTART;TZID=America/Vancouver:20270508T100000
DTEND;TZID=America/Vancouver:20270508T120000
DTSTAMP:20260423T173503
CREATED:20260115T010110Z
LAST-MODIFIED:20260115T010114Z
UID:10006003-1809770400-1809777600@qathet365.ca
SUMMARY:Caregiver Support Group
DESCRIPTION:Caring for someone with Alzheimer’s disease or other dementia can be a challenging and overwhelming task. This confidential support group is for caregivers of individuals living with dementia. Group members share experiences\, information\, and strategies\, while facilitators guide the group process. Administered by Four Tides Hospice Society
URL:https://qathet365.ca/event/caregiver-support-group-2/2027-05-08/
LOCATION:6975 Alberni St\, Powell River\, BC V8A 2B8\, Canada\, Powell River
CATEGORIES:SPIRITUALITY & WELLNESS
END:VEVENT
BEGIN:VEVENT
DTSTART;TZID=America/Vancouver:20270612T100000
DTEND;TZID=America/Vancouver:20270612T120000
DTSTAMP:20260423T173503
CREATED:20260115T010110Z
LAST-MODIFIED:20260115T010114Z
UID:10006004-1812794400-1812801600@qathet365.ca
SUMMARY:Caregiver Support Group
DESCRIPTION:Caring for someone with Alzheimer’s disease or other dementia can be a challenging and overwhelming task. This confidential support group is for caregivers of individuals living with dementia. Group members share experiences\, information\, and strategies\, while facilitators guide the group process. Administered by Four Tides Hospice Society
URL:https://qathet365.ca/event/caregiver-support-group-2/2027-06-12/
LOCATION:6975 Alberni St\, Powell River\, BC V8A 2B8\, Canada\, Powell River
CATEGORIES:SPIRITUALITY & WELLNESS
END:VEVENT
BEGIN:VEVENT
DTSTART;TZID=America/Vancouver:20270710T100000
DTEND;TZID=America/Vancouver:20270710T120000
DTSTAMP:20260423T173503
CREATED:20260115T010110Z
LAST-MODIFIED:20260115T010114Z
UID:10006005-1815213600-1815220800@qathet365.ca
SUMMARY:Caregiver Support Group
DESCRIPTION:Caring for someone with Alzheimer’s disease or other dementia can be a challenging and overwhelming task. This confidential support group is for caregivers of individuals living with dementia. Group members share experiences\, information\, and strategies\, while facilitators guide the group process. Administered by Four Tides Hospice Society
URL:https://qathet365.ca/event/caregiver-support-group-2/2027-07-10/
LOCATION:6975 Alberni St\, Powell River\, BC V8A 2B8\, Canada\, Powell River
CATEGORIES:SPIRITUALITY & WELLNESS
END:VEVENT
BEGIN:VEVENT
DTSTART;TZID=America/Vancouver:20270814T100000
DTEND;TZID=America/Vancouver:20270814T120000
DTSTAMP:20260423T173503
CREATED:20260115T010110Z
LAST-MODIFIED:20260115T010114Z
UID:10006006-1818237600-1818244800@qathet365.ca
SUMMARY:Caregiver Support Group
DESCRIPTION:Caring for someone with Alzheimer’s disease or other dementia can be a challenging and overwhelming task. This confidential support group is for caregivers of individuals living with dementia. Group members share experiences\, information\, and strategies\, while facilitators guide the group process. Administered by Four Tides Hospice Society
URL:https://qathet365.ca/event/caregiver-support-group-2/2027-08-14/
LOCATION:6975 Alberni St\, Powell River\, BC V8A 2B8\, Canada\, Powell River
CATEGORIES:SPIRITUALITY & WELLNESS
END:VEVENT
BEGIN:VEVENT
DTSTART;TZID=America/Vancouver:20270911T100000
DTEND;TZID=America/Vancouver:20270911T120000
DTSTAMP:20260423T173503
CREATED:20260115T010110Z
LAST-MODIFIED:20260115T010114Z
UID:10006007-1820656800-1820664000@qathet365.ca
SUMMARY:Caregiver Support Group
DESCRIPTION:Caring for someone with Alzheimer’s disease or other dementia can be a challenging and overwhelming task. This confidential support group is for caregivers of individuals living with dementia. Group members share experiences\, information\, and strategies\, while facilitators guide the group process. Administered by Four Tides Hospice Society
URL:https://qathet365.ca/event/caregiver-support-group-2/2027-09-11/
LOCATION:6975 Alberni St\, Powell River\, BC V8A 2B8\, Canada\, Powell River
CATEGORIES:SPIRITUALITY & WELLNESS
END:VEVENT
BEGIN:VEVENT
DTSTART;TZID=America/Vancouver:20271009T100000
DTEND;TZID=America/Vancouver:20271009T120000
DTSTAMP:20260423T173503
CREATED:20260115T010110Z
LAST-MODIFIED:20260115T010114Z
UID:10006008-1823076000-1823083200@qathet365.ca
SUMMARY:Caregiver Support Group
DESCRIPTION:Caring for someone with Alzheimer’s disease or other dementia can be a challenging and overwhelming task. This confidential support group is for caregivers of individuals living with dementia. Group members share experiences\, information\, and strategies\, while facilitators guide the group process. Administered by Four Tides Hospice Society
URL:https://qathet365.ca/event/caregiver-support-group-2/2027-10-09/
LOCATION:6975 Alberni St\, Powell River\, BC V8A 2B8\, Canada\, Powell River
CATEGORIES:SPIRITUALITY & WELLNESS
END:VEVENT
BEGIN:VEVENT
DTSTART;TZID=America/Vancouver:20271113T100000
DTEND;TZID=America/Vancouver:20271113T120000
DTSTAMP:20260423T173503
CREATED:20260115T010110Z
LAST-MODIFIED:20260115T010114Z
UID:10006009-1826100000-1826107200@qathet365.ca
SUMMARY:Caregiver Support Group
DESCRIPTION:Caring for someone with Alzheimer’s disease or other dementia can be a challenging and overwhelming task. This confidential support group is for caregivers of individuals living with dementia. Group members share experiences\, information\, and strategies\, while facilitators guide the group process. Administered by Four Tides Hospice Society
URL:https://qathet365.ca/event/caregiver-support-group-2/2027-11-13/
LOCATION:6975 Alberni St\, Powell River\, BC V8A 2B8\, Canada\, Powell River
CATEGORIES:SPIRITUALITY & WELLNESS
END:VEVENT
BEGIN:VEVENT
DTSTART;TZID=America/Vancouver:20271211T100000
DTEND;TZID=America/Vancouver:20271211T120000
DTSTAMP:20260423T173503
CREATED:20260115T010110Z
LAST-MODIFIED:20260115T010114Z
UID:10006010-1828519200-1828526400@qathet365.ca
SUMMARY:Caregiver Support Group
DESCRIPTION:Caring for someone with Alzheimer’s disease or other dementia can be a challenging and overwhelming task. This confidential support group is for caregivers of individuals living with dementia. Group members share experiences\, information\, and strategies\, while facilitators guide the group process. Administered by Four Tides Hospice Society
URL:https://qathet365.ca/event/caregiver-support-group-2/2027-12-11/
LOCATION:6975 Alberni St\, Powell River\, BC V8A 2B8\, Canada\, Powell River
CATEGORIES:SPIRITUALITY & WELLNESS
END:VEVENT
BEGIN:VEVENT
DTSTART;TZID=America/Vancouver:20280108T100000
DTEND;TZID=America/Vancouver:20280108T120000
DTSTAMP:20260423T173503
CREATED:20260115T010110Z
LAST-MODIFIED:20260115T010114Z
UID:10006011-1830938400-1830945600@qathet365.ca
SUMMARY:Caregiver Support Group
DESCRIPTION:Caring for someone with Alzheimer’s disease or other dementia can be a challenging and overwhelming task. This confidential support group is for caregivers of individuals living with dementia. Group members share experiences\, information\, and strategies\, while facilitators guide the group process. Administered by Four Tides Hospice Society
URL:https://qathet365.ca/event/caregiver-support-group-2/2028-01-08/
LOCATION:6975 Alberni St\, Powell River\, BC V8A 2B8\, Canada\, Powell River
CATEGORIES:SPIRITUALITY & WELLNESS
END:VEVENT
BEGIN:VEVENT
DTSTART;TZID=America/Vancouver:20280212T100000
DTEND;TZID=America/Vancouver:20280212T120000
DTSTAMP:20260423T173503
CREATED:20260115T010110Z
LAST-MODIFIED:20260115T010114Z
UID:10006012-1833962400-1833969600@qathet365.ca
SUMMARY:Caregiver Support Group
DESCRIPTION:Caring for someone with Alzheimer’s disease or other dementia can be a challenging and overwhelming task. This confidential support group is for caregivers of individuals living with dementia. Group members share experiences\, information\, and strategies\, while facilitators guide the group process. Administered by Four Tides Hospice Society
URL:https://qathet365.ca/event/caregiver-support-group-2/2028-02-12/
LOCATION:6975 Alberni St\, Powell River\, BC V8A 2B8\, Canada\, Powell River
CATEGORIES:SPIRITUALITY & WELLNESS
END:VEVENT
BEGIN:VEVENT
DTSTART;TZID=America/Vancouver:20280311T100000
DTEND;TZID=America/Vancouver:20280311T120000
DTSTAMP:20260423T173503
CREATED:20260115T010110Z
LAST-MODIFIED:20260115T010114Z
UID:10006013-1836381600-1836388800@qathet365.ca
SUMMARY:Caregiver Support Group
DESCRIPTION:Caring for someone with Alzheimer’s disease or other dementia can be a challenging and overwhelming task. This confidential support group is for caregivers of individuals living with dementia. Group members share experiences\, information\, and strategies\, while facilitators guide the group process. Administered by Four Tides Hospice Society
URL:https://qathet365.ca/event/caregiver-support-group-2/2028-03-11/
LOCATION:6975 Alberni St\, Powell River\, BC V8A 2B8\, Canada\, Powell River
CATEGORIES:SPIRITUALITY & WELLNESS
END:VEVENT
BEGIN:VEVENT
DTSTART;TZID=America/Vancouver:20280408T100000
DTEND;TZID=America/Vancouver:20280408T120000
DTSTAMP:20260423T173503
CREATED:20260115T010110Z
LAST-MODIFIED:20260115T010114Z
UID:10006014-1838800800-1838808000@qathet365.ca
SUMMARY:Caregiver Support Group
DESCRIPTION:Caring for someone with Alzheimer’s disease or other dementia can be a challenging and overwhelming task. This confidential support group is for caregivers of individuals living with dementia. Group members share experiences\, information\, and strategies\, while facilitators guide the group process. Administered by Four Tides Hospice Society
URL:https://qathet365.ca/event/caregiver-support-group-2/2028-04-08/
LOCATION:6975 Alberni St\, Powell River\, BC V8A 2B8\, Canada\, Powell River
CATEGORIES:SPIRITUALITY & WELLNESS
END:VEVENT
BEGIN:VEVENT
DTSTART;TZID=America/Vancouver:20280513T100000
DTEND;TZID=America/Vancouver:20280513T120000
DTSTAMP:20260423T173503
CREATED:20260115T010110Z
LAST-MODIFIED:20260115T010114Z
UID:10006015-1841824800-1841832000@qathet365.ca
SUMMARY:Caregiver Support Group
DESCRIPTION:Caring for someone with Alzheimer’s disease or other dementia can be a challenging and overwhelming task. This confidential support group is for caregivers of individuals living with dementia. Group members share experiences\, information\, and strategies\, while facilitators guide the group process. Administered by Four Tides Hospice Society
URL:https://qathet365.ca/event/caregiver-support-group-2/2028-05-13/
LOCATION:6975 Alberni St\, Powell River\, BC V8A 2B8\, Canada\, Powell River
CATEGORIES:SPIRITUALITY & WELLNESS
END:VEVENT
BEGIN:VEVENT
DTSTART;TZID=America/Vancouver:20280610T100000
DTEND;TZID=America/Vancouver:20280610T120000
DTSTAMP:20260423T173503
CREATED:20260115T010110Z
LAST-MODIFIED:20260115T010114Z
UID:10006016-1844244000-1844251200@qathet365.ca
SUMMARY:Caregiver Support Group
DESCRIPTION:Caring for someone with Alzheimer’s disease or other dementia can be a challenging and overwhelming task. This confidential support group is for caregivers of individuals living with dementia. Group members share experiences\, information\, and strategies\, while facilitators guide the group process. Administered by Four Tides Hospice Society
URL:https://qathet365.ca/event/caregiver-support-group-2/2028-06-10/
LOCATION:6975 Alberni St\, Powell River\, BC V8A 2B8\, Canada\, Powell River
CATEGORIES:SPIRITUALITY & WELLNESS
END:VEVENT
BEGIN:VEVENT
DTSTART;TZID=America/Vancouver:20280708T100000
DTEND;TZID=America/Vancouver:20280708T120000
DTSTAMP:20260423T173503
CREATED:20260115T010110Z
LAST-MODIFIED:20260115T010114Z
UID:10006017-1846663200-1846670400@qathet365.ca
SUMMARY:Caregiver Support Group
DESCRIPTION:Caring for someone with Alzheimer’s disease or other dementia can be a challenging and overwhelming task. This confidential support group is for caregivers of individuals living with dementia. Group members share experiences\, information\, and strategies\, while facilitators guide the group process. Administered by Four Tides Hospice Society
URL:https://qathet365.ca/event/caregiver-support-group-2/2028-07-08/
LOCATION:6975 Alberni St\, Powell River\, BC V8A 2B8\, Canada\, Powell River
CATEGORIES:SPIRITUALITY & WELLNESS
END:VEVENT
BEGIN:VEVENT
DTSTART;TZID=America/Vancouver:20280812T100000
DTEND;TZID=America/Vancouver:20280812T120000
DTSTAMP:20260423T173503
CREATED:20260115T010110Z
LAST-MODIFIED:20260115T010114Z
UID:10006018-1849687200-1849694400@qathet365.ca
SUMMARY:Caregiver Support Group
DESCRIPTION:Caring for someone with Alzheimer’s disease or other dementia can be a challenging and overwhelming task. This confidential support group is for caregivers of individuals living with dementia. Group members share experiences\, information\, and strategies\, while facilitators guide the group process. Administered by Four Tides Hospice Society
URL:https://qathet365.ca/event/caregiver-support-group-2/2028-08-12/
LOCATION:6975 Alberni St\, Powell River\, BC V8A 2B8\, Canada\, Powell River
CATEGORIES:SPIRITUALITY & WELLNESS
END:VEVENT
BEGIN:VEVENT
DTSTART;TZID=America/Vancouver:20280909T100000
DTEND;TZID=America/Vancouver:20280909T120000
DTSTAMP:20260423T173503
CREATED:20260115T010110Z
LAST-MODIFIED:20260115T010114Z
UID:10006019-1852106400-1852113600@qathet365.ca
SUMMARY:Caregiver Support Group
DESCRIPTION:Caring for someone with Alzheimer’s disease or other dementia can be a challenging and overwhelming task. This confidential support group is for caregivers of individuals living with dementia. Group members share experiences\, information\, and strategies\, while facilitators guide the group process. Administered by Four Tides Hospice Society
URL:https://qathet365.ca/event/caregiver-support-group-2/2028-09-09/
LOCATION:6975 Alberni St\, Powell River\, BC V8A 2B8\, Canada\, Powell River
CATEGORIES:SPIRITUALITY & WELLNESS
END:VEVENT
BEGIN:VEVENT
DTSTART;TZID=America/Vancouver:20281014T100000
DTEND;TZID=America/Vancouver:20281014T120000
DTSTAMP:20260423T173503
CREATED:20260115T010110Z
LAST-MODIFIED:20260115T010114Z
UID:10006020-1855130400-1855137600@qathet365.ca
SUMMARY:Caregiver Support Group
DESCRIPTION:Caring for someone with Alzheimer’s disease or other dementia can be a challenging and overwhelming task. This confidential support group is for caregivers of individuals living with dementia. Group members share experiences\, information\, and strategies\, while facilitators guide the group process. Administered by Four Tides Hospice Society
URL:https://qathet365.ca/event/caregiver-support-group-2/2028-10-14/
LOCATION:6975 Alberni St\, Powell River\, BC V8A 2B8\, Canada\, Powell River
CATEGORIES:SPIRITUALITY & WELLNESS
END:VEVENT
END:VCALENDAR