BEGIN:VCALENDAR
VERSION:2.0
PRODID:-//qathet 365 - ECPv6.15.20//NONSGML v1.0//EN
CALSCALE:GREGORIAN
METHOD:PUBLISH
X-WR-CALNAME:qathet 365
X-ORIGINAL-URL:https://qathet365.ca
X-WR-CALDESC:Events for qathet 365
REFRESH-INTERVAL;VALUE=DURATION:PT1H
X-Robots-Tag:noindex
X-PUBLISHED-TTL:PT1H
BEGIN:VTIMEZONE
TZID:America/Vancouver
BEGIN:DAYLIGHT
TZOFFSETFROM:-0800
TZOFFSETTO:-0700
TZNAME:PDT
DTSTART:20250309T100000
END:DAYLIGHT
BEGIN:STANDARD
TZOFFSETFROM:-0700
TZOFFSETTO:-0800
TZNAME:PST
DTSTART:20251102T090000
END:STANDARD
BEGIN:DAYLIGHT
TZOFFSETFROM:-0800
TZOFFSETTO:-0700
TZNAME:PDT
DTSTART:20260308T100000
END:DAYLIGHT
BEGIN:STANDARD
TZOFFSETFROM:-0700
TZOFFSETTO:-0800
TZNAME:PST
DTSTART:20261101T090000
END:STANDARD
BEGIN:DAYLIGHT
TZOFFSETFROM:-0800
TZOFFSETTO:-0700
TZNAME:PDT
DTSTART:20270314T100000
END:DAYLIGHT
BEGIN:STANDARD
TZOFFSETFROM:-0700
TZOFFSETTO:-0800
TZNAME:PST
DTSTART:20271107T090000
END:STANDARD
BEGIN:DAYLIGHT
TZOFFSETFROM:-0800
TZOFFSETTO:-0700
TZNAME:PDT
DTSTART:20280312T100000
END:DAYLIGHT
BEGIN:STANDARD
TZOFFSETFROM:-0700
TZOFFSETTO:-0800
TZNAME:PST
DTSTART:20281105T090000
END:STANDARD
BEGIN:DAYLIGHT
TZOFFSETFROM:-0800
TZOFFSETTO:-0700
TZNAME:PDT
DTSTART:20290311T100000
END:DAYLIGHT
BEGIN:STANDARD
TZOFFSETFROM:-0700
TZOFFSETTO:-0800
TZNAME:PST
DTSTART:20291104T090000
END:STANDARD
END:VTIMEZONE
BEGIN:VEVENT
DTSTART;TZID=America/Vancouver:20260512T100000
DTEND;TZID=America/Vancouver:20260512T120000
DTSTAMP:20260423T021615
CREATED:20260115T011037Z
LAST-MODIFIED:20260115T011040Z
UID:10006049-1778580000-1778587200@qathet365.ca
SUMMARY:Caregiver Support Group
DESCRIPTION:Caring for someone with Alzheimer’s disease or other dementia can be a challenging and overwhelming task. This confidential support group is for caregivers of individuals living with dementia. Group members share experiences\, information\, and strategies\, while facilitators guide the group process. Administered by Four Tides Hospice Society
URL:https://qathet365.ca/event/caregiver-support-group-3/2026-05-12/
LOCATION:6975 Alberni St\, Powell River\, BC V8A 2B8\, Canada\, Powell River
CATEGORIES:SPIRITUALITY & WELLNESS
END:VEVENT
BEGIN:VEVENT
DTSTART;TZID=America/Vancouver:20260609T100000
DTEND;TZID=America/Vancouver:20260609T120000
DTSTAMP:20260423T021615
CREATED:20260115T011037Z
LAST-MODIFIED:20260115T011040Z
UID:10006050-1780999200-1781006400@qathet365.ca
SUMMARY:Caregiver Support Group
DESCRIPTION:Caring for someone with Alzheimer’s disease or other dementia can be a challenging and overwhelming task. This confidential support group is for caregivers of individuals living with dementia. Group members share experiences\, information\, and strategies\, while facilitators guide the group process. Administered by Four Tides Hospice Society
URL:https://qathet365.ca/event/caregiver-support-group-3/2026-06-09/
LOCATION:6975 Alberni St\, Powell River\, BC V8A 2B8\, Canada\, Powell River
CATEGORIES:SPIRITUALITY & WELLNESS
END:VEVENT
BEGIN:VEVENT
DTSTART;TZID=America/Vancouver:20260714T100000
DTEND;TZID=America/Vancouver:20260714T120000
DTSTAMP:20260423T021615
CREATED:20260115T011037Z
LAST-MODIFIED:20260115T011040Z
UID:10006051-1784023200-1784030400@qathet365.ca
SUMMARY:Caregiver Support Group
DESCRIPTION:Caring for someone with Alzheimer’s disease or other dementia can be a challenging and overwhelming task. This confidential support group is for caregivers of individuals living with dementia. Group members share experiences\, information\, and strategies\, while facilitators guide the group process. Administered by Four Tides Hospice Society
URL:https://qathet365.ca/event/caregiver-support-group-3/2026-07-14/
LOCATION:6975 Alberni St\, Powell River\, BC V8A 2B8\, Canada\, Powell River
CATEGORIES:SPIRITUALITY & WELLNESS
END:VEVENT
BEGIN:VEVENT
DTSTART;TZID=America/Vancouver:20260811T100000
DTEND;TZID=America/Vancouver:20260811T120000
DTSTAMP:20260423T021615
CREATED:20260115T011037Z
LAST-MODIFIED:20260115T011040Z
UID:10006052-1786442400-1786449600@qathet365.ca
SUMMARY:Caregiver Support Group
DESCRIPTION:Caring for someone with Alzheimer’s disease or other dementia can be a challenging and overwhelming task. This confidential support group is for caregivers of individuals living with dementia. Group members share experiences\, information\, and strategies\, while facilitators guide the group process. Administered by Four Tides Hospice Society
URL:https://qathet365.ca/event/caregiver-support-group-3/2026-08-11/
LOCATION:6975 Alberni St\, Powell River\, BC V8A 2B8\, Canada\, Powell River
CATEGORIES:SPIRITUALITY & WELLNESS
END:VEVENT
BEGIN:VEVENT
DTSTART;TZID=America/Vancouver:20260908T100000
DTEND;TZID=America/Vancouver:20260908T120000
DTSTAMP:20260423T021615
CREATED:20260115T011037Z
LAST-MODIFIED:20260115T011040Z
UID:10006053-1788861600-1788868800@qathet365.ca
SUMMARY:Caregiver Support Group
DESCRIPTION:Caring for someone with Alzheimer’s disease or other dementia can be a challenging and overwhelming task. This confidential support group is for caregivers of individuals living with dementia. Group members share experiences\, information\, and strategies\, while facilitators guide the group process. Administered by Four Tides Hospice Society
URL:https://qathet365.ca/event/caregiver-support-group-3/2026-09-08/
LOCATION:6975 Alberni St\, Powell River\, BC V8A 2B8\, Canada\, Powell River
CATEGORIES:SPIRITUALITY & WELLNESS
END:VEVENT
BEGIN:VEVENT
DTSTART;TZID=America/Vancouver:20261013T100000
DTEND;TZID=America/Vancouver:20261013T120000
DTSTAMP:20260423T021615
CREATED:20260115T011037Z
LAST-MODIFIED:20260115T011040Z
UID:10006054-1791885600-1791892800@qathet365.ca
SUMMARY:Caregiver Support Group
DESCRIPTION:Caring for someone with Alzheimer’s disease or other dementia can be a challenging and overwhelming task. This confidential support group is for caregivers of individuals living with dementia. Group members share experiences\, information\, and strategies\, while facilitators guide the group process. Administered by Four Tides Hospice Society
URL:https://qathet365.ca/event/caregiver-support-group-3/2026-10-13/
LOCATION:6975 Alberni St\, Powell River\, BC V8A 2B8\, Canada\, Powell River
CATEGORIES:SPIRITUALITY & WELLNESS
END:VEVENT
BEGIN:VEVENT
DTSTART;TZID=America/Vancouver:20261110T100000
DTEND;TZID=America/Vancouver:20261110T120000
DTSTAMP:20260423T021615
CREATED:20260115T011037Z
LAST-MODIFIED:20260115T011040Z
UID:10006055-1794304800-1794312000@qathet365.ca
SUMMARY:Caregiver Support Group
DESCRIPTION:Caring for someone with Alzheimer’s disease or other dementia can be a challenging and overwhelming task. This confidential support group is for caregivers of individuals living with dementia. Group members share experiences\, information\, and strategies\, while facilitators guide the group process. Administered by Four Tides Hospice Society
URL:https://qathet365.ca/event/caregiver-support-group-3/2026-11-10/
LOCATION:6975 Alberni St\, Powell River\, BC V8A 2B8\, Canada\, Powell River
CATEGORIES:SPIRITUALITY & WELLNESS
END:VEVENT
BEGIN:VEVENT
DTSTART;TZID=America/Vancouver:20261208T100000
DTEND;TZID=America/Vancouver:20261208T120000
DTSTAMP:20260423T021615
CREATED:20260115T011037Z
LAST-MODIFIED:20260115T011040Z
UID:10006056-1796724000-1796731200@qathet365.ca
SUMMARY:Caregiver Support Group
DESCRIPTION:Caring for someone with Alzheimer’s disease or other dementia can be a challenging and overwhelming task. This confidential support group is for caregivers of individuals living with dementia. Group members share experiences\, information\, and strategies\, while facilitators guide the group process. Administered by Four Tides Hospice Society
URL:https://qathet365.ca/event/caregiver-support-group-3/2026-12-08/
LOCATION:6975 Alberni St\, Powell River\, BC V8A 2B8\, Canada\, Powell River
CATEGORIES:SPIRITUALITY & WELLNESS
END:VEVENT
BEGIN:VEVENT
DTSTART;TZID=America/Vancouver:20270112T100000
DTEND;TZID=America/Vancouver:20270112T120000
DTSTAMP:20260423T021615
CREATED:20260115T011037Z
LAST-MODIFIED:20260115T011040Z
UID:10006057-1799748000-1799755200@qathet365.ca
SUMMARY:Caregiver Support Group
DESCRIPTION:Caring for someone with Alzheimer’s disease or other dementia can be a challenging and overwhelming task. This confidential support group is for caregivers of individuals living with dementia. Group members share experiences\, information\, and strategies\, while facilitators guide the group process. Administered by Four Tides Hospice Society
URL:https://qathet365.ca/event/caregiver-support-group-3/2027-01-12/
LOCATION:6975 Alberni St\, Powell River\, BC V8A 2B8\, Canada\, Powell River
CATEGORIES:SPIRITUALITY & WELLNESS
END:VEVENT
BEGIN:VEVENT
DTSTART;TZID=America/Vancouver:20270209T100000
DTEND;TZID=America/Vancouver:20270209T120000
DTSTAMP:20260423T021615
CREATED:20260115T011037Z
LAST-MODIFIED:20260115T011040Z
UID:10006058-1802167200-1802174400@qathet365.ca
SUMMARY:Caregiver Support Group
DESCRIPTION:Caring for someone with Alzheimer’s disease or other dementia can be a challenging and overwhelming task. This confidential support group is for caregivers of individuals living with dementia. Group members share experiences\, information\, and strategies\, while facilitators guide the group process. Administered by Four Tides Hospice Society
URL:https://qathet365.ca/event/caregiver-support-group-3/2027-02-09/
LOCATION:6975 Alberni St\, Powell River\, BC V8A 2B8\, Canada\, Powell River
CATEGORIES:SPIRITUALITY & WELLNESS
END:VEVENT
BEGIN:VEVENT
DTSTART;TZID=America/Vancouver:20270309T100000
DTEND;TZID=America/Vancouver:20270309T120000
DTSTAMP:20260423T021615
CREATED:20260115T011037Z
LAST-MODIFIED:20260115T011040Z
UID:10006059-1804586400-1804593600@qathet365.ca
SUMMARY:Caregiver Support Group
DESCRIPTION:Caring for someone with Alzheimer’s disease or other dementia can be a challenging and overwhelming task. This confidential support group is for caregivers of individuals living with dementia. Group members share experiences\, information\, and strategies\, while facilitators guide the group process. Administered by Four Tides Hospice Society
URL:https://qathet365.ca/event/caregiver-support-group-3/2027-03-09/
LOCATION:6975 Alberni St\, Powell River\, BC V8A 2B8\, Canada\, Powell River
CATEGORIES:SPIRITUALITY & WELLNESS
END:VEVENT
BEGIN:VEVENT
DTSTART;TZID=America/Vancouver:20270413T100000
DTEND;TZID=America/Vancouver:20270413T120000
DTSTAMP:20260423T021615
CREATED:20260115T011037Z
LAST-MODIFIED:20260115T011040Z
UID:10006060-1807610400-1807617600@qathet365.ca
SUMMARY:Caregiver Support Group
DESCRIPTION:Caring for someone with Alzheimer’s disease or other dementia can be a challenging and overwhelming task. This confidential support group is for caregivers of individuals living with dementia. Group members share experiences\, information\, and strategies\, while facilitators guide the group process. Administered by Four Tides Hospice Society
URL:https://qathet365.ca/event/caregiver-support-group-3/2027-04-13/
LOCATION:6975 Alberni St\, Powell River\, BC V8A 2B8\, Canada\, Powell River
CATEGORIES:SPIRITUALITY & WELLNESS
END:VEVENT
BEGIN:VEVENT
DTSTART;TZID=America/Vancouver:20270511T100000
DTEND;TZID=America/Vancouver:20270511T120000
DTSTAMP:20260423T021615
CREATED:20260115T011037Z
LAST-MODIFIED:20260115T011040Z
UID:10006061-1810029600-1810036800@qathet365.ca
SUMMARY:Caregiver Support Group
DESCRIPTION:Caring for someone with Alzheimer’s disease or other dementia can be a challenging and overwhelming task. This confidential support group is for caregivers of individuals living with dementia. Group members share experiences\, information\, and strategies\, while facilitators guide the group process. Administered by Four Tides Hospice Society
URL:https://qathet365.ca/event/caregiver-support-group-3/2027-05-11/
LOCATION:6975 Alberni St\, Powell River\, BC V8A 2B8\, Canada\, Powell River
CATEGORIES:SPIRITUALITY & WELLNESS
END:VEVENT
BEGIN:VEVENT
DTSTART;TZID=America/Vancouver:20270608T100000
DTEND;TZID=America/Vancouver:20270608T120000
DTSTAMP:20260423T021615
CREATED:20260115T011037Z
LAST-MODIFIED:20260115T011040Z
UID:10006062-1812448800-1812456000@qathet365.ca
SUMMARY:Caregiver Support Group
DESCRIPTION:Caring for someone with Alzheimer’s disease or other dementia can be a challenging and overwhelming task. This confidential support group is for caregivers of individuals living with dementia. Group members share experiences\, information\, and strategies\, while facilitators guide the group process. Administered by Four Tides Hospice Society
URL:https://qathet365.ca/event/caregiver-support-group-3/2027-06-08/
LOCATION:6975 Alberni St\, Powell River\, BC V8A 2B8\, Canada\, Powell River
CATEGORIES:SPIRITUALITY & WELLNESS
END:VEVENT
BEGIN:VEVENT
DTSTART;TZID=America/Vancouver:20270713T100000
DTEND;TZID=America/Vancouver:20270713T120000
DTSTAMP:20260423T021615
CREATED:20260115T011037Z
LAST-MODIFIED:20260115T011040Z
UID:10006063-1815472800-1815480000@qathet365.ca
SUMMARY:Caregiver Support Group
DESCRIPTION:Caring for someone with Alzheimer’s disease or other dementia can be a challenging and overwhelming task. This confidential support group is for caregivers of individuals living with dementia. Group members share experiences\, information\, and strategies\, while facilitators guide the group process. Administered by Four Tides Hospice Society
URL:https://qathet365.ca/event/caregiver-support-group-3/2027-07-13/
LOCATION:6975 Alberni St\, Powell River\, BC V8A 2B8\, Canada\, Powell River
CATEGORIES:SPIRITUALITY & WELLNESS
END:VEVENT
BEGIN:VEVENT
DTSTART;TZID=America/Vancouver:20270810T100000
DTEND;TZID=America/Vancouver:20270810T120000
DTSTAMP:20260423T021615
CREATED:20260115T011037Z
LAST-MODIFIED:20260115T011040Z
UID:10006064-1817892000-1817899200@qathet365.ca
SUMMARY:Caregiver Support Group
DESCRIPTION:Caring for someone with Alzheimer’s disease or other dementia can be a challenging and overwhelming task. This confidential support group is for caregivers of individuals living with dementia. Group members share experiences\, information\, and strategies\, while facilitators guide the group process. Administered by Four Tides Hospice Society
URL:https://qathet365.ca/event/caregiver-support-group-3/2027-08-10/
LOCATION:6975 Alberni St\, Powell River\, BC V8A 2B8\, Canada\, Powell River
CATEGORIES:SPIRITUALITY & WELLNESS
END:VEVENT
BEGIN:VEVENT
DTSTART;TZID=America/Vancouver:20270914T100000
DTEND;TZID=America/Vancouver:20270914T120000
DTSTAMP:20260423T021615
CREATED:20260115T011037Z
LAST-MODIFIED:20260115T011040Z
UID:10006065-1820916000-1820923200@qathet365.ca
SUMMARY:Caregiver Support Group
DESCRIPTION:Caring for someone with Alzheimer’s disease or other dementia can be a challenging and overwhelming task. This confidential support group is for caregivers of individuals living with dementia. Group members share experiences\, information\, and strategies\, while facilitators guide the group process. Administered by Four Tides Hospice Society
URL:https://qathet365.ca/event/caregiver-support-group-3/2027-09-14/
LOCATION:6975 Alberni St\, Powell River\, BC V8A 2B8\, Canada\, Powell River
CATEGORIES:SPIRITUALITY & WELLNESS
END:VEVENT
BEGIN:VEVENT
DTSTART;TZID=America/Vancouver:20271012T100000
DTEND;TZID=America/Vancouver:20271012T120000
DTSTAMP:20260423T021615
CREATED:20260115T011037Z
LAST-MODIFIED:20260115T011040Z
UID:10006066-1823335200-1823342400@qathet365.ca
SUMMARY:Caregiver Support Group
DESCRIPTION:Caring for someone with Alzheimer’s disease or other dementia can be a challenging and overwhelming task. This confidential support group is for caregivers of individuals living with dementia. Group members share experiences\, information\, and strategies\, while facilitators guide the group process. Administered by Four Tides Hospice Society
URL:https://qathet365.ca/event/caregiver-support-group-3/2027-10-12/
LOCATION:6975 Alberni St\, Powell River\, BC V8A 2B8\, Canada\, Powell River
CATEGORIES:SPIRITUALITY & WELLNESS
END:VEVENT
BEGIN:VEVENT
DTSTART;TZID=America/Vancouver:20271109T100000
DTEND;TZID=America/Vancouver:20271109T120000
DTSTAMP:20260423T021615
CREATED:20260115T011037Z
LAST-MODIFIED:20260115T011040Z
UID:10006067-1825754400-1825761600@qathet365.ca
SUMMARY:Caregiver Support Group
DESCRIPTION:Caring for someone with Alzheimer’s disease or other dementia can be a challenging and overwhelming task. This confidential support group is for caregivers of individuals living with dementia. Group members share experiences\, information\, and strategies\, while facilitators guide the group process. Administered by Four Tides Hospice Society
URL:https://qathet365.ca/event/caregiver-support-group-3/2027-11-09/
LOCATION:6975 Alberni St\, Powell River\, BC V8A 2B8\, Canada\, Powell River
CATEGORIES:SPIRITUALITY & WELLNESS
END:VEVENT
BEGIN:VEVENT
DTSTART;TZID=America/Vancouver:20271214T100000
DTEND;TZID=America/Vancouver:20271214T120000
DTSTAMP:20260423T021615
CREATED:20260115T011037Z
LAST-MODIFIED:20260115T011040Z
UID:10006068-1828778400-1828785600@qathet365.ca
SUMMARY:Caregiver Support Group
DESCRIPTION:Caring for someone with Alzheimer’s disease or other dementia can be a challenging and overwhelming task. This confidential support group is for caregivers of individuals living with dementia. Group members share experiences\, information\, and strategies\, while facilitators guide the group process. Administered by Four Tides Hospice Society
URL:https://qathet365.ca/event/caregiver-support-group-3/2027-12-14/
LOCATION:6975 Alberni St\, Powell River\, BC V8A 2B8\, Canada\, Powell River
CATEGORIES:SPIRITUALITY & WELLNESS
END:VEVENT
BEGIN:VEVENT
DTSTART;TZID=America/Vancouver:20280111T100000
DTEND;TZID=America/Vancouver:20280111T120000
DTSTAMP:20260423T021615
CREATED:20260115T011037Z
LAST-MODIFIED:20260115T011040Z
UID:10006069-1831197600-1831204800@qathet365.ca
SUMMARY:Caregiver Support Group
DESCRIPTION:Caring for someone with Alzheimer’s disease or other dementia can be a challenging and overwhelming task. This confidential support group is for caregivers of individuals living with dementia. Group members share experiences\, information\, and strategies\, while facilitators guide the group process. Administered by Four Tides Hospice Society
URL:https://qathet365.ca/event/caregiver-support-group-3/2028-01-11/
LOCATION:6975 Alberni St\, Powell River\, BC V8A 2B8\, Canada\, Powell River
CATEGORIES:SPIRITUALITY & WELLNESS
END:VEVENT
BEGIN:VEVENT
DTSTART;TZID=America/Vancouver:20280208T100000
DTEND;TZID=America/Vancouver:20280208T120000
DTSTAMP:20260423T021615
CREATED:20260115T011037Z
LAST-MODIFIED:20260115T011040Z
UID:10006070-1833616800-1833624000@qathet365.ca
SUMMARY:Caregiver Support Group
DESCRIPTION:Caring for someone with Alzheimer’s disease or other dementia can be a challenging and overwhelming task. This confidential support group is for caregivers of individuals living with dementia. Group members share experiences\, information\, and strategies\, while facilitators guide the group process. Administered by Four Tides Hospice Society
URL:https://qathet365.ca/event/caregiver-support-group-3/2028-02-08/
LOCATION:6975 Alberni St\, Powell River\, BC V8A 2B8\, Canada\, Powell River
CATEGORIES:SPIRITUALITY & WELLNESS
END:VEVENT
BEGIN:VEVENT
DTSTART;TZID=America/Vancouver:20280314T100000
DTEND;TZID=America/Vancouver:20280314T120000
DTSTAMP:20260423T021615
CREATED:20260115T011037Z
LAST-MODIFIED:20260115T011040Z
UID:10006071-1836640800-1836648000@qathet365.ca
SUMMARY:Caregiver Support Group
DESCRIPTION:Caring for someone with Alzheimer’s disease or other dementia can be a challenging and overwhelming task. This confidential support group is for caregivers of individuals living with dementia. Group members share experiences\, information\, and strategies\, while facilitators guide the group process. Administered by Four Tides Hospice Society
URL:https://qathet365.ca/event/caregiver-support-group-3/2028-03-14/
LOCATION:6975 Alberni St\, Powell River\, BC V8A 2B8\, Canada\, Powell River
CATEGORIES:SPIRITUALITY & WELLNESS
END:VEVENT
BEGIN:VEVENT
DTSTART;TZID=America/Vancouver:20280411T100000
DTEND;TZID=America/Vancouver:20280411T120000
DTSTAMP:20260423T021615
CREATED:20260115T011037Z
LAST-MODIFIED:20260115T011040Z
UID:10006072-1839060000-1839067200@qathet365.ca
SUMMARY:Caregiver Support Group
DESCRIPTION:Caring for someone with Alzheimer’s disease or other dementia can be a challenging and overwhelming task. This confidential support group is for caregivers of individuals living with dementia. Group members share experiences\, information\, and strategies\, while facilitators guide the group process. Administered by Four Tides Hospice Society
URL:https://qathet365.ca/event/caregiver-support-group-3/2028-04-11/
LOCATION:6975 Alberni St\, Powell River\, BC V8A 2B8\, Canada\, Powell River
CATEGORIES:SPIRITUALITY & WELLNESS
END:VEVENT
BEGIN:VEVENT
DTSTART;TZID=America/Vancouver:20280509T100000
DTEND;TZID=America/Vancouver:20280509T120000
DTSTAMP:20260423T021615
CREATED:20260115T011037Z
LAST-MODIFIED:20260115T011040Z
UID:10006073-1841479200-1841486400@qathet365.ca
SUMMARY:Caregiver Support Group
DESCRIPTION:Caring for someone with Alzheimer’s disease or other dementia can be a challenging and overwhelming task. This confidential support group is for caregivers of individuals living with dementia. Group members share experiences\, information\, and strategies\, while facilitators guide the group process. Administered by Four Tides Hospice Society
URL:https://qathet365.ca/event/caregiver-support-group-3/2028-05-09/
LOCATION:6975 Alberni St\, Powell River\, BC V8A 2B8\, Canada\, Powell River
CATEGORIES:SPIRITUALITY & WELLNESS
END:VEVENT
BEGIN:VEVENT
DTSTART;TZID=America/Vancouver:20280613T100000
DTEND;TZID=America/Vancouver:20280613T120000
DTSTAMP:20260423T021615
CREATED:20260115T011037Z
LAST-MODIFIED:20260115T011040Z
UID:10006074-1844503200-1844510400@qathet365.ca
SUMMARY:Caregiver Support Group
DESCRIPTION:Caring for someone with Alzheimer’s disease or other dementia can be a challenging and overwhelming task. This confidential support group is for caregivers of individuals living with dementia. Group members share experiences\, information\, and strategies\, while facilitators guide the group process. Administered by Four Tides Hospice Society
URL:https://qathet365.ca/event/caregiver-support-group-3/2028-06-13/
LOCATION:6975 Alberni St\, Powell River\, BC V8A 2B8\, Canada\, Powell River
CATEGORIES:SPIRITUALITY & WELLNESS
END:VEVENT
BEGIN:VEVENT
DTSTART;TZID=America/Vancouver:20280711T100000
DTEND;TZID=America/Vancouver:20280711T120000
DTSTAMP:20260423T021615
CREATED:20260115T011037Z
LAST-MODIFIED:20260115T011040Z
UID:10006075-1846922400-1846929600@qathet365.ca
SUMMARY:Caregiver Support Group
DESCRIPTION:Caring for someone with Alzheimer’s disease or other dementia can be a challenging and overwhelming task. This confidential support group is for caregivers of individuals living with dementia. Group members share experiences\, information\, and strategies\, while facilitators guide the group process. Administered by Four Tides Hospice Society
URL:https://qathet365.ca/event/caregiver-support-group-3/2028-07-11/
LOCATION:6975 Alberni St\, Powell River\, BC V8A 2B8\, Canada\, Powell River
CATEGORIES:SPIRITUALITY & WELLNESS
END:VEVENT
BEGIN:VEVENT
DTSTART;TZID=America/Vancouver:20280808T100000
DTEND;TZID=America/Vancouver:20280808T120000
DTSTAMP:20260423T021615
CREATED:20260115T011037Z
LAST-MODIFIED:20260115T011040Z
UID:10006076-1849341600-1849348800@qathet365.ca
SUMMARY:Caregiver Support Group
DESCRIPTION:Caring for someone with Alzheimer’s disease or other dementia can be a challenging and overwhelming task. This confidential support group is for caregivers of individuals living with dementia. Group members share experiences\, information\, and strategies\, while facilitators guide the group process. Administered by Four Tides Hospice Society
URL:https://qathet365.ca/event/caregiver-support-group-3/2028-08-08/
LOCATION:6975 Alberni St\, Powell River\, BC V8A 2B8\, Canada\, Powell River
CATEGORIES:SPIRITUALITY & WELLNESS
END:VEVENT
BEGIN:VEVENT
DTSTART;TZID=America/Vancouver:20280912T100000
DTEND;TZID=America/Vancouver:20280912T120000
DTSTAMP:20260423T021615
CREATED:20260115T011037Z
LAST-MODIFIED:20260115T011040Z
UID:10006077-1852365600-1852372800@qathet365.ca
SUMMARY:Caregiver Support Group
DESCRIPTION:Caring for someone with Alzheimer’s disease or other dementia can be a challenging and overwhelming task. This confidential support group is for caregivers of individuals living with dementia. Group members share experiences\, information\, and strategies\, while facilitators guide the group process. Administered by Four Tides Hospice Society
URL:https://qathet365.ca/event/caregiver-support-group-3/2028-09-12/
LOCATION:6975 Alberni St\, Powell River\, BC V8A 2B8\, Canada\, Powell River
CATEGORIES:SPIRITUALITY & WELLNESS
END:VEVENT
BEGIN:VEVENT
DTSTART;TZID=America/Vancouver:20281010T100000
DTEND;TZID=America/Vancouver:20281010T120000
DTSTAMP:20260423T021615
CREATED:20260115T011037Z
LAST-MODIFIED:20260115T011040Z
UID:10006078-1854784800-1854792000@qathet365.ca
SUMMARY:Caregiver Support Group
DESCRIPTION:Caring for someone with Alzheimer’s disease or other dementia can be a challenging and overwhelming task. This confidential support group is for caregivers of individuals living with dementia. Group members share experiences\, information\, and strategies\, while facilitators guide the group process. Administered by Four Tides Hospice Society
URL:https://qathet365.ca/event/caregiver-support-group-3/2028-10-10/
LOCATION:6975 Alberni St\, Powell River\, BC V8A 2B8\, Canada\, Powell River
CATEGORIES:SPIRITUALITY & WELLNESS
END:VEVENT
END:VCALENDAR