BEGIN:VCALENDAR
VERSION:2.0
PRODID:-//qathet 365 - ECPv6.15.20//NONSGML v1.0//EN
CALSCALE:GREGORIAN
METHOD:PUBLISH
X-WR-CALNAME:qathet 365
X-ORIGINAL-URL:https://qathet365.ca
X-WR-CALDESC:Events for qathet 365
REFRESH-INTERVAL;VALUE=DURATION:PT1H
X-Robots-Tag:noindex
X-PUBLISHED-TTL:PT1H
BEGIN:VTIMEZONE
TZID:America/Vancouver
BEGIN:DAYLIGHT
TZOFFSETFROM:-0800
TZOFFSETTO:-0700
TZNAME:PDT
DTSTART:20250309T100000
END:DAYLIGHT
BEGIN:STANDARD
TZOFFSETFROM:-0700
TZOFFSETTO:-0800
TZNAME:PST
DTSTART:20251102T090000
END:STANDARD
BEGIN:DAYLIGHT
TZOFFSETFROM:-0800
TZOFFSETTO:-0700
TZNAME:PDT
DTSTART:20260308T100000
END:DAYLIGHT
BEGIN:STANDARD
TZOFFSETFROM:-0700
TZOFFSETTO:-0800
TZNAME:PST
DTSTART:20261101T090000
END:STANDARD
BEGIN:DAYLIGHT
TZOFFSETFROM:-0800
TZOFFSETTO:-0700
TZNAME:PDT
DTSTART:20270314T100000
END:DAYLIGHT
BEGIN:STANDARD
TZOFFSETFROM:-0700
TZOFFSETTO:-0800
TZNAME:PST
DTSTART:20271107T090000
END:STANDARD
END:VTIMEZONE
BEGIN:VEVENT
DTSTART;TZID=America/Vancouver:20260228T100000
DTEND;TZID=America/Vancouver:20260228T170000
DTSTAMP:20260419T191809
CREATED:20260222T190830Z
LAST-MODIFIED:20260222T190832Z
UID:10007049-1772272800-1772298000@qathet365.ca
SUMMARY:Refillery Walk-Through + How-To
DESCRIPTION:Curious about refilling but not sure where to start?  \n\n\n\nJoin us for a relaxed\, come-and-go tutorial where we’ll walk you through how our refillery works\, where to find everything\, and how easy it is to get started.  \n\n\n\nThis is a low-key\, friendly intro (no pressure to buy anything!) and a chance to ask questions\, browse\, and learn at your own pace. We know refilling can feel intimidating at first\, so we’re here to demystify the process and help you feel confident.  \n\n\n\nAttendees receive 10% off anything you find that day. \n\n\n\n Bring a pal Casual drop-in\, all welcome Date: Saturday\, Feb 28 Time: 10–5 Location: 6812 Alberni St Cost: Free  \n\n\n\nQuestions? DM us on Instagram. \n\n\n\n\n\n\n\n\n\n\n\n\n\n\n\n\n	Related
URL:https://qathet365.ca/event/refillery-walk-through-how-to/
CATEGORIES:COMMUNITY,ELDERS,FOOD & BUSINESS,KIDS AND FAMILY
END:VEVENT
END:VCALENDAR