BEGIN:VCALENDAR
VERSION:2.0
PRODID:-//qathet 365 - ECPv6.15.20//NONSGML v1.0//EN
CALSCALE:GREGORIAN
METHOD:PUBLISH
X-ORIGINAL-URL:https://qathet365.ca
X-WR-CALDESC:Events for qathet 365
REFRESH-INTERVAL;VALUE=DURATION:PT1H
X-Robots-Tag:noindex
X-PUBLISHED-TTL:PT1H
BEGIN:VTIMEZONE
TZID:America/Vancouver
BEGIN:DAYLIGHT
TZOFFSETFROM:-0800
TZOFFSETTO:-0700
TZNAME:PDT
DTSTART:20240310T100000
END:DAYLIGHT
BEGIN:STANDARD
TZOFFSETFROM:-0700
TZOFFSETTO:-0800
TZNAME:PST
DTSTART:20241103T090000
END:STANDARD
BEGIN:DAYLIGHT
TZOFFSETFROM:-0800
TZOFFSETTO:-0700
TZNAME:PDT
DTSTART:20250309T100000
END:DAYLIGHT
BEGIN:STANDARD
TZOFFSETFROM:-0700
TZOFFSETTO:-0800
TZNAME:PST
DTSTART:20251102T090000
END:STANDARD
BEGIN:DAYLIGHT
TZOFFSETFROM:-0800
TZOFFSETTO:-0700
TZNAME:PDT
DTSTART:20260308T100000
END:DAYLIGHT
BEGIN:STANDARD
TZOFFSETFROM:-0700
TZOFFSETTO:-0800
TZNAME:PST
DTSTART:20261101T090000
END:STANDARD
BEGIN:DAYLIGHT
TZOFFSETFROM:-0800
TZOFFSETTO:-0700
TZNAME:PDT
DTSTART:20270314T100000
END:DAYLIGHT
BEGIN:STANDARD
TZOFFSETFROM:-0700
TZOFFSETTO:-0800
TZNAME:PST
DTSTART:20271107T090000
END:STANDARD
END:VTIMEZONE
BEGIN:VEVENT
DTSTART;TZID=America/Vancouver:20260305T190000
DTEND;TZID=America/Vancouver:20260305T190000
DTSTAMP:20260424T073139
CREATED:20260213T211844Z
LAST-MODIFIED:20260213T211846Z
UID:10007035-1772737200-1772737200@qathet365.ca
SUMMARY:Pacific Baroque Festival Tour
DESCRIPTION:This intimate program of music for violin\, viola da gamba and guitar highlights the blossoming of Spanish baroque music after Spain’s “Golden Century”\, combining the diverse cultures of the Hapsburg Empire whilst drawing on Spain’s Moorish past.Marc Destrubé leads the trio “Modestine”.  \n\n\n\nMore info and tickets at:https://www.pacbaroque.com/islands-tour \n\n\n\nGeneral Admission: $30 + taxes and feesSeniors/Students: $25 + taxes + fees​ \n\n\n\nTickets available at the door. \n\n\n\nDoors open at 6:15 \n\n\n\n\n\n\n\n\n\n\n\n\n\n\n\n\n\n\n	Related
URL:https://qathet365.ca/event/pacific-baroque-festival-tour/
LOCATION:James Hall\, 7280 Kemano Street\, Powell River\, BC\, V8A 2K2
CATEGORIES:ARTS & ENTERTAINMENT,COMMUNITY,ELDERS,MUSIC, FILM & COMEDY
END:VEVENT
BEGIN:VEVENT
DTSTART;TZID=America/Vancouver:20251212T133000
DTEND;TZID=America/Vancouver:20251213T220000
DTSTAMP:20260424T073139
CREATED:20251207T214853Z
LAST-MODIFIED:20251207T214856Z
UID:10004610-1765546200-1765663200@qathet365.ca
SUMMARY:Carols by Candelight
DESCRIPTION:Carols by Candlelight returns to Powell River in 2025 for a weekend of choral music\, candlelight\, and community at Dwight Hall. Presented by the qathet Academy of Music and Arts\, the event runs December 12 and 13 with performances on Friday evening and Saturday afternoon and evening. Audiences can expect classic carols\, beautiful harmonies\, and a long-standing Powell River tradition that draws families back year after year. Tickets are available here. \n\n\n\n\n\n\n\n\n\n\n\n\n\n\n\n\n\n\n	Related
URL:https://qathet365.ca/event/carols-by-candelight/
LOCATION:Dwight Hall\, Walnut St\,\, Powell River\, BC\, V8A 5R2\, Canada
CATEGORIES:ARTS & ENTERTAINMENT,COMMUNITY,ELDERS,KIDS AND FAMILY,MUSIC, FILM & COMEDY
END:VEVENT
END:VCALENDAR