BEGIN:VCALENDAR
VERSION:2.0
PRODID:-//qathet 365 - ECPv6.15.20//NONSGML v1.0//EN
CALSCALE:GREGORIAN
METHOD:PUBLISH
X-ORIGINAL-URL:https://qathet365.ca
X-WR-CALDESC:Events for qathet 365
REFRESH-INTERVAL;VALUE=DURATION:PT1H
X-Robots-Tag:noindex
X-PUBLISHED-TTL:PT1H
BEGIN:VTIMEZONE
TZID:America/Vancouver
BEGIN:DAYLIGHT
TZOFFSETFROM:-0800
TZOFFSETTO:-0700
TZNAME:PDT
DTSTART:20240310T100000
END:DAYLIGHT
BEGIN:STANDARD
TZOFFSETFROM:-0700
TZOFFSETTO:-0800
TZNAME:PST
DTSTART:20241103T090000
END:STANDARD
BEGIN:DAYLIGHT
TZOFFSETFROM:-0800
TZOFFSETTO:-0700
TZNAME:PDT
DTSTART:20250309T100000
END:DAYLIGHT
BEGIN:STANDARD
TZOFFSETFROM:-0700
TZOFFSETTO:-0800
TZNAME:PST
DTSTART:20251102T090000
END:STANDARD
BEGIN:DAYLIGHT
TZOFFSETFROM:-0800
TZOFFSETTO:-0700
TZNAME:PDT
DTSTART:20260308T100000
END:DAYLIGHT
BEGIN:STANDARD
TZOFFSETFROM:-0700
TZOFFSETTO:-0800
TZNAME:PST
DTSTART:20261101T090000
END:STANDARD
END:VTIMEZONE
BEGIN:VEVENT
DTSTART;TZID=America/Vancouver:20251107T180000
DTEND;TZID=America/Vancouver:20251107T180000
DTSTAMP:20260423T160821
CREATED:20251102T203334Z
LAST-MODIFIED:20251102T203337Z
UID:10004532-1762538400-1762538400@qathet365.ca
SUMMARY:qathet Fiddler's Ceilidh Family Dance
DESCRIPTION:🎻Get ready to dance\, laugh\, and celebrate!The qathet Fiddlers invite you to their Fiddle Summit Fundraiser Ceilidh Family Dance\, a night of live music\, laughter\, and local spirit! \n\n\n\n🕕 Friday\, November 7th📍 Italian Hall – 5866 Lund Street🎶 Pipeband parade • Called dances • Live tunes • Drinks by Townsite Brewing • Snacks & smiles all night \n\n\n\nIt’s fun for all ages\, no dance skills needed\, just bring your joy and your dancing shoes! \n\n\n\n🎟️ Tickets at Townsite Brewing\, Dogworx Pet Ranch\, or goodvibrationsstrings.ca$25 adults | $10 kids 6–11 | 5 & under free \n\n\n\nLet’s fill the hall and make it a night to remember 💃🕺 \n\n\n\n\n\n\n\n\n\n\n\n\n\n\n\n\n\n\n\n\n\n\n	Related
URL:https://qathet365.ca/event/qathet-fiddlers-ceilidh-family-dance-2/
LOCATION:Italian Hall\, 5866 Lund\, POWELL RIVER\, BC\, Canada
CATEGORIES:ARTS & ENTERTAINMENT,COMMUNITY,ELDERS,FUNDRAISERS,KIDS AND FAMILY,MUSIC, FILM & COMEDY,YOUTH
ATTACH;FMTTYPE=image/jpeg:https://qathet365.ca/wp-content/uploads/2025/10/qathet-fiddlers-family-dance-events-qathet-powell-river.jpg
END:VEVENT
END:VCALENDAR