BEGIN:VCALENDAR
VERSION:2.0
PRODID:-//qathet 365 - ECPv6.15.20//NONSGML v1.0//EN
CALSCALE:GREGORIAN
METHOD:PUBLISH
X-ORIGINAL-URL:https://qathet365.ca
X-WR-CALDESC:Events for qathet 365
REFRESH-INTERVAL;VALUE=DURATION:PT1H
X-Robots-Tag:noindex
X-PUBLISHED-TTL:PT1H
BEGIN:VTIMEZONE
TZID:America/Vancouver
BEGIN:DAYLIGHT
TZOFFSETFROM:-0800
TZOFFSETTO:-0700
TZNAME:PDT
DTSTART:20250309T100000
END:DAYLIGHT
BEGIN:STANDARD
TZOFFSETFROM:-0700
TZOFFSETTO:-0800
TZNAME:PST
DTSTART:20251102T090000
END:STANDARD
BEGIN:DAYLIGHT
TZOFFSETFROM:-0800
TZOFFSETTO:-0700
TZNAME:PDT
DTSTART:20260308T100000
END:DAYLIGHT
BEGIN:STANDARD
TZOFFSETFROM:-0700
TZOFFSETTO:-0800
TZNAME:PST
DTSTART:20261101T090000
END:STANDARD
BEGIN:DAYLIGHT
TZOFFSETFROM:-0800
TZOFFSETTO:-0700
TZNAME:PDT
DTSTART:20270314T100000
END:DAYLIGHT
BEGIN:STANDARD
TZOFFSETFROM:-0700
TZOFFSETTO:-0800
TZNAME:PST
DTSTART:20271107T090000
END:STANDARD
END:VTIMEZONE
BEGIN:VEVENT
DTSTART;TZID=America/Vancouver:20260118T130000
DTEND;TZID=America/Vancouver:20260118T160000
DTSTAMP:20260419T173148
CREATED:20251213T231138Z
LAST-MODIFIED:20251213T231141Z
UID:10004885-1768741200-1768752000@qathet365.ca
SUMMARY: WORKSHOP: Alcohol Inks with Patricia Spark Explore the vibrant world of alcohol
DESCRIPTION:In this beginner-friendly workshop. Learn how to work with this fluid\, unpredictable medium as you experiment with colour blending\, movement\, and layering. You’ll create your own unique abstract artworks on tile and gain the confidence to keep exploring this expressive medium on your own. All materials provided. \n\n\n\n\n\n\n\n\n\n\n\n\n\n\n\n\n\n\n	Related
URL:https://qathet365.ca/event/workshop-alcohol-inks-with-patricia-spark-explore-the-vibrant-world-of-alcohol/
LOCATION:4488 Marine Ave  Powell River BC V8A 2K2\, Powell River
CATEGORIES:Art & Craft
END:VEVENT
END:VCALENDAR