BEGIN:VCALENDAR
VERSION:2.0
PRODID:-//qathet 365 - ECPv6.15.20//NONSGML v1.0//EN
CALSCALE:GREGORIAN
METHOD:PUBLISH
X-ORIGINAL-URL:https://qathet365.ca
X-WR-CALDESC:Events for qathet 365
REFRESH-INTERVAL;VALUE=DURATION:PT1H
X-Robots-Tag:noindex
X-PUBLISHED-TTL:PT1H
BEGIN:VTIMEZONE
TZID:America/Vancouver
BEGIN:DAYLIGHT
TZOFFSETFROM:-0800
TZOFFSETTO:-0700
TZNAME:PDT
DTSTART:20240310T100000
END:DAYLIGHT
BEGIN:STANDARD
TZOFFSETFROM:-0700
TZOFFSETTO:-0800
TZNAME:PST
DTSTART:20241103T090000
END:STANDARD
BEGIN:DAYLIGHT
TZOFFSETFROM:-0800
TZOFFSETTO:-0700
TZNAME:PDT
DTSTART:20250309T100000
END:DAYLIGHT
BEGIN:STANDARD
TZOFFSETFROM:-0700
TZOFFSETTO:-0800
TZNAME:PST
DTSTART:20251102T090000
END:STANDARD
BEGIN:DAYLIGHT
TZOFFSETFROM:-0800
TZOFFSETTO:-0700
TZNAME:PDT
DTSTART:20260308T100000
END:DAYLIGHT
BEGIN:STANDARD
TZOFFSETFROM:-0700
TZOFFSETTO:-0800
TZNAME:PST
DTSTART:20261101T090000
END:STANDARD
END:VTIMEZONE
BEGIN:VEVENT
DTSTART;TZID=America/Vancouver:20251212T170000
DTEND;TZID=America/Vancouver:20251213T200000
DTSTAMP:20260421T132738
CREATED:20251207T233532Z
LAST-MODIFIED:20251207T233536Z
UID:10004883-1765558800-1765656000@qathet365.ca
SUMMARY:Festival of Lights
DESCRIPTION:Free admission! Everyone welcome! \n\n\n\nFestival of Lights is a warm and welcoming community celebration hosted by AFqa (Association Francophone de qathet)\, bringing families and neighbours together to share music\, light\, and seasonal joy. The event combines cultural connection with a festive atmosphere\, creating a space where everyone can gather\, celebrate\, and enjoy the spirit of the season. \n\n\n\nFriday\, December 125:00 p.m. | Opening of the grounds \n\n\n\n\nOutdoor area: illuminated forest walk with treasure hunt\n\n\n\nCommunity hall: winter crafts\, hot chocolate\, drinks\, treats\, and a festive\, friendly atmosphere\n\n\n\nDJ Blaise on site with lively francophone holiday music\n\n\n\n\n6:30 p.m. | Visit from Santa Claus and gift for every child \n\n\n\n8:00 p.m. | Closing of the grounds \n\n\n\nSaturday\, December 135:00 – 8:00 p.m. | Outdoor illuminated forest walk \n\n\n\n\n\n\n\n\n\n\n\n\n\n\n\n\n\n\n	Related
URL:https://qathet365.ca/event/festival-of-lights/
LOCATION:AFqa  (Association Francophone de qathet)\, 5110 Manson Ave\, Powell River\, BC\, V8A 3P1\, Canada
CATEGORIES:COMMUNITY,ELDERS,KIDS AND FAMILY,YOUTH
END:VEVENT
END:VCALENDAR