BEGIN:VCALENDAR
VERSION:2.0
PRODID:-//qathet 365 - ECPv6.15.20//NONSGML v1.0//EN
CALSCALE:GREGORIAN
METHOD:PUBLISH
X-WR-CALNAME:qathet 365
X-ORIGINAL-URL:https://qathet365.ca
X-WR-CALDESC:Events for qathet 365
REFRESH-INTERVAL;VALUE=DURATION:PT1H
X-Robots-Tag:noindex
X-PUBLISHED-TTL:PT1H
BEGIN:VTIMEZONE
TZID:America/Vancouver
BEGIN:DAYLIGHT
TZOFFSETFROM:-0800
TZOFFSETTO:-0700
TZNAME:PDT
DTSTART:20250309T100000
END:DAYLIGHT
BEGIN:STANDARD
TZOFFSETFROM:-0700
TZOFFSETTO:-0800
TZNAME:PST
DTSTART:20251102T090000
END:STANDARD
BEGIN:DAYLIGHT
TZOFFSETFROM:-0800
TZOFFSETTO:-0700
TZNAME:PDT
DTSTART:20260308T100000
END:DAYLIGHT
BEGIN:STANDARD
TZOFFSETFROM:-0700
TZOFFSETTO:-0800
TZNAME:PST
DTSTART:20261101T090000
END:STANDARD
BEGIN:DAYLIGHT
TZOFFSETFROM:-0800
TZOFFSETTO:-0700
TZNAME:PDT
DTSTART:20270314T100000
END:DAYLIGHT
BEGIN:STANDARD
TZOFFSETFROM:-0700
TZOFFSETTO:-0800
TZNAME:PST
DTSTART:20271107T090000
END:STANDARD
END:VTIMEZONE
BEGIN:VEVENT
DTSTART;TZID=America/Vancouver:20260205T180000
DTEND;TZID=America/Vancouver:20260205T210000
DTSTAMP:20260422T095651
CREATED:20260122T021036Z
LAST-MODIFIED:20260122T021038Z
UID:10006376-1770314400-1770325200@qathet365.ca
SUMMARY:Galentine's Workshop
DESCRIPTION:Grab your girls and join Nicole of Bloom Therapy for this fun workshop where you’ll get to play with beautiful flowers as you make your own arrangement. Upon arrival\, you’ll receive your choice of a beverage (alcoholic or non-alcoholic) from the array of options available at Townsite Brewery and your own personal snack pack made fresh by Rosemary Lane.This special workshop aimed at celebrating your amazing girlfriends only happens once a year. Don’t delay and secure your spot. \n\n\n\n \n\n\n\n\n\n\n\n\n\n\n\n\n\n\n\n\n\n\n	Related
URL:https://qathet365.ca/event/galentines-workshop-2/
LOCATION:bloom therapy\, 5300 Yukon Avenue\, Powell River\, BC\, Canada\, Powell River
CATEGORIES:COMMUNITY
END:VEVENT
END:VCALENDAR