BEGIN:VCALENDAR
VERSION:2.0
PRODID:-//qathet 365 - ECPv6.15.20//NONSGML v1.0//EN
CALSCALE:GREGORIAN
METHOD:PUBLISH
X-WR-CALNAME:qathet 365
X-ORIGINAL-URL:https://qathet365.ca
X-WR-CALDESC:Events for qathet 365
REFRESH-INTERVAL;VALUE=DURATION:PT1H
X-Robots-Tag:noindex
X-PUBLISHED-TTL:PT1H
BEGIN:VTIMEZONE
TZID:America/Vancouver
BEGIN:DAYLIGHT
TZOFFSETFROM:-0800
TZOFFSETTO:-0700
TZNAME:PDT
DTSTART:20240310T100000
END:DAYLIGHT
BEGIN:STANDARD
TZOFFSETFROM:-0700
TZOFFSETTO:-0800
TZNAME:PST
DTSTART:20241103T090000
END:STANDARD
BEGIN:DAYLIGHT
TZOFFSETFROM:-0800
TZOFFSETTO:-0700
TZNAME:PDT
DTSTART:20250309T100000
END:DAYLIGHT
BEGIN:STANDARD
TZOFFSETFROM:-0700
TZOFFSETTO:-0800
TZNAME:PST
DTSTART:20251102T090000
END:STANDARD
BEGIN:DAYLIGHT
TZOFFSETFROM:-0800
TZOFFSETTO:-0700
TZNAME:PDT
DTSTART:20260308T100000
END:DAYLIGHT
BEGIN:STANDARD
TZOFFSETFROM:-0700
TZOFFSETTO:-0800
TZNAME:PST
DTSTART:20261101T090000
END:STANDARD
BEGIN:DAYLIGHT
TZOFFSETFROM:-0800
TZOFFSETTO:-0700
TZNAME:PDT
DTSTART:20270314T100000
END:DAYLIGHT
BEGIN:STANDARD
TZOFFSETFROM:-0700
TZOFFSETTO:-0800
TZNAME:PST
DTSTART:20271107T090000
END:STANDARD
END:VTIMEZONE
BEGIN:VEVENT
DTSTART;TZID=America/Vancouver:20260417T200000
DTEND;TZID=America/Vancouver:20260417T230000
DTSTAMP:20260419T103756
CREATED:20260402T013928Z
LAST-MODIFIED:20260402T013931Z
UID:10007430-1776456000-1776466800@qathet365.ca
SUMMARY:BCO a tribute to Bachman Turner Overdrive
DESCRIPTION:Age 19+ no minors. Advance Tickets available at Full Bug RECORDS\, Armitage Menswear and at The Carlson Club. \n\n\n\nFrom Takin’ Care of Business to Roll On down The Highway\, B C O plays all your favourites!!“You ain’t seen nothing yet” until you’ve seen Blue Collar Overdrive! \n\n\n\nThe Carlson Loft is an awesome place to enjoy bands with a cool dance floor\, cheap drinks\, a great stage with killer sight lines for everyone! Remember those great cabaret clubs from back in the 79s-80s? The Carlson Loft brings all of that right back at you. \n\n\n\n\n\n\n\n\n\n\n\n\n\n\n\n\n\n\n	Related
URL:https://qathet365.ca/event/bco-a-tribute-to-bachman-turner-overdrive/
LOCATION:Carlson Community Club\, 4463 Joyce Ave\, Powell River\, BC\, V8A3A8\, Canada
CATEGORIES:ARTS & ENTERTAINMENT,COMMUNITY,ELDERS,MUSIC, FILM & COMEDY
END:VEVENT
BEGIN:VEVENT
DTSTART;TZID=America/Vancouver:20260329T130000
DTEND;TZID=America/Vancouver:20260329T160000
DTSTAMP:20260419T103756
CREATED:20260313T005134Z
LAST-MODIFIED:20260313T005138Z
UID:10007361-1774789200-1774800000@qathet365.ca
SUMMARY:Grace House Fundraiser by Coastal Women in Business
DESCRIPTION:Coastal WIB is hosting our 3rd Annual Burger & Beer (or wine) Grace House Fundraiser at the Carlson Community Club on March 29th from 1-4pm. Please join us to support this worthy cause. Learn more about qathet Safe and have a little fun while we’re at it! \n\n\n\nTickets are $20 and include a side salad.Available for cash purchase at Mother Nature\, The Nutcracker Market or Primo’s Barber DenPurchase Online at https://coastalwib.com/events-up-coming/3rd-annual-grace-house-fundraiser \n\n\n\nThe event will include a silent auction and more! To donate please email coastalwib@gmail.comWe are also selling Purdy’s Chocolates online at https://fundraising.purdys.com/campaign/000025700 \n\n\n\nGrace House offers residential services for women/gender diverse people/transgender women\, their children and pets who are experiencing violence. Grace House empowers women through the provision of emotional and practical supports and resources. Learn more at http://www.qathetsafe.ca \n\n\n\n\n\n\n\n\n\n\n\n\n\n\n\n\n\n\n	Related
URL:https://qathet365.ca/event/grace-house-fundraiser-by-coastal-women-in-business/
LOCATION:Carlson Community Club\, 4463 Joyce Ave\, Powell River\, BC\, V8A3A8\, Canada
CATEGORIES:COMMUNITY,ELDERS
END:VEVENT
BEGIN:VEVENT
DTSTART;TZID=America/Vancouver:20260321T090000
DTEND;TZID=America/Vancouver:20260321T140000
DTSTAMP:20260419T103756
CREATED:20260313T000514Z
LAST-MODIFIED:20260313T000517Z
UID:10007357-1774083600-1774101600@qathet365.ca
SUMMARY:Carlson club Garage sale
DESCRIPTION:SPRING CLEANING AND NOT SURE WHAT TO DO WITH YOUR STUFF\, RENT A TABLE FOR $20 A TABLE….LIMITED AMOUNT OF TABLES SO BOOK EARLY \n\n\n\n\n\n\n\n\n\n\n\n\n\n\n\n\n\n\n	Related
URL:https://qathet365.ca/event/carlson-club-garage-sale/
LOCATION:Carlson Community Club\, 4463 Joyce Ave\, Powell River\, BC\, V8A3A8\, Canada
CATEGORIES:COMMUNITY
END:VEVENT
BEGIN:VEVENT
DTSTART;TZID=America/Vancouver:20260115T190000
DTEND;TZID=America/Vancouver:20260115T220000
DTSTAMP:20260419T103756
CREATED:20260108T005629Z
LAST-MODIFIED:20260108T005631Z
UID:10004924-1768503600-1768514400@qathet365.ca
SUMMARY:Thursday Night Live Number Four
DESCRIPTION:This Thursday Night Live event will be featuring Turn The 7 and El Camino\, two great local bands. Doors open at 7. Entrance by donation \n\n\n\n\n\n\n\n\n\n\n\n\n\n\n\n\n\n\n	Related
URL:https://qathet365.ca/event/thursday-night-live-number-four/
LOCATION:Carlson Community Club\, 4463 Joyce Ave\, Powell River\, BC\, V8A3A8\, Canada
CATEGORIES:ARTS & ENTERTAINMENT,COMMUNITY,MUSIC, FILM & COMEDY
END:VEVENT
BEGIN:VEVENT
DTSTART;TZID=America/Vancouver:20251231T190000
DTEND;TZID=America/Vancouver:20251231T190000
DTSTAMP:20260419T103756
CREATED:20251226T223148Z
LAST-MODIFIED:20251226T223151Z
UID:10004912-1767207600-1767207600@qathet365.ca
SUMMARY:New Years Eve with Shattered
DESCRIPTION:New Years Eve Wednesday Dec 31st at the Carlson Club!!!Ready to bring in the New Year at the Carlson Club?Our band to bring in 2026 will be Shattered.You are more than welcome to bring in an appy for your table as there will be no food available to purchase at the club.Doors open at 7pm!Tickets are available at the bar. $5.00 for members\, $10.00 for non-members.Safe rides home will be available for a donation. thanks to the Villa Soccer Club \n\n\n\n \n\n\n\n\n\n\n\n\n\n\n\n\n\n\n\n\n\n\n	Related
URL:https://qathet365.ca/event/new-years-eve-with-shattered/
LOCATION:Carlson Community Club\, 4463 Joyce Ave\, Powell River\, BC\, V8A3A8\, Canada
CATEGORIES:ARTS & ENTERTAINMENT,COMMUNITY,MUSIC, FILM & COMEDY
END:VEVENT
BEGIN:VEVENT
DTSTART;TZID=America/Vancouver:20251101T140000
DTEND;TZID=America/Vancouver:20251101T180000
DTSTAMP:20260419T103756
CREATED:20251029T182028Z
LAST-MODIFIED:20251029T182032Z
UID:10004517-1762005600-1762020000@qathet365.ca
SUMMARY:Community Ofrenda – Dia De Los Muertos
DESCRIPTION:A community Ofrenda or altar to commemorate and celebrate our loved ones who are no longer with us. \n\n\n\nYou are invited to bring a memento for the altar: a photograph\, special object\, flowers\, etc. \n\n\n\nFundraiser for Four Tides Hospice and hosted by Iguana’s Mexican Grill and Claudia Medina. \n\n\n\nThe ofrenda is a free\, all ages event. \n\n\n\nPlease note new venue this year at the Carlson Community Club \n\n\n\n🕯️This event is part of the 2025 Memento Mori festival.Visit qathetart.ca/memento-mori-festival-2025/ for more information. \n\n\n\n💀🌼 🏵️🧡🕯This community ofrenda is influenced by the Days of the Dead/Xantolo tradition of Mexico. There\, households commonly set up an altar space to welcome their loved ones returning from “el otro lado/Mictlan”\, the other side/realm of the dead. During these days our dearly departed are met with their favourite foods\, drinks\, and special objects so that they can feel connected to the land of the living. \n\n\n\nTraditionally\, the altar has flowers\, especially marigolds\, or cempoalxochitl\, with a potent scent that attracts the spirits. We place a cup of water to quench the thirst of the spirits who have travelled so far\, and candles to light their way. Incense\, especially copal\, is burned to cleanse the air of negative energy and make the spirits feel at home. Papel picado\, the decorative coloured paper represents the element of air\, which the spirits use to travel into the land of the living. Food\, especially fruits and chocolate represent earth\, the place where we grow our sustenance. In this way\, the ofrenda holds the elements fire\, air\, water and earth\, the fundamentals to life (and death) on this planet. Photos of our loved ones are placed on the altar\, so that we can remember and honour their lives. These are days of joy\, sadness\, love and honouring\, reminding us that we are all a part of the cycle of death and birth that makes each moment so precious. \n\n\n\nThe ofrendas are personal expressions of love created in a home\, as well as a collective honouring of family and ancestors when they are created in public spaces. Our grief is personal\, and yet our experience of grief and our own mortality is universal. We come together to share our personal grief and love for our loved ones who have left this world\, knowing that we are connected through these cycles of life and death. \n\n\n\nTlazohcamati – Thank you \n\n\n\n\n\n\n\n\n\n\n\n\n\n\n\n\n\n\n	Related
URL:https://qathet365.ca/event/community-ofrenda-dia-de-los-muertos/
LOCATION:Carlson Community Club\, 4463 Joyce Ave\, Powell River\, BC\, V8A3A8\, Canada
CATEGORIES:COMMUNITY,ELDERS,HALLOWEEN,KIDS AND FAMILY,SPIRITUALITY & WELLNESS,YOUTH
END:VEVENT
BEGIN:VEVENT
DTSTART;TZID=America/Vancouver:20250918T190000
DTEND;TZID=America/Vancouver:20250918T190000
DTSTAMP:20260419T103756
CREATED:20250808T195203Z
LAST-MODIFIED:20250808T195206Z
UID:10003147-1758222000-1758222000@qathet365.ca
SUMMARY:Thursday Night Live
DESCRIPTION:Thursday Night Live at the Carlson Loft\, featuring two great local bands\, Turn the 7\, and Potential Union. Every Thursday Night Live event will either be a benefit or a Fundraiser\, focused on helping the Creative Community. This event is focused on helping Diversa Collective. They are an incredibly talented group of people\, with Diverse talents and skills. Come on down to the show\, catch a couple of great local bands\, throw some money in the donation box\, for Diversa. They are an important part of our video productions\, and need some financial help with the upgrading of equipment. \n\n\n\n\n\n\n\n\n\n\n\n\n\n\n\n\n\n\n	Related
URL:https://qathet365.ca/event/thursday-night-live/
LOCATION:Carlson Community Club\, 4463 Joyce Ave\, Powell River\, BC\, V8A3A8\, Canada
CATEGORIES:ARTS & ENTERTAINMENT,COMMUNITY,FUNDRAISERS,MUSIC, FILM & COMEDY
END:VEVENT
BEGIN:VEVENT
DTSTART;TZID=America/Vancouver:20250714T200000
DTEND;TZID=America/Vancouver:20250714T230000
DTSTAMP:20260419T103756
CREATED:20250707T013849Z
LAST-MODIFIED:20250707T013851Z
UID:10002255-1752523200-1752534000@qathet365.ca
SUMMARY:Black Mountain at the Carlson Loft
DESCRIPTION:Black Mountain is a Canadian psychedelic rock band from Vancouver BC\, formed in 2004. The band consists of Stephen McBean\, Jeremy Schmidt\, Adam Bulgasem\, Amber Webber\, Arjan Miranda. Their music style combines elements of psychedelic rock\, stoner rock\, space rock\, progressive rock\, and alternative rock. \n\n\n\n\n\n\n\n\n\n\n\n\n\n\n\n\n\n\n	Related
URL:https://qathet365.ca/event/black-mountain-at-the-carlson-loft/
LOCATION:Carlson Community Club\, 4463 Joyce Ave\, Powell River\, BC\, V8A3A8\, Canada
CATEGORIES:ARTS & ENTERTAINMENT,COMMUNITY,ELDERS,MUSIC, FILM & COMEDY,YOUTH
END:VEVENT
BEGIN:VEVENT
DTSTART;TZID=America/Vancouver:20250619T190000
DTEND;TZID=America/Vancouver:20250619T220000
DTSTAMP:20260419T103756
CREATED:20250618T015840Z
LAST-MODIFIED:20250618T015843Z
UID:10001818-1750359600-1750370400@qathet365.ca
SUMMARY:Thursday Night Live - CJMP Fundraiser
DESCRIPTION:A benefit for CJMP 90.1 Community Radio. Community radio is very important to the Powell River qathet region. Come out and see a couple of really good local bands\, and make a donation for local community radio. Doors at 7pm. Bands start at 8pm. \n\n\n\n\n\n\n\n\n\n\n\n\n\n\n\n\n\n\n	Related
URL:https://qathet365.ca/event/thursday-night-live-cjmp-fundraiser/
LOCATION:Carlson Community Club\, 4463 Joyce Ave\, Powell River\, BC\, V8A3A8\, Canada
CATEGORIES:COMMUNITY,FUNDRAISERS,MUSIC, FILM & COMEDY
END:VEVENT
BEGIN:VEVENT
DTSTART;TZID=America/Vancouver:20250309T160000
DTEND;TZID=America/Vancouver:20250309T180000
DTSTAMP:20260419T103756
CREATED:20250308T191138Z
LAST-MODIFIED:20250308T191141Z
UID:10000858-1741536000-1741543200@qathet365.ca
SUMMARY:Grace House 2nd Annual Burger & Beer Fundraiser
DESCRIPTION:This is a burger and drink event with a raffle and silent auction to take place during the event.   \n\n\n\nA representative from Grace House will be available to speak and tell us more about Grace House and the amazing work they do for our city.  \n\n\n\nGrace House offers residential services for women/gender diverse people/transgender women\, their children and pets who are experiencing violence. Grace House empowers women through the provision of emotional and practical supports and resources. In addition to providing immediate shelter and help Grace House provides clothing\, housing\, food\, and transport to those who require it. \n\n\n\n\n\n\n\n\n\n\n\n\n\n\n\n\n\n\n	Related
URL:https://qathet365.ca/event/grace-house-2nd-annual-burger-beer-fundraiser/
LOCATION:Carlson Community Club\, 4463 Joyce Ave\, Powell River\, BC\, V8A3A8\, Canada
CATEGORIES:COMMUNITY,FOOD & BUSINESS,FUNDRAISERS
END:VEVENT
BEGIN:VEVENT
DTSTART;TZID=America/Vancouver:20250308T190000
DTEND;TZID=America/Vancouver:20250308T230000
DTSTAMP:20260419T103756
CREATED:20250207T031903Z
LAST-MODIFIED:20250207T031905Z
UID:10000127-1741460400-1741474800@qathet365.ca
SUMMARY:Night In New Orleans Fundraiser
DESCRIPTION:A night in New Orleans With all proceeds going to the food bank Food provided by blue agave tequila grill  \n\n\n\n\n\n\n\n\n\n\n\n\n	Related
URL:https://qathet365.ca/event/night-in-new-orleans-fundraiser/
LOCATION:Carlson Community Club\, 4463 Joyce Ave\, Powell River\, BC\, V8A3A8\, Canada
CATEGORIES:ARTS & ENTERTAINMENT,COMMUNITY,FOOD & BUSINESS,FUNDRAISERS,MUSIC, FILM & COMEDY
END:VEVENT
BEGIN:VEVENT
DTSTART;TZID=America/Vancouver:20250214T000000
DTEND;TZID=America/Vancouver:20250214T000000
DTSTAMP:20260419T103756
CREATED:20250207T031308Z
LAST-MODIFIED:20250207T031309Z
UID:10000126-1739491200-1739491200@qathet365.ca
SUMMARY:Valentines Day Dinner & Dance
DESCRIPTION:Featuring Paraside Steak and prawn dinner from 5-7pm\, band starts at 7:30 \n\n\n\n\n\n\n\n\n\n\n\n\n	Related
URL:https://qathet365.ca/event/valentines-day-dinner-dance/
LOCATION:Carlson Community Club\, 4463 Joyce Ave\, Powell River\, BC\, V8A3A8\, Canada
CATEGORIES:ARTS & ENTERTAINMENT,FOOD & BUSINESS,MUSIC, FILM & COMEDY
END:VEVENT
BEGIN:VEVENT
DTSTART;TZID=America/Vancouver:20250201T190000
DTEND;TZID=America/Vancouver:20250201T233000
DTSTAMP:20260419T103756
CREATED:20241231T231938Z
LAST-MODIFIED:20250101T000755Z
UID:10000020-1738436400-1738452600@qathet365.ca
SUMMARY:COMEDY NIGHT and Live Music
DESCRIPTION:A great night for comedy as the carlson club welcomes Nash Park and John Cullen. In support of PR Parents For Dance \n\n\n\n\n\n\n\n\n\n\n\n\n\n\n\n\n	Related
URL:https://qathet365.ca/event/comedy-night-and-live-music/
LOCATION:Carlson Community Club\, 4463 Joyce Ave\, Powell River\, BC\, V8A3A8\, Canada
CATEGORIES:ARTS & ENTERTAINMENT,COMMUNITY,ELDERS,FUNDRAISERS,MUSIC, FILM & COMEDY
ATTACH;FMTTYPE=image/webp:https://qathet365.ca/wp-content/uploads/2024/12/pexels-photo-713149.webp
END:VEVENT
BEGIN:VEVENT
DTSTART;TZID=America/Vancouver:20250201T190000
DTEND;TZID=America/Vancouver:20250201T210000
DTSTAMP:20260419T103756
CREATED:20250124T181407Z
LAST-MODIFIED:20250124T181409Z
UID:10000100-1738436400-1738443600@qathet365.ca
SUMMARY:John Cullen Comedy
DESCRIPTION:Veteran stand-up comedian John Cullen will bring comic-relief to folks in qathet. \n\n\n\n\n\n\n\n\n\n\n\n\n	Related
URL:https://qathet365.ca/event/john-cullen-comedy/
LOCATION:Carlson Community Club\, 4463 Joyce Ave\, Powell River\, BC\, V8A3A8\, Canada
CATEGORIES:ARTS & ENTERTAINMENT,COMMUNITY,FUNDRAISERS,KIDS AND FAMILY,MUSIC, FILM & COMEDY
END:VEVENT
BEGIN:VEVENT
DTSTART;TZID=America/Vancouver:20250131T200000
DTEND;TZID=America/Vancouver:20250131T230000
DTSTAMP:20260419T103756
CREATED:20250102T005025Z
LAST-MODIFIED:20250102T005028Z
UID:10000036-1738353600-1738364400@qathet365.ca
SUMMARY:MRS. HENRY AT THE CARLSON LOFT
DESCRIPTION:Illustrious rock roots and a legacy honouring sound\, MRS HENRY is a hard touring quintet from Southern California who captivate audiences from Mexico City to Toronto and beyond. With authenticity as a compass\, their musical bond mirrors a magical brotherhood revealed in spirited harmonies psychoactive jams\, and uplifting anthems that elevate the band and their ever expanding audience into the sonic atmosphere. \n\n\n\n \n\n\n\n\n\n\n\n\n\n\n\n\n	Related
URL:https://qathet365.ca/event/mrs-henry-at-the-carlson-loft/
LOCATION:Carlson Community Club\, 4463 Joyce Ave\, Powell River\, BC\, V8A3A8\, Canada
CATEGORIES:ARTS & ENTERTAINMENT,MUSIC, FILM & COMEDY
END:VEVENT
BEGIN:VEVENT
DTSTART;TZID=America/Vancouver:20250118T180000
DTEND;TZID=America/Vancouver:20250118T210000
DTSTAMP:20260419T103756
CREATED:20250113T200658Z
LAST-MODIFIED:20250113T200702Z
UID:10000083-1737223200-1737234000@qathet365.ca
SUMMARY:The Saturday Jam
DESCRIPTION:The Carlson Community Club Saturday Jam. Every Saturday from 6pm – 9pm (BBQ Burgers available for purchase until 8pm) \n\n\n\n\n\n\n\n \n\n\n\n\n\n\n\n\n\n\n\n\n	Related
URL:https://qathet365.ca/event/the-saturday-jam/
LOCATION:Carlson Community Club\, 4463 Joyce Ave\, Powell River\, BC\, V8A3A8\, Canada
CATEGORIES:ARTS & ENTERTAINMENT,FOOD & BUSINESS,MUSIC, FILM & COMEDY
ORGANIZER;CN="Carlson Community Club":MAILTO:carlsoncommunityclub@gmail.com
END:VEVENT
BEGIN:VEVENT
DTSTART;TZID=America/Vancouver:20250118T170000
DTEND;TZID=America/Vancouver:20250118T233000
DTSTAMP:20260419T103756
CREATED:20250104T051453Z
LAST-MODIFIED:20250110T012859Z
UID:10000066-1737219600-1737243000@qathet365.ca
SUMMARY:LOHRI NIGHT
DESCRIPTION:Join us for an evening filled with joy\, warmth\, and festive vibes as we celebrate Lohri together. Enjoy unlimited food\, lively music\, and unforgettable moments. Let’s start the year on a high note—your presence will make the celebration even more special. We can’t wait to celebrate with you!FEATURING DJ SHAH!Ticket Sales End January 16th  \n\n\n\n\n\n\n\n\n\n\n\n\n	Related
URL:https://qathet365.ca/event/lohri-night/
LOCATION:Carlson Community Club\, 4463 Joyce Ave\, Powell River\, BC\, V8A3A8\, Canada
CATEGORIES:COMMUNITY,FOOD & BUSINESS,KIDS AND FAMILY,MUSIC, FILM & COMEDY
ATTACH;FMTTYPE=image/webp:https://qathet365.ca/wp-content/uploads/2025/01/Lohri-Celebration-1.webp
END:VEVENT
END:VCALENDAR