BEGIN:VCALENDAR
VERSION:2.0
PRODID:-//qathet 365 - ECPv6.15.20//NONSGML v1.0//EN
CALSCALE:GREGORIAN
METHOD:PUBLISH
X-WR-CALNAME:qathet 365
X-ORIGINAL-URL:https://qathet365.ca
X-WR-CALDESC:Events for qathet 365
REFRESH-INTERVAL;VALUE=DURATION:PT1H
X-Robots-Tag:noindex
X-PUBLISHED-TTL:PT1H
BEGIN:VTIMEZONE
TZID:America/Vancouver
BEGIN:DAYLIGHT
TZOFFSETFROM:-0800
TZOFFSETTO:-0700
TZNAME:PDT
DTSTART:20240310T100000
END:DAYLIGHT
BEGIN:STANDARD
TZOFFSETFROM:-0700
TZOFFSETTO:-0800
TZNAME:PST
DTSTART:20241103T090000
END:STANDARD
BEGIN:DAYLIGHT
TZOFFSETFROM:-0800
TZOFFSETTO:-0700
TZNAME:PDT
DTSTART:20250309T100000
END:DAYLIGHT
BEGIN:STANDARD
TZOFFSETFROM:-0700
TZOFFSETTO:-0800
TZNAME:PST
DTSTART:20251102T090000
END:STANDARD
BEGIN:DAYLIGHT
TZOFFSETFROM:-0800
TZOFFSETTO:-0700
TZNAME:PDT
DTSTART:20260308T100000
END:DAYLIGHT
BEGIN:STANDARD
TZOFFSETFROM:-0700
TZOFFSETTO:-0800
TZNAME:PST
DTSTART:20261101T090000
END:STANDARD
END:VTIMEZONE
BEGIN:VEVENT
DTSTART;TZID=America/Vancouver:20251031T200000
DTEND;TZID=America/Vancouver:20251101T020000
DTSTAMP:20260419T172022
CREATED:20251022T225317Z
LAST-MODIFIED:20251022T225321Z
UID:10004476-1761940800-1761962400@qathet365.ca
SUMMARY:THE HAUNTED BALL
DESCRIPTION:The Haunted Ball \n\n\n\n\n\n\n\n Fully Immersive Halloween Dance Experience! Costume Contest and Prizes!  \n\n\n\n\n\n\n\nFast Bar service $5 Drinks  \n\n\n\n\n\n\n\nDJ and a special guest appearance of the Bonedaddy Quintet!  \n\n\n\n\n\n\n\nTickets available at 32 Lakes and River City Coffee! \n\n\n\n\n\n\n\n\n\n\n\n\n\n\n\n\n\n\n	Related
URL:https://qathet365.ca/event/the-haunted-ball/
LOCATION:Dwight Hall\, Walnut St\,\, Powell River\, BC\, V8A 5R2\, Canada
CATEGORIES:ARTS & ENTERTAINMENT,COMMUNITY,FOOD & BUSINESS,MUSIC, FILM & COMEDY
END:VEVENT
BEGIN:VEVENT
DTSTART;TZID=America/Vancouver:20251011T200000
DTEND;TZID=America/Vancouver:20251011T200000
DTSTAMP:20260419T172022
CREATED:20251009T190555Z
LAST-MODIFIED:20251009T190559Z
UID:10004461-1760212800-1760212800@qathet365.ca
SUMMARY:Vampire Masqueerade
DESCRIPTION:Get ready to sink your fangs into the night at Dwight Hall for the Vampire Masqueerade – dj’s\, dancing\, and drag with AndrogynAss \n\n\n\nWe’re back for the annual Vampire Masqueerade\, Saturday October 11th at 8pm\, and this year with performances by Vancouver’s Next Drag Superstar 2024 \, AndrogynAss! \n\n\n\nWhat to Wear: \n\n\n\nMasques\, fangs\, and vampire couture highly encouraged\, let the dark night seduce your inner vampire. \n\n\n\nWhat to Expect: \n\n\n\nDj’s\, dancing\, go-go dancers\, drag performances. \n\n\n\nElixir Bar: \n\n\n\nMocktail style drinks\, decadent and wickedly delicious \n\n\n\nAllies are Welcome: \n\n\n\nAllies are welcome at this event. The presence of allies helps dismantle stigma and creates community and understanding. When attending\, allies should be mindful of the space\, show respect\, and use any priviledge to support the queer community. And volunteer if you have capacity! \n\n\n\nLow-Stim Room: \n\n\n\nA space for individuals to reduce and manage sensory over-load \n\n\n\nDoors open at 7:30 for a softer quieter ease into the night with smooth beats and easier lighting. \n\n\n\nVisibility and Expression: \n\n\n\nMust be 19+ with ID. It can be a common site at queer events to see scantily-clad individuals as a way to express freedom\, challenge norms\, and celebrate queer identity. Please respect the culture. \n\n\n\nThank you for getting an advance ticket to support qathet Pride Society! Sliding-scale tickets start at $20. \n\n\n\nPaper tickets available at Oceanside Entertainment and The Nutcracker Market \n\n\n\nElectronic tickets are available on Eventbrite. \n\n\n\n\n\n\n\n\n\n\n\n\n\n\n\n\n\n\n	Related
URL:https://qathet365.ca/event/vampire-masqueerade/
LOCATION:Dwight Hall\, Walnut St\,\, Powell River\, BC\, V8A 5R2\, Canada
CATEGORIES:ARTS & ENTERTAINMENT,COMMUNITY,FUNDRAISERS,MUSIC, FILM & COMEDY
ATTACH;FMTTYPE=image/jpeg:https://qathet365.ca/wp-content/uploads/2025/10/IMG_2954.jpeg
END:VEVENT
BEGIN:VEVENT
DTSTART;TZID=America/Vancouver:20250621T110000
DTEND;TZID=America/Vancouver:20250621T140000
DTSTAMP:20260419T172022
CREATED:20250504T025656Z
LAST-MODIFIED:20250504T025700Z
UID:10001318-1750503600-1750514400@qathet365.ca
SUMMARY:EMERGENCE - A Summer Solstice Fundraiser for qathet SAFE
DESCRIPTION:Join us in person at Dwight Hall and online from anywhere in the world ~ for ~ EMERGENCE – A Spring Equinox Fundraiser for qathet SAFE! \n\n\n\nOur New Year event in January was such a massive success\, with 100 local women joining us and $1000 raised for our amazing qathet SAFE ~ so we’re inspired to do it again! \n\n\n\nThis time we’re going ever bigger and better and we can’t wait to see you. \n\n\n\nLet us spoil you with amazing movement\, deeply inspiring beats\, beautiful sacred sound and lots of yumminess! \n\n\n\nYou do not want to miss this. \n\n\n\nInvite your mothers\, daughters\, sisters\, aunties\, nieces and besties! Let’s double our numbers and pack the hall with our magical vibes\, like never before! \n\n\n\nWhat to expect: \n\n\n\nMs Alice making movement magic with her local crew!DJ Rowan on the decksMedicinal cacao to set the vibeLive vocalsSacred Circle for meditation and intentionsGift bags for all\, with tonnes of special treatsTransformative community experience and cash for qathetSAFE! \n\n\n\nThis is a woman only\, all ages\, all abilities event. \n\n\n\n\n\n\n\n\n\n\n\n\n\n\n\n\n\n\n	Related
URL:https://qathet365.ca/event/emergence-a-summer-solstice-fundraiser-for-qathet-safe/
LOCATION:Dwight Hall\, Walnut St\,\, Powell River\, BC\, V8A 5R2\, Canada
CATEGORIES:ARTS & ENTERTAINMENT,COMMUNITY,FUNDRAISERS
END:VEVENT
BEGIN:VEVENT
DTSTART;TZID=America/Vancouver:20250405T183000
DTEND;TZID=America/Vancouver:20250405T220000
DTSTAMP:20260419T172022
CREATED:20250323T212234Z
LAST-MODIFIED:20250323T212236Z
UID:10001096-1743877800-1743890400@qathet365.ca
SUMMARY:Chamber of Commerce Banquet and Awards Presentation
DESCRIPTION:Related
URL:https://qathet365.ca/event/chamber-of-commerce-banquet-and-awards-presentation/
LOCATION:Dwight Hall\, Walnut St\,\, Powell River\, BC\, V8A 5R2\, Canada
CATEGORIES:COMMUNITY
END:VEVENT
BEGIN:VEVENT
DTSTART;TZID=America/Vancouver:20250308T100000
DTEND;TZID=America/Vancouver:20250308T150000
DTSTAMP:20260419T172022
CREATED:20250113T205437Z
LAST-MODIFIED:20250113T205441Z
UID:10000085-1741428000-1741446000@qathet365.ca
SUMMARY:Seedy Saturday
DESCRIPTION: Ellen de CasmakerSeedy Saturday March 8th from 10 to 3 at Dwight hall. Workshops\, silent auction\, seed swap and garden vendors. If you would like to volunteer please contact 604 487-1304\n\n\n\n \n\n\n\n\n\n\n\n\n\n\n\n\n	Related
URL:https://qathet365.ca/event/seedy-saturday-2/
LOCATION:Dwight Hall\, Walnut St\,\, Powell River\, BC\, V8A 5R2\, Canada
CATEGORIES:Art & Craft,COMMUNITY,ELDERS,FOOD & BUSINESS
END:VEVENT
BEGIN:VEVENT
DTSTART;TZID=America/Vancouver:20250222T200000
DTEND;TZID=America/Vancouver:20250222T230000
DTSTAMP:20260419T172022
CREATED:20250214T204105Z
LAST-MODIFIED:20250214T204107Z
UID:10000151-1740254400-1740265200@qathet365.ca
SUMMARY:Out in the Wild - Dance Party
DESCRIPTION:Bring your authentic wild side out\, whatever that means to you… a wild tiger? a sexy forest dweller? …come celebrate queer culture! \n\n\n\nDoors open at 7:30. music at 8. 18+ event. Elixir bar. Bring your own wild side and lets dance\, party\, and celebrate queer culture. \n\n\n\n\n\n\n\n\n\n\n\n\n	Related
URL:https://qathet365.ca/event/out-in-the-wild-dance-party/
LOCATION:Dwight Hall\, Walnut St\,\, Powell River\, BC\, V8A 5R2\, Canada
CATEGORIES:ARTS & ENTERTAINMENT,COMMUNITY,MUSIC, FILM & COMEDY
END:VEVENT
BEGIN:VEVENT
DTSTART;TZID=America/Vancouver:20250114T180000
DTEND;TZID=America/Vancouver:20250114T200000
DTSTAMP:20260419T172022
CREATED:20250105T010702Z
LAST-MODIFIED:20250105T024927Z
UID:10000070-1736877600-1736884800@qathet365.ca
SUMMARY:Pierre Poilievre "Axe The Tax" Rally
DESCRIPTION:Official leader of the opposition the honourable Pierre Poilieve will be in Powell River for an “Axe The Tax Ralley”  \n\n\n\n\n\n\n\n\n\n\n\n\n\n \n\n\n	Related
URL:https://qathet365.ca/event/pierre-poilievre-axe-the-tax-rally/
LOCATION:Dwight Hall\, Walnut St\,\, Powell River\, BC\, V8A 5R2\, Canada
CATEGORIES:COMMUNITY,ELDERS,KIDS AND FAMILY,YOUTH
ATTACH;FMTTYPE=image/webp:https://qathet365.ca/wp-content/uploads/2025/01/pexels-photo-756790.webp
END:VEVENT
BEGIN:VEVENT
DTSTART;TZID=America/Vancouver:20250101T060000
DTEND;TZID=America/Vancouver:20250101T170000
DTSTAMP:20260419T172022
CREATED:20241125T231918Z
LAST-MODIFIED:20241231T195250Z
UID:10000001-1735711200-1735750800@qathet365.ca
SUMMARY:Q365 Launch Day
DESCRIPTION:Logo for Event\n\n\n\n\n\n	Related
URL:https://qathet365.ca/event/q365-launch-day/
LOCATION:Dwight Hall\, Walnut St\,\, Powell River\, BC\, V8A 5R2\, Canada
CATEGORIES:Art & Craft,ARTS & ENTERTAINMENT,COMMUNITY,ELDERS,FUNDRAISERS,KIDS AND FAMILY,MUSIC, FILM & COMEDY,OUTDOORS,SPORTS & OUTDOORS,YOUTH,YOUTH SPORTS
ATTACH;FMTTYPE=image/webp:https://qathet365.ca/wp-content/uploads/2024/11/Screen-Shot-2024-11-21-at-5.22.04-PM.webp
END:VEVENT
END:VCALENDAR