BEGIN:VCALENDAR
VERSION:2.0
PRODID:-//qathet 365 - ECPv6.15.20//NONSGML v1.0//EN
CALSCALE:GREGORIAN
METHOD:PUBLISH
X-ORIGINAL-URL:https://qathet365.ca
X-WR-CALDESC:Events for qathet 365
REFRESH-INTERVAL;VALUE=DURATION:PT1H
X-Robots-Tag:noindex
X-PUBLISHED-TTL:PT1H
BEGIN:VTIMEZONE
TZID:America/Vancouver
BEGIN:DAYLIGHT
TZOFFSETFROM:-0800
TZOFFSETTO:-0700
TZNAME:PDT
DTSTART:20250309T100000
END:DAYLIGHT
BEGIN:STANDARD
TZOFFSETFROM:-0700
TZOFFSETTO:-0800
TZNAME:PST
DTSTART:20251102T090000
END:STANDARD
BEGIN:DAYLIGHT
TZOFFSETFROM:-0800
TZOFFSETTO:-0700
TZNAME:PDT
DTSTART:20260308T100000
END:DAYLIGHT
BEGIN:STANDARD
TZOFFSETFROM:-0700
TZOFFSETTO:-0800
TZNAME:PST
DTSTART:20261101T090000
END:STANDARD
BEGIN:DAYLIGHT
TZOFFSETFROM:-0800
TZOFFSETTO:-0700
TZNAME:PDT
DTSTART:20270314T100000
END:DAYLIGHT
BEGIN:STANDARD
TZOFFSETFROM:-0700
TZOFFSETTO:-0800
TZNAME:PST
DTSTART:20271107T090000
END:STANDARD
END:VTIMEZONE
BEGIN:VEVENT
DTSTART;TZID=America/Vancouver:20260414T190000
DTEND;TZID=America/Vancouver:20260414T200000
DTSTAMP:20260422T095712
CREATED:20260310T033430Z
LAST-MODIFIED:20260310T033504Z
UID:10007341-1776193200-1776196800@qathet365.ca
SUMMARY:Let's Speak Spanish!
DESCRIPTION:Build confidence speaking Spanish at Let’s Speak Spanish\, a welcoming weekly conversation group at El Centro. \n\n\n\nLed by native Spanish speaker Miriam\, this five-week series is designed to help participants practice and improve their Spanish in a relaxed\, supportive environment. Each session includes guided conversation topics\, practical language exercises\, and opportunities for participants to speak and interact at their own level. \n\n\n\nThe sessions focus on real conversation practice while helping participants strengthen vocabulary\, pronunciation\, and listening skills. \n\n\n\nA Mexican appetizer will be served at each gathering\, creating a casual and social atmosphere while you learn. \n\n\n\nPerfect for beginners looking to practice or intermediate speakers wanting to build confidence in conversation. \n\n\n\nDates: Tuesdays\, March 17 – April 14\, 2026Time: 7:00 PM – 8:00 PMLocation: El Centro\, 7053C Glacier Street \n\n\n\nSeries: 5 weeksCost: $22 per night \n\n\n\nContact elcentro.bookings@gmail.com to reserve your seat. \n\n\n\n\n\n\n\n\n\n\n\n\n\n\n\n\n\n\n\n\n\n\n	Related
URL:https://qathet365.ca/event/lets-speak-spanish/2026-04-14/
LOCATION:El centro\, 7053 Glacier St C\, Powell River\, BC\, Canada
CATEGORIES:COMMUNITY,FOOD & BUSINESS
ATTACH;FMTTYPE=image/png:https://qathet365.ca/wp-content/uploads/2026/03/lets-speak-spanish.png
END:VEVENT
BEGIN:VEVENT
DTSTART;TZID=America/Vancouver:20260325T080000
DTEND;TZID=America/Vancouver:20260325T170000
DTSTAMP:20260422T095712
CREATED:20260310T035832Z
LAST-MODIFIED:20260310T035947Z
UID:10007342-1774425600-1774458000@qathet365.ca
SUMMARY:Wine Wednesday - Wine Tasting Series
DESCRIPTION:Discover new wines and expand your tasting skills at Wine Wednesday at El Centro. \n\n\n\nThis monthly wine tasting event features three premium wines paired with small bites\, served in a welcoming long-table social setting. Each evening explores a different theme and offers insight into wine tasting\, vineyard styles\, and flavour profiles. \n\n\n\nThe March session focuses on Island Wines\, showcasing selections from Vancouver Island wineries. The evening will also explore the art of tasting and evaluating wine\, guided by wine expert Jeremy East\, owner of Rocky Creek Winery. \n\n\n\nFeatured Wines:• Zanatta Winery – Damasco• Cobble Hill Winery – Zweigelt• Rocky Creek Winery – Cab Foch \n\n\n\nPerfect for wine lovers\, curious beginners\, and anyone who enjoys discovering new flavours in a relaxed social setting. \n\n\n\nDate: Wednesday\, March 25Time: 5:30 PMLocation: El Centro\, 7053C Glacier StreetCost: $35 per person \n\n\n\nTickets available online at elcentrobookings.ca or in person at Iguanas Mexican Grill and Westview U-Vin U-Brew. \n\n\n\n\n\n\n\n\n\n\n\n\n\n\n\n\n\n\n\n\n\n\n\n\n\n\n\n\n\n\n\n\n	Related
URL:https://qathet365.ca/event/wine-wednesday/2026-03-25/
LOCATION:El centro\, 7053 Glacier St C\, Powell River\, BC\, Canada
CATEGORIES:ELDERS,FOOD & BUSINESS,RESTAURANTS
ATTACH;FMTTYPE=image/png:https://qathet365.ca/wp-content/uploads/2026/03/Screen-Shot-2026-03-09-at-8.57.12-PM-e1774238862692.png
END:VEVENT
BEGIN:VEVENT
DTSTART;TZID=America/Vancouver:20260214T000000
DTEND;TZID=America/Vancouver:20260214T235959
DTSTAMP:20260422T095712
CREATED:20260124T212012Z
LAST-MODIFIED:20260124T213909Z
UID:10006381-1771027200-1771113599@qathet365.ca
SUMMARY:Valentines Wine Tasting
DESCRIPTION:Valentines Wine Tasting with El Centro & Rocky Creek Winery – 7053 C Glacier Street Join Jeremy East\, local Wine Professional and enjoy delicious food with perfectly paired wines\, featuring Rocky Creek Winery and select BC Wines. February 14th 2026. Mid-day Tasting: 1230pm – $80 Appetizer Tasting: 530pm – $80 Dinner Tasting: 645pm – $100 Pick more than one and save! Email elcentro.bookings@gmail.com to reserve your seat. \n\n\n\n\n\n\n\n\n\n\n\n\n\n\n\n\n\n\n	Related
URL:https://qathet365.ca/event/valentines-wine-tasting/
LOCATION:El centro\, 7053 Glacier St C\, Powell River\, BC\, Canada
CATEGORIES:ARTS & ENTERTAINMENT,COMMUNITY,FOOD & BUSINESS,RESTAURANTS
END:VEVENT
END:VCALENDAR