BEGIN:VCALENDAR
VERSION:2.0
PRODID:-//qathet 365 - ECPv6.15.20//NONSGML v1.0//EN
CALSCALE:GREGORIAN
METHOD:PUBLISH
X-WR-CALNAME:qathet 365
X-ORIGINAL-URL:https://qathet365.ca
X-WR-CALDESC:Events for qathet 365
REFRESH-INTERVAL;VALUE=DURATION:PT1H
X-Robots-Tag:noindex
X-PUBLISHED-TTL:PT1H
BEGIN:VTIMEZONE
TZID:America/Vancouver
BEGIN:DAYLIGHT
TZOFFSETFROM:-0800
TZOFFSETTO:-0700
TZNAME:PDT
DTSTART:20240310T100000
END:DAYLIGHT
BEGIN:STANDARD
TZOFFSETFROM:-0700
TZOFFSETTO:-0800
TZNAME:PST
DTSTART:20241103T090000
END:STANDARD
BEGIN:DAYLIGHT
TZOFFSETFROM:-0800
TZOFFSETTO:-0700
TZNAME:PDT
DTSTART:20250309T100000
END:DAYLIGHT
BEGIN:STANDARD
TZOFFSETFROM:-0700
TZOFFSETTO:-0800
TZNAME:PST
DTSTART:20251102T090000
END:STANDARD
BEGIN:DAYLIGHT
TZOFFSETFROM:-0800
TZOFFSETTO:-0700
TZNAME:PDT
DTSTART:20260308T100000
END:DAYLIGHT
BEGIN:STANDARD
TZOFFSETFROM:-0700
TZOFFSETTO:-0800
TZNAME:PST
DTSTART:20261101T090000
END:STANDARD
END:VTIMEZONE
BEGIN:VEVENT
DTSTART;TZID=America/Vancouver:20250729T180000
DTEND;TZID=America/Vancouver:20250729T200000
DTSTAMP:20260421T113133
CREATED:20250720T201207Z
LAST-MODIFIED:20250721T191123Z
UID:10002321-1753812000-1753819200@qathet365.ca
SUMMARY:Bevvy & Burger at Forest Bistro
DESCRIPTION:Mid-Summer Burger Night is on at the Forest Bistro!Enjoy great food with your friends while supporting Foundry qathet. \n\n\n\nDoors open at 5:30pm \n\n\n\nTickets are $40 each or buy a table of 4 for $140.Tickets include a juicy delicious burger 🍔 & the best fries in town\, with your choice of cold beer 🍺\, house wine 🍷 or soda. \n\n\n\nPick up your tickets at Youth & Family 5814 Ash Ave or Forest Bistro 4463 Marine AveThis event is 19+ (minors must be accompanied by an adult). \n\n\n\n***cash only for tickets *** \n\n\n\n\n\n\n\n\n\n\n\n\n\n\n\n\n\n\n	Related
URL:https://qathet365.ca/event/bevvy-burger-at-forest-bistro/
LOCATION:Forest Bistro\, 4463 Marine Ave\, Powell River\, BC\, V8A2K3\, Canada
CATEGORIES:COMMUNITY,FOOD & BUSINESS,FUNDRAISERS,KIDS AND FAMILY,RESTAURANTS
ORGANIZER;CN="Foundry qathet":MAILTO:dharper@youthandfamily.ca
END:VEVENT
END:VCALENDAR