BEGIN:VCALENDAR
VERSION:2.0
PRODID:-//qathet 365 - ECPv6.15.20//NONSGML v1.0//EN
CALSCALE:GREGORIAN
METHOD:PUBLISH
X-ORIGINAL-URL:https://qathet365.ca
X-WR-CALDESC:Events for qathet 365
REFRESH-INTERVAL;VALUE=DURATION:PT1H
X-Robots-Tag:noindex
X-PUBLISHED-TTL:PT1H
BEGIN:VTIMEZONE
TZID:America/Vancouver
BEGIN:DAYLIGHT
TZOFFSETFROM:-0800
TZOFFSETTO:-0700
TZNAME:PDT
DTSTART:20240310T100000
END:DAYLIGHT
BEGIN:STANDARD
TZOFFSETFROM:-0700
TZOFFSETTO:-0800
TZNAME:PST
DTSTART:20241103T090000
END:STANDARD
BEGIN:DAYLIGHT
TZOFFSETFROM:-0800
TZOFFSETTO:-0700
TZNAME:PDT
DTSTART:20250309T100000
END:DAYLIGHT
BEGIN:STANDARD
TZOFFSETFROM:-0700
TZOFFSETTO:-0800
TZNAME:PST
DTSTART:20251102T090000
END:STANDARD
BEGIN:DAYLIGHT
TZOFFSETFROM:-0800
TZOFFSETTO:-0700
TZNAME:PDT
DTSTART:20260308T100000
END:DAYLIGHT
BEGIN:STANDARD
TZOFFSETFROM:-0700
TZOFFSETTO:-0800
TZNAME:PST
DTSTART:20261101T090000
END:STANDARD
BEGIN:DAYLIGHT
TZOFFSETFROM:-0800
TZOFFSETTO:-0700
TZNAME:PDT
DTSTART:20270314T100000
END:DAYLIGHT
BEGIN:STANDARD
TZOFFSETFROM:-0700
TZOFFSETTO:-0800
TZNAME:PST
DTSTART:20271107T090000
END:STANDARD
END:VTIMEZONE
BEGIN:VEVENT
DTSTART;TZID=America/Vancouver:20260314T150000
DTEND;TZID=America/Vancouver:20260314T150000
DTSTAMP:20260419T204020
CREATED:20260213T213238Z
LAST-MODIFIED:20260213T213240Z
UID:10007036-1773500400-1773500400@qathet365.ca
SUMMARY:Lip-Sync Contest Extravaganza
DESCRIPTION:Join us for an afternoon of fun\, laughter\, and unforgettable performances at the Lip-Sync Contest Extravaganza. Participants of all ages and abilities are invited to take the stage and showcase their stage presence\, humour\, and musical flair. Bring your friends and family to cheer on the performers and enjoy the show. \n\n\n\nPrizes will be awarded for Best Performance\, Crowd Favourite\, and Most Creative. Admission is by donation. \n\n\n\nTo participate\, email your song selection by March 7\, 2026 to Mary at revmjwhite@hotmail.ca\, or drop off your selection\, name\, and contact information at the church office. \n\n\n\nDate: Saturday\, March 14\, 2026Time: 3:00 p.m.Location: The Gathering Place\, Powell River United Church6932 Crofton Street\, Powell River\, BC \n\n\n\n\n\n\n\n\n\n\n\n\n\n\n\n\n\n\n	Related
URL:https://qathet365.ca/event/lip-sync-contest-extravaganza/
LOCATION:Gathering Space at the United Church\, 6932 Crofton Street\, Powell River\, BC\, V8A 5H4\, Canada
CATEGORIES:ARTS & ENTERTAINMENT,COMMUNITY,ELDERS,KIDS AND FAMILY,MUSIC, FILM & COMEDY,YOUTH
END:VEVENT
BEGIN:VEVENT
DTSTART;TZID=America/Vancouver:20251129T090000
DTEND;TZID=America/Vancouver:20251129T130000
DTSTAMP:20260419T204020
CREATED:20251128T032352Z
LAST-MODIFIED:20251128T032355Z
UID:10004593-1764406800-1764421200@qathet365.ca
SUMMARY:Christmas Market
DESCRIPTION:🎄 Christmas Market at The Gathering Space \n\n\n\nCome by for some local cheer\, crafts\, baking\, and a good dose of Christmas spirit. \n\n\n\n \n\n\n\nIf you’d like a table for 25 dollars\, contact Rod at rurmackay@gmail.com or 306 540 8536. \n\n\n\nAlways a cozy\, feel-good morning. Hope to see you there. \n\n\n\n\n\n\n\n\n\n\n\n\n\n\n\n\n\n\n	Related
URL:https://qathet365.ca/event/christmas-market-2/
LOCATION:Gathering Space at the United Church\, 6932 Crofton Street\, Powell River\, BC\, V8A 5H4\, Canada
CATEGORIES:COMMUNITY,ELDERS,KIDS AND FAMILY,YOUTH
END:VEVENT
BEGIN:VEVENT
DTSTART;TZID=America/Vancouver:20250818T163000
DTEND;TZID=America/Vancouver:20250818T180000
DTSTAMP:20260419T204020
CREATED:20250707T002703Z
LAST-MODIFIED:20250707T002705Z
UID:10002245-1755534600-1755540000@qathet365.ca
SUMMARY:Community BBQ- Hamburgers
DESCRIPTION:Come enjoy salads\, hotdogs\, sweet treats\, and the warmth of community! Bring a friend\, bring your appetite — we’ll see you there!    Pay by donation. \n\n\n\n\n\n\n\n\n\n\n\n\n\n\n\n\n\n\n	Related
URL:https://qathet365.ca/event/community-bbq-hamburgers/
LOCATION:Gathering Space at the United Church\, 6932 Crofton Street\, Powell River\, BC\, V8A 5H4\, Canada
CATEGORIES:COMMUNITY,ELDERS,FOOD & BUSINESS,FUNDRAISERS,KIDS AND FAMILY,SPIRITUALITY & WELLNESS,YOUTH
END:VEVENT
BEGIN:VEVENT
DTSTART;TZID=America/Vancouver:20250721T163000
DTEND;TZID=America/Vancouver:20250721T180000
DTSTAMP:20260419T204020
CREATED:20250707T002026Z
LAST-MODIFIED:20250707T002337Z
UID:10002244-1753115400-1753120800@qathet365.ca
SUMMARY:Community BBQ - Smokies
DESCRIPTION:Come enjoy salads\, hotdogs\, sweet treats\, and the warmth of community! Bring a friend\, bring your appetite — we’ll see you there!     Pay by donation. \n\n\n\n\n\n\n\n\n\n\n\n\n\n\n\n\n\n\n	Related
URL:https://qathet365.ca/event/community-bbq-smokies/
LOCATION:Gathering Space at the United Church\, 6932 Crofton Street\, Powell River\, BC\, V8A 5H4\, Canada
CATEGORIES:COMMUNITY,ELDERS,FOOD & BUSINESS,FUNDRAISERS,KIDS AND FAMILY,SPIRITUALITY & WELLNESS,YOUTH
END:VEVENT
BEGIN:VEVENT
DTSTART;TZID=America/Vancouver:20250628T103000
DTEND;TZID=America/Vancouver:20250628T113000
DTSTAMP:20260419T204020
CREATED:20250523T005115Z
LAST-MODIFIED:20250523T005133Z
UID:10001388-1751106600-1751110200@qathet365.ca
SUMMARY:Seekers Group
DESCRIPTION:Join Seekers\, an open and inclusive group for those exploring questions about religion\, spirituality\, faith\, God\, the Bible\, and more. This is a space for curious minds to engage in meaningful discussions without pressure to adopt specific beliefs.Everyone is welcome—just bring your thoughts\, questions\, and an open heart. \n\n\n\nNo registration required. Free and drop-in friendly. \n\n\n\nHosted at The Gathering Space at the United Chirch\, 6932 Crofton St. (corner of Michigan & Duncan). \n\n\n\n\n\n\n\n\n\n\n\n\n\n\n\n\n\n\n	Related
URL:https://qathet365.ca/event/seekers-group-2/2025-06-28/
LOCATION:Gathering Space at the United Church\, 6932 Crofton Street\, Powell River\, BC\, V8A 5H4\, Canada
CATEGORIES:COMMUNITY,SPIRITUALITY & WELLNESS
END:VEVENT
END:VCALENDAR