BEGIN:VCALENDAR
VERSION:2.0
PRODID:-//qathet 365 - ECPv6.15.20//NONSGML v1.0//EN
CALSCALE:GREGORIAN
METHOD:PUBLISH
X-ORIGINAL-URL:https://qathet365.ca
X-WR-CALDESC:Events for qathet 365
REFRESH-INTERVAL;VALUE=DURATION:PT1H
X-Robots-Tag:noindex
X-PUBLISHED-TTL:PT1H
BEGIN:VTIMEZONE
TZID:America/Vancouver
BEGIN:DAYLIGHT
TZOFFSETFROM:-0800
TZOFFSETTO:-0700
TZNAME:PDT
DTSTART:20240310T100000
END:DAYLIGHT
BEGIN:STANDARD
TZOFFSETFROM:-0700
TZOFFSETTO:-0800
TZNAME:PST
DTSTART:20241103T090000
END:STANDARD
BEGIN:DAYLIGHT
TZOFFSETFROM:-0800
TZOFFSETTO:-0700
TZNAME:PDT
DTSTART:20250309T100000
END:DAYLIGHT
BEGIN:STANDARD
TZOFFSETFROM:-0700
TZOFFSETTO:-0800
TZNAME:PST
DTSTART:20251102T090000
END:STANDARD
BEGIN:DAYLIGHT
TZOFFSETFROM:-0800
TZOFFSETTO:-0700
TZNAME:PDT
DTSTART:20260308T100000
END:DAYLIGHT
BEGIN:STANDARD
TZOFFSETFROM:-0700
TZOFFSETTO:-0800
TZNAME:PST
DTSTART:20261101T090000
END:STANDARD
END:VTIMEZONE
BEGIN:VEVENT
DTSTART;TZID=America/Vancouver:20251027T190000
DTEND;TZID=America/Vancouver:20251028T220000
DTSTAMP:20260424T140939
CREATED:20251003T182429Z
LAST-MODIFIED:20251003T182432Z
UID:10004370-1761591600-1761688800@qathet365.ca
SUMMARY:H3 Henderson Haunted House
DESCRIPTION:Get ready to scream your boo-tiful little heads off as the two-nights of terror return to town🎃  \n\n\n\nJoin over 1500+ other frightened humans of the qathet region at the annual (going on nearly 20 years!) Henderson Haunted House on October 27th & 28th! Doors open at 7pm… $10 admission to get your spook on and participate in a silent auction \n\n\n\nSnacks will also be available for purchase at a concession stand\, run by Div 2 as a fundraiser for their annual class trip to Comox at the end of the year. \n\n\n\n*This event is not recommended for young children (under 10).  \n\n\n\nAll proceeds go towards the PAC and in the past have been used for upgrades to the Henderson Elementary play ground as well as other school projects.  \n\n\n\n \n\n\n\n\n\n\n\n\n\n\n\n\n\n\n\n\n\n\n	Related
URL:https://qathet365.ca/event/h3-henderson-haunted-house/
LOCATION:Henderson Elementry\, 5506 Willow Ave\, Powell River\, BC\, V8A 4P4\, Canada
CATEGORIES:ARTS & ENTERTAINMENT,COMMUNITY,FUNDRAISERS,KIDS AND FAMILY,MUSIC, FILM & COMEDY,YOUTH
END:VEVENT
END:VCALENDAR