BEGIN:VCALENDAR
VERSION:2.0
PRODID:-//qathet 365 - ECPv6.15.20//NONSGML v1.0//EN
CALSCALE:GREGORIAN
METHOD:PUBLISH
X-ORIGINAL-URL:https://qathet365.ca
X-WR-CALDESC:Events for qathet 365
REFRESH-INTERVAL;VALUE=DURATION:PT1H
X-Robots-Tag:noindex
X-PUBLISHED-TTL:PT1H
BEGIN:VTIMEZONE
TZID:America/Vancouver
BEGIN:DAYLIGHT
TZOFFSETFROM:-0800
TZOFFSETTO:-0700
TZNAME:PDT
DTSTART:20240310T100000
END:DAYLIGHT
BEGIN:STANDARD
TZOFFSETFROM:-0700
TZOFFSETTO:-0800
TZNAME:PST
DTSTART:20241103T090000
END:STANDARD
BEGIN:DAYLIGHT
TZOFFSETFROM:-0800
TZOFFSETTO:-0700
TZNAME:PDT
DTSTART:20250309T100000
END:DAYLIGHT
BEGIN:STANDARD
TZOFFSETFROM:-0700
TZOFFSETTO:-0800
TZNAME:PST
DTSTART:20251102T090000
END:STANDARD
BEGIN:DAYLIGHT
TZOFFSETFROM:-0800
TZOFFSETTO:-0700
TZNAME:PDT
DTSTART:20260308T100000
END:DAYLIGHT
BEGIN:STANDARD
TZOFFSETFROM:-0700
TZOFFSETTO:-0800
TZNAME:PST
DTSTART:20261101T090000
END:STANDARD
END:VTIMEZONE
BEGIN:VEVENT
DTSTART;TZID=America/Vancouver:20251109T130000
DTEND;TZID=America/Vancouver:20251109T150000
DTSTAMP:20260421T100530
CREATED:20251013T171616Z
LAST-MODIFIED:20251013T171619Z
UID:10004463-1762693200-1762700400@qathet365.ca
SUMMARY:Sunday Song Circle - Lang Bay Hall
DESCRIPTION:Sunday Song Circle Lang Bay Hall Acoustic song circle. Informal and fun. Come sing or listen. By donation. \n\n\n\n\n\n\n\n\n\n\n\n\n\n\n\n\n\n\n	Related
URL:https://qathet365.ca/event/sunday-song-circle-lang-bay-hall/
LOCATION:Lang Bay Hall\, 11090 Hwy 101\, POWELL RIVER\, BC\, V8A 0L5\, Canada
CATEGORIES:COMMUNITY,ELDERS,KIDS AND FAMILY,MUSIC, FILM & COMEDY,YOUTH
END:VEVENT
BEGIN:VEVENT
DTSTART;TZID=America/Vancouver:20250109T190000
DTEND;TZID=America/Vancouver:20250109T190000
DTSTAMP:20260421T100530
CREATED:20241231T230749Z
LAST-MODIFIED:20241231T230753Z
UID:10000019-1736449200-1736449200@qathet365.ca
SUMMARY:CRIB CLUB
DESCRIPTION:First Crib Club of the Year \n\n\n\n\n\n\n\n\n\n\n\n\n	Related
URL:https://qathet365.ca/event/crib-club/
LOCATION:Lang Bay Hall\, 11090 Hwy 101\, POWELL RIVER\, BC\, V8A 0L5\, Canada
CATEGORIES:ARTS & ENTERTAINMENT,COMMUNITY,ELDERS
END:VEVENT
END:VCALENDAR