BEGIN:VCALENDAR
VERSION:2.0
PRODID:-//qathet 365 - ECPv6.15.20//NONSGML v1.0//EN
CALSCALE:GREGORIAN
METHOD:PUBLISH
X-WR-CALNAME:qathet 365
X-ORIGINAL-URL:https://qathet365.ca
X-WR-CALDESC:Events for qathet 365
REFRESH-INTERVAL;VALUE=DURATION:PT1H
X-Robots-Tag:noindex
X-PUBLISHED-TTL:PT1H
BEGIN:VTIMEZONE
TZID:America/Vancouver
BEGIN:DAYLIGHT
TZOFFSETFROM:-0800
TZOFFSETTO:-0700
TZNAME:PDT
DTSTART:20240310T100000
END:DAYLIGHT
BEGIN:STANDARD
TZOFFSETFROM:-0700
TZOFFSETTO:-0800
TZNAME:PST
DTSTART:20241103T090000
END:STANDARD
BEGIN:DAYLIGHT
TZOFFSETFROM:-0800
TZOFFSETTO:-0700
TZNAME:PDT
DTSTART:20250309T100000
END:DAYLIGHT
BEGIN:STANDARD
TZOFFSETFROM:-0700
TZOFFSETTO:-0800
TZNAME:PST
DTSTART:20251102T090000
END:STANDARD
BEGIN:DAYLIGHT
TZOFFSETFROM:-0800
TZOFFSETTO:-0700
TZNAME:PDT
DTSTART:20260308T100000
END:DAYLIGHT
BEGIN:STANDARD
TZOFFSETFROM:-0700
TZOFFSETTO:-0800
TZNAME:PST
DTSTART:20261101T090000
END:STANDARD
BEGIN:DAYLIGHT
TZOFFSETFROM:-0800
TZOFFSETTO:-0700
TZNAME:PDT
DTSTART:20270314T100000
END:DAYLIGHT
BEGIN:STANDARD
TZOFFSETFROM:-0700
TZOFFSETTO:-0800
TZNAME:PST
DTSTART:20271107T090000
END:STANDARD
END:VTIMEZONE
BEGIN:VEVENT
DTSTART;TZID=America/Vancouver:20260418T193000
DTEND;TZID=America/Vancouver:20260418T193000
DTSTAMP:20260423T090525
CREATED:20260324T233638Z
LAST-MODIFIED:20260324T233642Z
UID:10007405-1776540600-1776540600@qathet365.ca
SUMMARY:qathet Pop Choir in Concert!
DESCRIPTION:Melt into pop nostalgia with Annie Lennox\, Queen\, Rihanna and more with qathet Pop Choir’s inaugural spring concert! \n\n\n\nDoors at 7pm \n\n\n\nTickets: By donation at the door  \n\n\n\n\n\n\n\n\n\n\n\n\n\n\n\n\n\n\n	Related
URL:https://qathet365.ca/event/qathet-pop-choir-in-concert/
LOCATION:Max Cameron Theatre\, 5400 Marine Ave\, Powell River\, BC\, V8A2L6\, Canada
CATEGORIES:ARTS & ENTERTAINMENT,COMMUNITY,ELDERS,KIDS AND FAMILY,MUSIC, FILM & COMEDY,YOUTH
END:VEVENT
BEGIN:VEVENT
DTSTART;TZID=America/Vancouver:20260415T190000
DTEND;TZID=America/Vancouver:20260415T190000
DTSTAMP:20260423T090525
CREATED:20260225T025144Z
LAST-MODIFIED:20260225T025146Z
UID:10007054-1776279600-1776279600@qathet365.ca
SUMMARY:Opera! Are You Kidding Me?
DESCRIPTION:Opera\, Are You Kidding Me? takes the stage at the Max Cameron Theatre with an evening of unforgettable music\, powerhouse voices\, and a refreshing sense of fun.  \n\n\n\nFeaturing soprano Anne Grimm\, tenor Benjamin Butterfield\, baritone Alexander Dobson\, violinist Jimin Shin Dobson\, and pianist Frances Armstrong\, this program blends beloved arias and duets with a few unexpected gems.  \n\n\n\nFrom Mozart and Verdi to Puccini\, Bizet\, and even Noël Coward\, the evening moves seamlessly between grand opera and operetta in an intimate\, entertaining atmosphere.  \n\n\n\nJoined by solo violin and piano accompaniment\, these accomplished performers deliver a vibrant concert that makes opera feel bold\, accessible\, and anything but intimidating. \n\n\n\n\n\n\n\n\n\n\n\n\n\n\n\n\n\n\n\n\n\n\n	Related
URL:https://qathet365.ca/event/opera-are-you-kidding-me/
LOCATION:Max Cameron Theatre\, 5400 Marine Ave\, Powell River\, BC\, V8A2L6\, Canada
CATEGORIES:ARTS & ENTERTAINMENT,ELDERS,KIDS AND FAMILY,MUSIC, FILM & COMEDY
ATTACH;FMTTYPE=image/png:https://qathet365.ca/wp-content/uploads/2026/02/Rack-OAYKM.png
END:VEVENT
BEGIN:VEVENT
DTSTART;TZID=America/Vancouver:20260228T190000
DTEND;TZID=America/Vancouver:20260228T190000
DTSTAMP:20260423T090525
CREATED:20251219T205955Z
LAST-MODIFIED:20251219T205958Z
UID:10004901-1772305200-1772305200@qathet365.ca
SUMMARY:The Comic Strippers
DESCRIPTION:The Comic Strippers – February 28 2026 \n\n\n\nWARNING: No extreme nudity\, just extreme hilarity. \n\n\n\nTHE COMIC STRIPPERSA male stripper parody and improv comedy showThe award winning improv comedians are back with a new show\, more moves and even quicker wits. \n\n\n\nA SHOW FOR ALL GENDERS… Adults OnlyWARNING! No extreme nudity\, just extreme hilarity.A fictitious male stripper troupe (played by a cast of some of Canada’s best improvisational comedians) perform sexylarious improv comedy shows. They try to be sexy… it just comes out funny. Constantly grooving and gyrating in between scenes they banter with the crowd and perform their hilarious twist on improv sketches. They sing\, they “dance”\, and they are ready to make you laugh.Semi undressed and completely unscripted\, The Comic Strippers take off their shirts and take on your suggestions to create a whole new genre of comedy. \n\n\n\nTickets online: https://www.showpass.com/comic-strippers-a-stripper-parody/ \n\n\n\n\n\n\n\n\n\n\n\n\n\n\n\n\n\n\n	Related
URL:https://qathet365.ca/event/the-comic-strippers/
LOCATION:Max Cameron Theatre\, 5400 Marine Ave\, Powell River\, BC\, V8A2L6\, Canada
CATEGORIES:ARTS & ENTERTAINMENT,MUSIC, FILM & COMEDY
ATTACH;FMTTYPE=image/png:https://qathet365.ca/wp-content/uploads/2025/12/Screen-Shot-2025-12-19-at-12.57.45-PM.png
END:VEVENT
BEGIN:VEVENT
DTSTART;TZID=America/Vancouver:20260129T190000
DTEND;TZID=America/Vancouver:20260129T190000
DTSTAMP:20260423T090525
CREATED:20251219T205607Z
LAST-MODIFIED:20251219T205610Z
UID:10004900-1769713200-1769713200@qathet365.ca
SUMMARY:The Wardens (New Date!)
DESCRIPTION:The Wardens – January 29 2026 \n\n\n\nThe Wardens don’t just sing about the land\, they’re part of it. \n\n\n\nThe Rocky Mountain-based band’s stories and songs rise from the very land they’ve protected as Canadian national park wardens. With haunting three-part harmonies and chilling tales\, the band’s mountain music – blending folk\, roots and western styles – reflects Canada’s protected wilderness areas. Celebrating the return of wild buffalo\, wrangling grizzly bears\, lonely nights on the packtrail and reflecting on an environment in crisis\, a performance by The Wardens has been dubbed “the quintessential mountain-culture concert experience.” \n\n\n\nFollowing the 2021 release of their third full-length album Sold Out at the Ironwood\, band member Ray Schmidt was nominated Traditional Singer of the Year by the Canadian Folk Music Awards. The band has also received numerous regional nominations including 2022 Touring Artist of the Year by the BC Touring Council and Album of the Year by Country Music Alberta. \n\n\n\nTickets online: https://www.showpass.com/the-wardens-2/ \n\n\n\n\n\n\n\n\n\n\n\n\n\n\n\n\n\n\n	Related
URL:https://qathet365.ca/event/the-wardens-new-date/
LOCATION:Max Cameron Theatre\, 5400 Marine Ave\, Powell River\, BC\, V8A2L6\, Canada
CATEGORIES:ARTS & ENTERTAINMENT,COMMUNITY,ELDERS,KIDS AND FAMILY,MUSIC, FILM & COMEDY,YOUTH
ATTACH;FMTTYPE=image/png:https://qathet365.ca/wp-content/uploads/2025/12/Screen-Shot-2025-12-19-at-12.55.13-PM.png
END:VEVENT
BEGIN:VEVENT
DTSTART;TZID=America/Vancouver:20260120T190000
DTEND;TZID=America/Vancouver:20260120T190000
DTSTAMP:20260423T090525
CREATED:20251219T205242Z
LAST-MODIFIED:20251219T205728Z
UID:10004899-1768935600-1768935600@qathet365.ca
SUMMARY:The Fretless
DESCRIPTION:The Fretless – Jan 20 2026 \n\n\n\n“Transforming string music into intricate\, beautiful\, high-energy arrangements\, Canada’s The Fretless have become flawless musical acrobats and Juno award winners.” \n\n\n\nThe Fretless is pushing traditional music to a new place\, and has now issued itself an atypical challenge in the mission to find and convert fans unfamiliar with “progressive” traditional music. \n\n\n\nTickets online: https://www.showpass.com/the-fretless-3/ \n\n\n\n\n\n\n\n\n\n\n\n\n\n\n\n\n\n\n	Related
URL:https://qathet365.ca/event/the-fretless/
LOCATION:Max Cameron Theatre\, 5400 Marine Ave\, Powell River\, BC\, V8A2L6\, Canada
CATEGORIES:ARTS & ENTERTAINMENT,COMMUNITY,ELDERS,KIDS AND FAMILY,MUSIC, FILM & COMEDY,YOUTH
ATTACH;FMTTYPE=image/png:https://qathet365.ca/wp-content/uploads/2025/12/Screen-Shot-2025-12-19-at-12.50.17-PM.png
END:VEVENT
BEGIN:VEVENT
DTSTART;TZID=America/Vancouver:20260110T190000
DTEND;TZID=America/Vancouver:20260110T190000
DTSTAMP:20260423T090525
CREATED:20260104T191410Z
LAST-MODIFIED:20260104T191413Z
UID:10004920-1768071600-1768071600@qathet365.ca
SUMMARY:Duo Mycelia\, featuring qathet Fiddlers
DESCRIPTION:Come hear the electrifying young classical crossover Duo Mycelia at the Max Cameron Theatre\, with guest performance by the qathet Fiddlers. \n\n\n\nDuo Mycelia consists of young virtuosi Isabella Perron and Simon Gidora\, who will delight in an evening of classical favourites\, as well as their original musical work “A Personal Journey of Being”. \n\n\n\nAfter an opening performance by the qathet Fiddlers\, Duo Mycelia will take you on a mesmerizing journey through the classical duo repertoire\, performing music for violin\, piano\, and voice (with each of them doing all three!) \n\n\n\nAfter intermission\, they will perform “A Personal Journey of Being”\, their 40 minute original composition exploring consciousness\, individualism\, freedom\, and what it means to be alive in the modern world. \n\n\n\nDoors open at 6:15\, and the performance will start at 7 (with a pre-show performance by the fiddlers in the foyer)\, and will last about 2 hours including a short intermission. There will be light refreshments at intermission. \n\n\n\n\n\nTickets are $30\, but free for anyone 18 and under. Seating is general admission. \n\n\n\n\n\n\n\n\n\n\n\n\n\n\n\n\n	Related
URL:https://qathet365.ca/event/duo-mycelia-featuring-qathet-fiddlers/
LOCATION:Max Cameron Theatre\, 5400 Marine Ave\, Powell River\, BC\, V8A2L6\, Canada
CATEGORIES:ARTS & ENTERTAINMENT,MUSIC, FILM & COMEDY
END:VEVENT
BEGIN:VEVENT
DTSTART;TZID=America/Vancouver:20251215T190000
DTEND;TZID=America/Vancouver:20251215T190000
DTSTAMP:20260423T090525
CREATED:20251129T001436Z
LAST-MODIFIED:20251129T001439Z
UID:10004600-1765825200-1765825200@qathet365.ca
SUMMARY:Piano Heist - A Very Merry Heistmas!
DESCRIPTION:PIANO HEIST: A VERY MERRY HEISTMAS! \n\n\n\nPiano Heist is back with a dazzling new holiday production: A Very Merry Heistmas!  \n\n\n\nA festive romp through Christmas classics interlaced with their own brand of musical and comedic shenanigans\, Nico Rhodes & Patrick Courtin tackle everything “Christmas”.  \n\n\n\nWhether it’s the nostalgic charm of Charlie Brown Christmas\, a rock & roll styled Nutcracker Suite; The Messiah on melodicas\, or a rollicking ragtime Rudolph the Red Nose Reindeer\, get ready for a holiday experience that’s truly one-of-a-kind!  \n\n\n\nBring your festive spirit and pre-pare to sing-a-long for A Very Merry Heistmas! \n\n\n\nWatch the trailer \n\n\n\n\n\n\n\n\n\n\n\n\n\n\n\n\n\n\n\n\n\n\n	Related
URL:https://qathet365.ca/event/piano-heist/
LOCATION:Max Cameron Theatre\, 5400 Marine Ave\, Powell River\, BC\, V8A2L6\, Canada
CATEGORIES:ARTS & ENTERTAINMENT,COMMUNITY,ELDERS,KIDS AND FAMILY,MUSIC, FILM & COMEDY,YOUTH
ATTACH;FMTTYPE=image/jpeg:https://qathet365.ca/wp-content/uploads/2025/11/piano-heist-max-cameron-theatre-powell-river-qathet-events.jpeg
END:VEVENT
BEGIN:VEVENT
DTSTART;TZID=America/Vancouver:20251104T190000
DTEND;TZID=America/Vancouver:20251104T220000
DTSTAMP:20260423T090525
CREATED:20251029T182715Z
LAST-MODIFIED:20251029T182718Z
UID:10004520-1762282800-1762293600@qathet365.ca
SUMMARY:Jake's Gift-A Canadian WW2 veterans' reluctant return to Normandy
DESCRIPTION:Due to popular demand Jake’s Gift returns to The Max for 2 nights! A 90 min one act play with no intermission. \n\n\n\nJake’s Gift is a surprisingly funny drama that tells the story of a Canadian WW2 veterans’ reluctant return to Normandy France\, for the 60th anniversary of D-Day. While roaming the shores of Juno Beach\, Jake encounters Isabelle\, a precocious ten-year-old from the local village whose inquisitive nature and charm challenge the old soldier to confront some long-ignored ghosts–most notably\, the wartime death of his eldest brother\, Chester\, a once promising young musician. At its heart\, Jake’s Gift is about the legacy of remembrance and makes personal the story behind one soldier’s grave. Since 2007\, Juno Productions has toured this multi-award-winning play to over 265 communities across Canada including international stops in Washington State\, Tiverton & Birmingham\, England\, and to Normandy\, France\, for the 70th\, 73rd\,and 75th anniversary of D-Day. \n\n\n\nDoors open at 6:30 PM and show starts at 7 PM. Arrive early to grab your favorite seat! \n\n\n\nPurchase tickets online or pick up in person at The Peak – voice of the qathet region and The Nutcracker Market! \n\n\n\n\n\n\n\n\n\n\n\n\n\n\n\n\n\n\n	Related
URL:https://qathet365.ca/event/jakes-gift-a-canadian-ww2-veterans-reluctant-return-to-normandy/
LOCATION:Max Cameron Theatre\, 5400 Marine Ave\, Powell River\, BC\, V8A2L6\, Canada
CATEGORIES:Art & Craft,ARTS & ENTERTAINMENT,COMMUNITY,ELDERS,MUSIC, FILM & COMEDY
END:VEVENT
BEGIN:VEVENT
DTSTART;TZID=America/Vancouver:20251023T190000
DTEND;TZID=America/Vancouver:20251023T190000
DTSTAMP:20260423T090525
CREATED:20251016T015035Z
LAST-MODIFIED:20251016T015037Z
UID:10004466-1761246000-1761246000@qathet365.ca
SUMMARY:Phil Dwyer Trio - With Brooks Vocal Jazz
DESCRIPTION:Related
URL:https://qathet365.ca/event/phil-dwyer-trio-with-brooks-vocal-jazz/
LOCATION:Max Cameron Theatre\, 5400 Marine Ave\, Powell River\, BC\, V8A2L6\, Canada
CATEGORIES:ARTS & ENTERTAINMENT,COMMUNITY,ELDERS,KIDS AND FAMILY,MUSIC, FILM & COMEDY,YOUTH
END:VEVENT
BEGIN:VEVENT
DTSTART;TZID=America/Vancouver:20251017T190000
DTEND;TZID=America/Vancouver:20251017T190000
DTSTAMP:20260423T090525
CREATED:20251016T023810Z
LAST-MODIFIED:20251016T023813Z
UID:10004469-1760727600-1760727600@qathet365.ca
SUMMARY:Harry Manx in Concert
DESCRIPTION:Related
URL:https://qathet365.ca/event/harry-manx-in-concert/
LOCATION:Max Cameron Theatre\, 5400 Marine Ave\, Powell River\, BC\, V8A2L6\, Canada
CATEGORIES:ARTS & ENTERTAINMENT,COMMUNITY,MUSIC, FILM & COMEDY
END:VEVENT
BEGIN:VEVENT
DTSTART;TZID=America/Vancouver:20250927T193000
DTEND;TZID=America/Vancouver:20250927T223000
DTSTAMP:20260423T090525
CREATED:20250916T210230Z
LAST-MODIFIED:20250916T210236Z
UID:10004071-1759001400-1759012200@qathet365.ca
SUMMARY:Tower of Song: A Creative Tribute to Leonard Cohen
DESCRIPTION:The Classic works of Leonard Cohen re-imagined by 2x Western Canada Music Award Winner and Juno Nominee Oliver Swain & Glenna Garramone. \n\n\n\n\n\n\n\n\n\n\n\n\n\n\n\n\n\n\n	Related
URL:https://qathet365.ca/event/tower-of-song-a-creative-tribute-to-leonard-cohen/
LOCATION:Max Cameron Theatre\, 5400 Marine Ave\, Powell River\, BC\, V8A2L6\, Canada
CATEGORIES:ARTS & ENTERTAINMENT,COMMUNITY,MUSIC, FILM & COMEDY
END:VEVENT
BEGIN:VEVENT
DTSTART;TZID=America/Vancouver:20250918T183000
DTEND;TZID=America/Vancouver:20250918T210000
DTSTAMP:20260423T090525
CREATED:20250828T001346Z
LAST-MODIFIED:20250828T001400Z
UID:10004026-1758220200-1758229200@qathet365.ca
SUMMARY:Film Screening and Panel Discussion: The Power of Local
DESCRIPTION:Join Co-operatives Build a Better World: BC Tour 2025 — a province-wide journey bringing communities together through workshops\, networking\, film screenings\, and discussions. Our goal is to strengthen and elevate BC’s co-operative ecosystem at a time when local economies need the co-op model more than ever.  \n\n\n\nThe Power of Local is an inspiring documentary showcasing co-operatives and organizations worldwide dedicated to building fairer\, healthier\, and more sustainable communities. After the film screening\, hear from expert co-op panelists. Socialize\, network and enter to win a raffle. Panelists: Ron Berezan\, Blueberry Commons Farm Cooperative  \n\n\n\nAmber Gould\, Skookum Food Provisioners Cooperative  \n\n\n\nLana Parra\, Hearthstone Village Cooperative  \n\n\n\nTBA\, Top Out Climbing Co-op \n\n\n\nSpace is limited. \n\n\n\n\n\n\n\n\n\n\n\n\n\n\n\n\n\n\n	Related
URL:https://qathet365.ca/event/film-screening-panel/
LOCATION:Max Cameron Theatre\, 5400 Marine Ave\, Powell River\, BC\, V8A2L6\, Canada
CATEGORIES:COMMUNITY,MUSIC, FILM & COMEDY
ATTACH;FMTTYPE=image/png:https://qathet365.ca/wp-content/uploads/2025/08/qathet_Co-opTour_Graphic.png
END:VEVENT
BEGIN:VEVENT
DTSTART;TZID=America/Vancouver:20250525T140000
DTEND;TZID=America/Vancouver:20250525T170000
DTSTAMP:20260423T090525
CREATED:20250415T194431Z
LAST-MODIFIED:20250415T194456Z
UID:10001281-1748181600-1748192400@qathet365.ca
SUMMARY:School of Rock
DESCRIPTION:Theatre Performance \n\n\n\n\n\n\n\n\n\n\n\n\n\n\n\n\n\n\n	Related
URL:https://qathet365.ca/event/school-of-rock-4/
LOCATION:Max Cameron Theatre\, 5400 Marine Ave\, Powell River\, BC\, V8A2L6\, Canada
CATEGORIES:ARTS & ENTERTAINMENT,COMMUNITY,ELDERS,FOOD & BUSINESS,KIDS AND FAMILY,MUSIC, FILM & COMEDY,YOUTH
END:VEVENT
BEGIN:VEVENT
DTSTART;TZID=America/Vancouver:20250524T190000
DTEND;TZID=America/Vancouver:20250524T220000
DTSTAMP:20260423T090525
CREATED:20250415T194119Z
LAST-MODIFIED:20250415T194122Z
UID:10001280-1748113200-1748124000@qathet365.ca
SUMMARY:School of Rock
DESCRIPTION:Theatre Performance \n\n\n\n\n\n\n\n\n\n\n\n\n\n\n\n\n\n\n	Related
URL:https://qathet365.ca/event/school-of-rock-3/
LOCATION:Max Cameron Theatre\, 5400 Marine Ave\, Powell River\, BC\, V8A2L6\, Canada
CATEGORIES:ARTS & ENTERTAINMENT,COMMUNITY,ELDERS,FOOD & BUSINESS,KIDS AND FAMILY,MUSIC, FILM & COMEDY,YOUTH
END:VEVENT
BEGIN:VEVENT
DTSTART;TZID=America/Vancouver:20250523T190000
DTEND;TZID=America/Vancouver:20250523T220000
DTSTAMP:20260423T090525
CREATED:20250415T193053Z
LAST-MODIFIED:20250415T193055Z
UID:10001274-1748026800-1748037600@qathet365.ca
SUMMARY:School of Rock
DESCRIPTION:Theatre Perfomance.  \n\n\n\n\n\n\n\n\n\n\n\n\n\n\n\n\n\n\n	Related
URL:https://qathet365.ca/event/school-of-rock-2/
LOCATION:Max Cameron Theatre\, 5400 Marine Ave\, Powell River\, BC\, V8A2L6\, Canada
CATEGORIES:ARTS & ENTERTAINMENT,COMMUNITY,ELDERS,FOOD & BUSINESS,KIDS AND FAMILY,MUSIC, FILM & COMEDY,YOUTH
END:VEVENT
BEGIN:VEVENT
DTSTART;TZID=America/Vancouver:20250522T190000
DTEND;TZID=America/Vancouver:20250522T220000
DTSTAMP:20260423T090525
CREATED:20250415T195208Z
LAST-MODIFIED:20250415T195210Z
UID:10001282-1747940400-1747951200@qathet365.ca
SUMMARY:School of Rock
DESCRIPTION:Musical Theatre Performance \n\n\n\n\n\n\n\n\n\n\n\n\n\n\n\n\n\n\n	Related
URL:https://qathet365.ca/event/school-of-rock/
LOCATION:Max Cameron Theatre\, 5400 Marine Ave\, Powell River\, BC\, V8A2L6\, Canada
CATEGORIES:ARTS & ENTERTAINMENT,COMMUNITY,ELDERS,FOOD & BUSINESS,KIDS AND FAMILY,MUSIC, FILM & COMEDY,YOUTH
END:VEVENT
BEGIN:VEVENT
DTSTART;TZID=America/Vancouver:20250516T190000
DTEND;TZID=America/Vancouver:20250516T220000
DTSTAMP:20260423T090525
CREATED:20250504T023039Z
LAST-MODIFIED:20250504T023042Z
UID:10001316-1747422000-1747432800@qathet365.ca
SUMMARY:Jessica McMann Trio
DESCRIPTION:Alberta Cree artist Jessica McMann will be here to perform her award winning contemporary Classical album Prairie Dusk. This is a beautiful and important collection of compositions which are deeply rooted in Indigenous narratives of home\, family and land\, evoking the expansive landscapes of the prairie\, foothills and Rocky Mountains. Performances include music\, visuals\, storytelling and incredible artistry. \n\n\n\n\n\n\n\n\n\n\n\n\n\n\n\n\n\n\n	Related
URL:https://qathet365.ca/event/jessica-mcmann-trio/
LOCATION:Max Cameron Theatre\, 5400 Marine Ave\, Powell River\, BC\, V8A2L6\, Canada
CATEGORIES:ARTS & ENTERTAINMENT,COMMUNITY,ELDERS,KIDS AND FAMILY,MUSIC, FILM & COMEDY,YOUTH
END:VEVENT
BEGIN:VEVENT
DTSTART;TZID=America/Vancouver:20250503T190000
DTEND;TZID=America/Vancouver:20250503T200000
DTSTAMP:20260423T090525
CREATED:20250417T013233Z
LAST-MODIFIED:20250417T013942Z
UID:10001293-1746298800-1746302400@qathet365.ca
SUMMARY:Annie Jr.
DESCRIPTION:Theatrical Performance of a classic. \n\n\n\n\n\n\n\n\n\n\n\n\n\n\n\n\n\n\n	Related
URL:https://qathet365.ca/event/annie-jr/2025-05-03/
LOCATION:Max Cameron Theatre\, 5400 Marine Ave\, Powell River\, BC\, V8A2L6\, Canada
CATEGORIES:ARTS & ENTERTAINMENT,COMMUNITY,ELDERS,FOOD & BUSINESS,KIDS AND FAMILY,MUSIC, FILM & COMEDY,YOUTH
END:VEVENT
BEGIN:VEVENT
DTSTART;TZID=America/Vancouver:20250404T190000
DTEND;TZID=America/Vancouver:20250404T190000
DTSTAMP:20260423T090525
CREATED:20250323T225234Z
LAST-MODIFIED:20250323T225236Z
UID:10001100-1743793200-1743793200@qathet365.ca
SUMMARY:Raine Hamilton String Trio
DESCRIPTION:Art is for everyone\, music is for everyone. This performance will have American Sign Language interpretation. \n\n\n\nRaine is part prairie songstress\, part storyweaver; Each song has a story\, delivered between songs with humour and grace. Raine invites deep love of the violin into the singer-songwriter genre\, writing for violin and voice\, as well as for guitar and voice. Joined by cello and upright bass\, expect string arrangements that push and pull\, that move as they console. \n\n\n\n\n\n\n\n\n\n\n\n\n\n\n\n\n\n\n	Related
URL:https://qathet365.ca/event/raine-hamilton-string-trio/
LOCATION:Max Cameron Theatre\, 5400 Marine Ave\, Powell River\, BC\, V8A2L6\, Canada
CATEGORIES:ARTS & ENTERTAINMENT,COMMUNITY,ELDERS,KIDS AND FAMILY,MUSIC, FILM & COMEDY,YOUTH
END:VEVENT
BEGIN:VEVENT
DTSTART;TZID=America/Vancouver:20250221T173000
DTEND;TZID=America/Vancouver:20250222T203000
DTSTAMP:20260423T090525
CREATED:20250214T203751Z
LAST-MODIFIED:20250214T203753Z
UID:10000150-1740159000-1740256200@qathet365.ca
SUMMARY:Banff Mountain Film Festival
DESCRIPTION:Join us for an unforgettable evening at the Banff Mountain Film Festival\, presented by Knuckleheads Winter Recreation Association! Immerse yourself in the thrill\, beauty\, and adventure of the great outdoors through an incredible lineup of inspiring films. \n\n\n\n📅 Dates: February 21st & February 22ndEnjoy different movies each night for a unique experience every evening! \n\n\n\n🕒 Doors Open: 5:30 PMCome early to explore local outdoor information booths\, grab a drink at the bar\, and pick up some tasty snack bags. \n\n\n\n🎟️ Tickets:Available at Taws and The Gear Attic. Get yours early before they sell out! \n\n\n\nDon’t miss this exciting celebration of mountain culture and outdoor adventure. Whether you come for one night or both\, it’s an event you won’t want to miss! \n\n\n\n\n\n\n\n\n\n\n\n\n	Related
URL:https://qathet365.ca/event/banff-mountain-film-festival/
LOCATION:Max Cameron Theatre\, 5400 Marine Ave\, Powell River\, BC\, V8A2L6\, Canada
CATEGORIES:ARTS & ENTERTAINMENT,COMMUNITY,MUSIC, FILM & COMEDY,OUTDOORS
END:VEVENT
BEGIN:VEVENT
DTSTART;TZID=America/Vancouver:20250211T190000
DTEND;TZID=America/Vancouver:20250211T203000
DTSTAMP:20260423T090525
CREATED:20250103T005009Z
LAST-MODIFIED:20250103T005109Z
UID:10000059-1739300400-1739305800@qathet365.ca
SUMMARY:Overcoming with Guy Felicella
DESCRIPTION:Join Lift Community Services for this free public talk from international speaker and drug policy reform advocate\, Guy Felicella. With a powerful personal story of recovery\, Guy passionately promotes harm reduction\, trauma therapy\, and faster access to treatment\, advocating for compassionate drug policies and substance use support. \n\n\n\n\n\n\n\n\n\n\n\n\n	Related
URL:https://qathet365.ca/event/overcoming-with-guy-felicella/
LOCATION:Max Cameron Theatre\, 5400 Marine Ave\, Powell River\, BC\, V8A2L6\, Canada
CATEGORIES:COMMUNITY,SPIRITUALITY & WELLNESS
END:VEVENT
BEGIN:VEVENT
DTSTART;TZID=America/Vancouver:20250131T190000
DTEND;TZID=America/Vancouver:20250131T220000
DTSTAMP:20260423T090525
CREATED:20250102T004642Z
LAST-MODIFIED:20250102T004645Z
UID:10000035-1738350000-1738360800@qathet365.ca
SUMMARY:John Reischman and the Jaybirds
DESCRIPTION:John Reischman and the Jaybirds fashion a stylish take on bluegrass\, seamlessly blending original songs with Appalachian old-time music for a truly unique sound. The Jaybirds are simultaneously innovative and unadorned\, sophisticated and stripped-down\, happily old-fashioned and 21st-Century contemporary. \n\n\n\n\n\n\n\n\n\n\n\n\n	Related
URL:https://qathet365.ca/event/john-reischman-and-the-jaybirds/
LOCATION:Max Cameron Theatre\, 5400 Marine Ave\, Powell River\, BC\, V8A2L6\, Canada
CATEGORIES:ARTS & ENTERTAINMENT,MUSIC, FILM & COMEDY
END:VEVENT
BEGIN:VEVENT
DTSTART;TZID=America/Vancouver:20250124T190000
DTEND;TZID=America/Vancouver:20250124T220000
DTSTAMP:20260423T090525
CREATED:20250101T020128Z
LAST-MODIFIED:20250101T020131Z
UID:10000026-1737745200-1737756000@qathet365.ca
SUMMARY:Celso Machado in Concert: The official Townsite Jazz Festival 2025 Preview Party!
DESCRIPTION:Get a taste of the 2025 Townsite Jazz Festival at our exclusive preview party featuring the incredible Celso Machado! A Brazilian-Canadian treasure\, Machado is renowned for his extraordinary guitar mastery\, engaging vocals\, and ability to make a percussion instrument out of just about anything within reach. \n\n\n\nTickets:  \n\n\n\nCelso will seamlessly blend jazz\, classical and world music\, creating an atmosphere that’s both intimate and electrifying. Don’t miss this special evening of virtuosic talent\, storytelling\, and vibrant Brazilian charm as we kick off another incredible festival season. The Brooks Secondary School choirs will also appear at this performance as special guests. \n\n\n\n\n\n\n\n\n\n\n\n\n	Related
URL:https://qathet365.ca/event/celso-machado-in-concert-the-official-townsite-jazz-festival-2025-preview-party/
LOCATION:Max Cameron Theatre\, 5400 Marine Ave\, Powell River\, BC\, V8A2L6\, Canada
CATEGORIES:ARTS & ENTERTAINMENT,COMMUNITY,MUSIC, FILM & COMEDY
ORGANIZER;CN="Townsite Jazz Festival":MAILTO:townsitejazz@gmail.com
END:VEVENT
END:VCALENDAR