BEGIN:VCALENDAR
VERSION:2.0
PRODID:-//qathet 365 - ECPv6.15.20//NONSGML v1.0//EN
CALSCALE:GREGORIAN
METHOD:PUBLISH
X-WR-CALNAME:qathet 365
X-ORIGINAL-URL:https://qathet365.ca
X-WR-CALDESC:Events for qathet 365
REFRESH-INTERVAL;VALUE=DURATION:PT1H
X-Robots-Tag:noindex
X-PUBLISHED-TTL:PT1H
BEGIN:VTIMEZONE
TZID:America/Vancouver
BEGIN:DAYLIGHT
TZOFFSETFROM:-0800
TZOFFSETTO:-0700
TZNAME:PDT
DTSTART:20240310T100000
END:DAYLIGHT
BEGIN:STANDARD
TZOFFSETFROM:-0700
TZOFFSETTO:-0800
TZNAME:PST
DTSTART:20241103T090000
END:STANDARD
BEGIN:DAYLIGHT
TZOFFSETFROM:-0800
TZOFFSETTO:-0700
TZNAME:PDT
DTSTART:20250309T100000
END:DAYLIGHT
BEGIN:STANDARD
TZOFFSETFROM:-0700
TZOFFSETTO:-0800
TZNAME:PST
DTSTART:20251102T090000
END:STANDARD
BEGIN:DAYLIGHT
TZOFFSETFROM:-0800
TZOFFSETTO:-0700
TZNAME:PDT
DTSTART:20260308T100000
END:DAYLIGHT
BEGIN:STANDARD
TZOFFSETFROM:-0700
TZOFFSETTO:-0800
TZNAME:PST
DTSTART:20261101T090000
END:STANDARD
END:VTIMEZONE
BEGIN:VEVENT
DTSTART;TZID=America/Vancouver:20250110T190000
DTEND;TZID=America/Vancouver:20250114T210000
DTSTAMP:20260423T211044
CREATED:20250104T044400Z
LAST-MODIFIED:20250109T232834Z
UID:10000064-1736535600-1736888400@qathet365.ca
SUMMARY:MOANA 2
DESCRIPTION:1:30pm Sunday Matinée  \n\n\n\nRated PG \n\n\n\n\n\n\n\n\n\n\n\n\n	Related
URL:https://qathet365.ca/event/moana-2/
LOCATION:Patricia Theatre\, 5848 Ash Ave\, POWELL RIVER\, BC\, V8A 4R6\, Canada
CATEGORIES:ARTS & ENTERTAINMENT,ELDERS,KIDS AND FAMILY,MUSIC, FILM & COMEDY,YOUTH
ATTACH;FMTTYPE=image/jpeg:https://qathet365.ca/wp-content/uploads/2025/01/moana_two.jpg
END:VEVENT
BEGIN:VEVENT
DTSTART;TZID=America/Vancouver:20250104T140000
DTEND;TZID=America/Vancouver:20250104T150000
DTSTAMP:20260423T211044
CREATED:20250104T064743Z
LAST-MODIFIED:20250104T064746Z
UID:10000068-1735999200-1736002800@qathet365.ca
SUMMARY:Cinema Politica qathet screening : Goodwin's Way
DESCRIPTION:At the Patricia Theatre The short (one hour) film will be follow by a Q&A with director Neil Vokey. Trailer: https://www.youtube.com/watch?v=zhBWxiXaPWk \n\n\n\n\n\n\n\n\n\n\n\n\n	Related
URL:https://qathet365.ca/event/cinema-politica-qathet-screening-goodwins-way/
LOCATION:Patricia Theatre\, 5848 Ash Ave\, POWELL RIVER\, BC\, V8A 4R6\, Canada
CATEGORIES:ARTS & ENTERTAINMENT,COMMUNITY,FUNDRAISERS,MUSIC, FILM & COMEDY
END:VEVENT
END:VCALENDAR