BEGIN:VCALENDAR
VERSION:2.0
PRODID:-//qathet 365 - ECPv6.15.20//NONSGML v1.0//EN
CALSCALE:GREGORIAN
METHOD:PUBLISH
X-WR-CALNAME:qathet 365
X-ORIGINAL-URL:https://qathet365.ca
X-WR-CALDESC:Events for qathet 365
REFRESH-INTERVAL;VALUE=DURATION:PT1H
X-Robots-Tag:noindex
X-PUBLISHED-TTL:PT1H
BEGIN:VTIMEZONE
TZID:America/Vancouver
BEGIN:DAYLIGHT
TZOFFSETFROM:-0800
TZOFFSETTO:-0700
TZNAME:PDT
DTSTART:20240310T100000
END:DAYLIGHT
BEGIN:STANDARD
TZOFFSETFROM:-0700
TZOFFSETTO:-0800
TZNAME:PST
DTSTART:20241103T090000
END:STANDARD
BEGIN:DAYLIGHT
TZOFFSETFROM:-0800
TZOFFSETTO:-0700
TZNAME:PDT
DTSTART:20250309T100000
END:DAYLIGHT
BEGIN:STANDARD
TZOFFSETFROM:-0700
TZOFFSETTO:-0800
TZNAME:PST
DTSTART:20251102T090000
END:STANDARD
BEGIN:DAYLIGHT
TZOFFSETFROM:-0800
TZOFFSETTO:-0700
TZNAME:PDT
DTSTART:20260308T100000
END:DAYLIGHT
BEGIN:STANDARD
TZOFFSETFROM:-0700
TZOFFSETTO:-0800
TZNAME:PST
DTSTART:20261101T090000
END:STANDARD
END:VTIMEZONE
BEGIN:VEVENT
DTSTART;TZID=America/Vancouver:20251130T100000
DTEND;TZID=America/Vancouver:20251130T110000
DTSTAMP:20260421T184622
CREATED:20250919T175415Z
LAST-MODIFIED:20250919T175419Z
UID:10004342-1764496800-1764500400@qathet365.ca
SUMMARY:Parent & Child Hockey
DESCRIPTION:Related
URL:https://qathet365.ca/event/parent-child-hockey-2/2025-11-30/
LOCATION:Powell River Recreation Complex\, 5001 Joyce Ave\, POWELL RIVER\, BC\, V8A 5R2\, Canada
CATEGORIES:COMMUNITY,KIDS AND FAMILY
END:VEVENT
BEGIN:VEVENT
DTSTART;TZID=America/Vancouver:20251128T191500
DTEND;TZID=America/Vancouver:20251128T210000
DTSTAMP:20260421T184622
CREATED:20250919T174618Z
LAST-MODIFIED:20250919T174802Z
UID:10004309-1764357300-1764363600@qathet365.ca
SUMMARY:Everyone Welcome Skate
DESCRIPTION:Related
URL:https://qathet365.ca/event/everyone-welcome-skate-11/2025-11-28/
LOCATION:Powell River Recreation Complex\, 5001 Joyce Ave\, POWELL RIVER\, BC\, V8A 5R2\, Canada
CATEGORIES:COMMUNITY,ELDERS,KIDS AND FAMILY,SPORTS & OUTDOORS,YOUTH,YOUTH SPORTS
END:VEVENT
BEGIN:VEVENT
DTSTART;TZID=America/Vancouver:20251128T181500
DTEND;TZID=America/Vancouver:20251128T191500
DTSTAMP:20260421T184622
CREATED:20250919T174349Z
LAST-MODIFIED:20250919T174352Z
UID:10004298-1764353700-1764357300@qathet365.ca
SUMMARY:Parent & Child Hockey
DESCRIPTION:Related
URL:https://qathet365.ca/event/parent-child-hockey/2025-11-28/
LOCATION:Powell River Recreation Complex\, 5001 Joyce Ave\, POWELL RIVER\, BC\, V8A 5R2\, Canada
CATEGORIES:COMMUNITY,KIDS AND FAMILY
END:VEVENT
BEGIN:VEVENT
DTSTART;TZID=America/Vancouver:20251128T100000
DTEND;TZID=America/Vancouver:20251128T113000
DTSTAMP:20260421T184622
CREATED:20250919T025520Z
LAST-MODIFIED:20250919T174141Z
UID:10004287-1764324000-1764329400@qathet365.ca
SUMMARY:Shinny Hockey 50+
DESCRIPTION:Related
URL:https://qathet365.ca/event/shinny-hockey-50-3/2025-11-28/
LOCATION:Powell River Recreation Complex\, 5001 Joyce Ave\, POWELL RIVER\, BC\, V8A 5R2\, Canada
CATEGORIES:COMMUNITY,ELDERS,SPORTS & OUTDOORS
END:VEVENT
BEGIN:VEVENT
DTSTART;TZID=America/Vancouver:20251108T100000
DTEND;TZID=America/Vancouver:20251108T140000
DTSTAMP:20260421T184622
CREATED:20251102T234110Z
LAST-MODIFIED:20251102T234113Z
UID:10004537-1762596000-1762610400@qathet365.ca
SUMMARY:Health & Wellness Fair
DESCRIPTION:Discover what wellness means to you at our Health & Wellness Fair! Explore a variety of health and wellness vendors\, take part in fun fitness competitions for a chance to win prizes\, and enter our door prize draw just for attending. Enjoy live demonstrations and informative presentations from inspiring members of our local health and wellness community. Whether you’re looking to boost your fitness\, learn something new\, or simply have fun\, there’s something for everyone! Don’t miss this exciting and energizing event—your wellness journey starts here! \n\n\n\n\n\n\n\n\n\n\n\n\n\n\n\n\n\n\n	Related
URL:https://qathet365.ca/event/health-wellness-fair/
LOCATION:Powell River Recreation Complex\, 5001 Joyce Ave\, POWELL RIVER\, BC\, V8A 5R2\, Canada
CATEGORIES:SPIRITUALITY & WELLNESS
END:VEVENT
BEGIN:VEVENT
DTSTART;TZID=America/Vancouver:20251101T190000
DTEND;TZID=America/Vancouver:20251101T210000
DTSTAMP:20260421T184622
CREATED:20250919T175648Z
LAST-MODIFIED:20250919T175651Z
UID:10004343-1762023600-1762030800@qathet365.ca
SUMMARY:Laser Light Skate
DESCRIPTION:Related
URL:https://qathet365.ca/event/laser-light-skate/
LOCATION:Powell River Recreation Complex\, 5001 Joyce Ave\, POWELL RIVER\, BC\, V8A 5R2\, Canada
CATEGORIES:COMMUNITY,ELDERS,KIDS AND FAMILY,YOUTH
END:VEVENT
BEGIN:VEVENT
DTSTART;TZID=America/Vancouver:20251026T150000
DTEND;TZID=America/Vancouver:20251026T170000
DTSTAMP:20260421T184622
CREATED:20251025T042829Z
LAST-MODIFIED:20251025T042834Z
UID:10004482-1761490800-1761498000@qathet365.ca
SUMMARY:Pumpkin Pedal
DESCRIPTION:🎃🚴‍♀️ Pumpkin Pedal Halloween Ride! 🚴‍♂️🎃Get your costumes ready\, qathet! The qathet Regional Cycling Association (QRCA) is hosting their annual Halloween ride — and everyone’s invited! 👻✨ \n\n\n\n🗓 Sunday\, October 26th⏰ 2:00 – 4:00 PM📍 Bike Park next to the Powell River Rec Complex💲 FREE! \n\n\n\nBring your spooky spirit (and your bike!) for a fun family-friendly ride around the Pumpkin Pedal loop — all ages welcome! Costumes are highly encouraged\, and every rider gets a treat at the end. 🍬 \n\n\n\n🎉 Stick around after the ride for tricks\, treats\, and Halloween fun with the QRCA community. \n\n\n\nLet’s make this the spookiest ride of the year — see you on two wheels! 👀🧙‍♀️ \n\n\n\n\n\n\n\n\n\n\n\n\n\n\n\n\n\n\n	Related
URL:https://qathet365.ca/event/pumpkin-pedal/
LOCATION:Powell River Recreation Complex\, 5001 Joyce Ave\, POWELL RIVER\, BC\, V8A 5R2\, Canada
CATEGORIES:COMMUNITY,HALLOWEEN,KIDS AND FAMILY,YOUTH
ATTACH;FMTTYPE=image/png:https://qathet365.ca/wp-content/uploads/2025/10/Screen-Shot-2025-10-24-at-9.27.27-PM.png
END:VEVENT
BEGIN:VEVENT
DTSTART;TZID=America/Vancouver:20251008T183000
DTEND;TZID=America/Vancouver:20251008T213000
DTSTAMP:20260421T184622
CREATED:20250916T211942Z
LAST-MODIFIED:20250916T211947Z
UID:10004075-1759948200-1759959000@qathet365.ca
SUMMARY:Cranberry Nature Reserve Community Discussion
DESCRIPTION:Wednesday\, October 8th at 6:30pm in the Poplar Room at the Recreation Complex. \n\n\n\nJoin the Parks\, Recreation & Culture Department for a community conversation about the future of the Cranberry Nature Reserve. We’re exploring ideas for the park and your voice matters!Share your thoughts on Wednesday\, October 8th — your feedback will help shape the final recommendations. \n\n\n\n\n\n\n\n\n\n\n\n\n\n\n\n\n	Related
URL:https://qathet365.ca/event/cranberry-nature-reserve-community-discussion/
LOCATION:Powell River Recreation Complex\, 5001 Joyce Ave\, POWELL RIVER\, BC\, V8A 5R2\, Canada
CATEGORIES:COMMUNITY,ELDERS,KIDS AND FAMILY,YOUTH
END:VEVENT
BEGIN:VEVENT
DTSTART;TZID=America/Vancouver:20250830T110000
DTEND;TZID=America/Vancouver:20250830T130000
DTSTAMP:20260421T184622
CREATED:20250705T231655Z
LAST-MODIFIED:20250705T231659Z
UID:10001781-1756551600-1756558800@qathet365.ca
SUMMARY:Everyone Welcome Swim
DESCRIPTION:Related
URL:https://qathet365.ca/event/everyone-welcome-swim-14/2025-08-30/
LOCATION:Powell River Recreation Complex\, 5001 Joyce Ave\, POWELL RIVER\, BC\, V8A 5R2\, Canada
CATEGORIES:COMMUNITY,ELDERS,KIDS AND FAMILY,YOUTH
END:VEVENT
BEGIN:VEVENT
DTSTART;TZID=America/Vancouver:20250829T183000
DTEND;TZID=America/Vancouver:20250829T210000
DTSTAMP:20260421T184622
CREATED:20250608T232501Z
LAST-MODIFIED:20250705T231848Z
UID:10002239-1756492200-1756501200@qathet365.ca
SUMMARY:Everyone Welcome Swim
DESCRIPTION:Related
URL:https://qathet365.ca/event/everyone-welcome-swim-13/2025-08-29/
LOCATION:Powell River Recreation Complex\, 5001 Joyce Ave\, POWELL RIVER\, BC\, V8A 5R2\, Canada
CATEGORIES:COMMUNITY,ELDERS,KIDS AND FAMILY,YOUTH
END:VEVENT
BEGIN:VEVENT
DTSTART;TZID=America/Vancouver:20250827T134500
DTEND;TZID=America/Vancouver:20250827T160000
DTSTAMP:20260421T184622
CREATED:20250608T231926Z
LAST-MODIFIED:20250608T232058Z
UID:10001792-1756302300-1756310400@qathet365.ca
SUMMARY:Everyone Welcome Swim
DESCRIPTION:Related
URL:https://qathet365.ca/event/everyone-welcome-swim-12/2025-08-27/
LOCATION:Powell River Recreation Complex\, 5001 Joyce Ave\, POWELL RIVER\, BC\, V8A 5R2\, Canada
CATEGORIES:COMMUNITY,ELDERS,KIDS AND FAMILY,YOUTH
END:VEVENT
BEGIN:VEVENT
DTSTART;TZID=America/Vancouver:20250826T100000
DTEND;TZID=America/Vancouver:20250826T100000
DTSTAMP:20260421T184622
CREATED:20250716T204225Z
LAST-MODIFIED:20250716T204228Z
UID:10002288-1756202400-1756202400@qathet365.ca
SUMMARY:Core & Cradle
DESCRIPTION:Join us for a postnatal fitness class designed for moms and babies (1 and under). Focused on bodyweight strength\, flexibility\, core exercises\, and cardio\, this class helps moms rebuild strength\, improve flexibility\, and connect with their bodies. Whether you’re holding your baby while you exercise or letting them explore safely\, this class provides a nurturing space for you to move\, grow\, and feel strong again. Babies enjoy playtime\, and moms can connect in a supportive\, uplifting environment.   Regular admission rates apply. For our full Summer Health & Fitness drop in schedule\, check out our website here: https://tinyurl.com/yc7pz9mh \n\n\n\n\n\n\n\n\n\n\n\n\n\n\n\n\n\n\n	Related
URL:https://qathet365.ca/event/core-cradle/2025-08-26/
LOCATION:Powell River Recreation Complex\, 5001 Joyce Ave\, POWELL RIVER\, BC\, V8A 5R2\, Canada
CATEGORIES:KIDS AND FAMILY,SPIRITUALITY & WELLNESS
END:VEVENT
BEGIN:VEVENT
DTSTART;TZID=America/Vancouver:20250630T080000
DTEND;TZID=America/Vancouver:20250630T170000
DTSTAMP:20260421T184622
CREATED:20250608T225010Z
LAST-MODIFIED:20250608T225014Z
UID:10001724-1751270400-1751302800@qathet365.ca
SUMMARY:Everyone Welcome Swim
DESCRIPTION:Sea Snake June 28th starting @ 1:00.  \n\n\n\n\n\n\n\n\n\n\n\n\n\n\n\n\n\n\n	Related
URL:https://qathet365.ca/event/everyone-welcome-swim/2025-06-30/
LOCATION:Powell River Recreation Complex\, 5001 Joyce Ave\, POWELL RIVER\, BC\, V8A 5R2\, Canada
CATEGORIES:COMMUNITY,ELDERS,KIDS AND FAMILY,YOUTH
END:VEVENT
BEGIN:VEVENT
DTSTART;TZID=America/Vancouver:20250627T183000
DTEND;TZID=America/Vancouver:20250627T210000
DTSTAMP:20260421T184622
CREATED:20250401T022348Z
LAST-MODIFIED:20250401T022351Z
UID:10001224-1751049000-1751058000@qathet365.ca
SUMMARY:Everyone Welcome Swim
DESCRIPTION:Related
URL:https://qathet365.ca/event/everyone-welcome-swim-10/2025-06-27/
LOCATION:Powell River Recreation Complex\, 5001 Joyce Ave\, POWELL RIVER\, BC\, V8A 5R2\, Canada
CATEGORIES:COMMUNITY,KIDS AND FAMILY,YOUTH
END:VEVENT
BEGIN:VEVENT
DTSTART;TZID=America/Vancouver:20250614T184500
DTEND;TZID=America/Vancouver:20250614T201500
DTSTAMP:20260421T184622
CREATED:20250603T232814Z
LAST-MODIFIED:20250603T232817Z
UID:10001689-1749926700-1749932100@qathet365.ca
SUMMARY:PRIDE SWIM
DESCRIPTION:Come make a splash! \n\n\n\n\n\n\n\n\n\n\n\n\n\n\n\n\n\n\n	Related
URL:https://qathet365.ca/event/pride-swim/
LOCATION:Powell River Recreation Complex\, 5001 Joyce Ave\, POWELL RIVER\, BC\, V8A 5R2\, Canada
CATEGORIES:COMMUNITY,ELDERS,KIDS AND FAMILY,SPORTS & OUTDOORS,YOUTH,YOUTH SPORTS
END:VEVENT
BEGIN:VEVENT
DTSTART;TZID=America/Vancouver:20250531T130000
DTEND;TZID=America/Vancouver:20250531T150000
DTSTAMP:20260421T184622
CREATED:20250401T013646Z
LAST-MODIFIED:20250401T013915Z
UID:10001190-1748696400-1748703600@qathet365.ca
SUMMARY:Everyone welcome Swim
DESCRIPTION:Related
URL:https://qathet365.ca/event/everyone-welcome-swim-8/2025-05-31/
LOCATION:Powell River Recreation Complex\, 5001 Joyce Ave\, POWELL RIVER\, BC\, V8A 5R2\, Canada
CATEGORIES:COMMUNITY,KIDS AND FAMILY,YOUTH
END:VEVENT
BEGIN:VEVENT
DTSTART;TZID=America/Vancouver:20250430T183000
DTEND;TZID=America/Vancouver:20250430T210000
DTSTAMP:20260421T184622
CREATED:20250401T012357Z
LAST-MODIFIED:20250401T012414Z
UID:10001157-1746037800-1746046800@qathet365.ca
SUMMARY:Everyone Welcome Swim
DESCRIPTION:Related
URL:https://qathet365.ca/event/everyone-welcome-swim-3/2025-04-30/
LOCATION:Powell River Recreation Complex\, 5001 Joyce Ave\, POWELL RIVER\, BC\, V8A 5R2\, Canada
CATEGORIES:COMMUNITY,KIDS AND FAMILY,YOUTH
END:VEVENT
BEGIN:VEVENT
DTSTART;TZID=America/Vancouver:20250427T183000
DTEND;TZID=America/Vancouver:20250427T203000
DTSTAMP:20260421T184622
CREATED:20250401T012713Z
LAST-MODIFIED:20250401T013147Z
UID:10001159-1745778600-1745785800@qathet365.ca
SUMMARY:Everyone Welcome Swim
DESCRIPTION:Related
URL:https://qathet365.ca/event/everyone-welcome-swim-4/2025-04-27/
LOCATION:Powell River Recreation Complex\, 5001 Joyce Ave\, POWELL RIVER\, BC\, V8A 5R2\, Canada
CATEGORIES:COMMUNITY,KIDS AND FAMILY,YOUTH
END:VEVENT
BEGIN:VEVENT
DTSTART;TZID=America/Vancouver:20250427T130000
DTEND;TZID=America/Vancouver:20250427T160000
DTSTAMP:20260421T184622
CREATED:20250401T012937Z
LAST-MODIFIED:20250401T012940Z
UID:10001167-1745758800-1745769600@qathet365.ca
SUMMARY:Everyone Welcome Swim
DESCRIPTION:Related
URL:https://qathet365.ca/event/everyone-welcome-swim-5/2025-04-27/
LOCATION:Powell River Recreation Complex\, 5001 Joyce Ave\, POWELL RIVER\, BC\, V8A 5R2\, Canada
CATEGORIES:COMMUNITY,KIDS AND FAMILY,YOUTH
END:VEVENT
BEGIN:VEVENT
DTSTART;TZID=America/Vancouver:20250410T184500
DTEND;TZID=America/Vancouver:20250410T194500
DTSTAMP:20260421T184622
CREATED:20250324T202030Z
LAST-MODIFIED:20250324T202033Z
UID:10001115-1744310700-1744314300@qathet365.ca
SUMMARY:Yoga for Men
DESCRIPTION:Related
URL:https://qathet365.ca/event/yoga-for-men/
LOCATION:Powell River Recreation Complex\, 5001 Joyce Ave\, POWELL RIVER\, BC\, V8A 5R2\, Canada
CATEGORIES:COMMUNITY,SPIRITUALITY & WELLNESS
END:VEVENT
BEGIN:VEVENT
DTSTART;TZID=America/Vancouver:20250330T183000
DTEND;TZID=America/Vancouver:20250330T203000
DTSTAMP:20260421T184622
CREATED:20250308T184545Z
LAST-MODIFIED:20250308T184548Z
UID:10000857-1743359400-1743366600@qathet365.ca
SUMMARY:Everyone Welcome SWIM
DESCRIPTION:Related
URL:https://qathet365.ca/event/everyone-welcome-swim-7/2025-03-30/
LOCATION:Powell River Recreation Complex\, 5001 Joyce Ave\, POWELL RIVER\, BC\, V8A 5R2\, Canada
CATEGORIES:COMMUNITY,ELDERS,KIDS AND FAMILY,YOUTH
END:VEVENT
BEGIN:VEVENT
DTSTART;TZID=America/Vancouver:20250330T130000
DTEND;TZID=America/Vancouver:20250330T160000
DTSTAMP:20260421T184622
CREATED:20250301T232936Z
LAST-MODIFIED:20250308T194949Z
UID:10000896-1743339600-1743350400@qathet365.ca
SUMMARY:Everyone Welcome SWIM
DESCRIPTION:Non swimmers and children under the age of 7years old must always remain with-in arms reachof a swimming adult.Babies and persons who are not toilet-trainedmust wear specially designed swim diapers. \n\n\n\n \n\n\n\n\n\n\n\n\n\n\n\n\n	Related
URL:https://qathet365.ca/event/everyone-welcome-swim-2/2025-03-30/
LOCATION:Powell River Recreation Complex\, 5001 Joyce Ave\, POWELL RIVER\, BC\, V8A 5R2\, Canada
CATEGORIES:COMMUNITY,ELDERS,KIDS AND FAMILY,SPORTS & OUTDOORS,YOUTH
END:VEVENT
BEGIN:VEVENT
DTSTART;TZID=America/Vancouver:20250329T180000
DTEND;TZID=America/Vancouver:20250329T210000
DTSTAMP:20260421T184622
CREATED:20250201T211406Z
LAST-MODIFIED:20250201T211408Z
UID:10000110-1743271200-1743282000@qathet365.ca
SUMMARY:Cops vs Firefighters Charity Hockey Game
DESCRIPTION:Related
URL:https://qathet365.ca/event/cops-vs-firefighters-charity-hockey-game/
LOCATION:Powell River Recreation Complex\, 5001 Joyce Ave\, POWELL RIVER\, BC\, V8A 5R2\, Canada
CATEGORIES:COMMUNITY,ELDERS,FUNDRAISERS,SPORTS & OUTDOORS,YOUTH
END:VEVENT
BEGIN:VEVENT
DTSTART;TZID=America/Vancouver:20250328T183000
DTEND;TZID=America/Vancouver:20250328T210000
DTSTAMP:20260421T184622
CREATED:20250308T183532Z
LAST-MODIFIED:20250308T194813Z
UID:10000870-1743186600-1743195600@qathet365.ca
SUMMARY:Everyone Welcome SWIM
DESCRIPTION:Non swimmers and children under the age of 7years old must always remain with-in arms reachof a swimming adult.Babies and persons who are not toilet-trainedmust wear specially designed swim diapers. \n\n\n\n\n\n\n\n\n\n\n\n\n\n\n\n\n\n\n	Related
URL:https://qathet365.ca/event/everyone-welcome-swim-6/2025-03-28/
LOCATION:Powell River Recreation Complex\, 5001 Joyce Ave\, POWELL RIVER\, BC\, V8A 5R2\, Canada
CATEGORIES:COMMUNITY,ELDERS,KIDS AND FAMILY,YOUTH
END:VEVENT
BEGIN:VEVENT
DTSTART;TZID=America/Vancouver:20250328T133000
DTEND;TZID=America/Vancouver:20250328T153000
DTSTAMP:20260421T184622
CREATED:20250305T194927Z
LAST-MODIFIED:20250308T195238Z
UID:10000900-1743168600-1743175800@qathet365.ca
SUMMARY:Everyone Welcome Skate
DESCRIPTION:A great time for the whole family.  \n\n\n\n\n\n\n\n\n\n\n\n\n	Related
URL:https://qathet365.ca/event/everyone-welcome-skate-5/2025-03-28/
LOCATION:Powell River Recreation Complex\, 5001 Joyce Ave\, POWELL RIVER\, BC\, V8A 5R2\, Canada
CATEGORIES:COMMUNITY,KIDS AND FAMILY,SPORTS & OUTDOORS,YOUTH,YOUTH SPORTS
END:VEVENT
BEGIN:VEVENT
DTSTART;TZID=America/Vancouver:20250323T100000
DTEND;TZID=America/Vancouver:20250323T110000
DTSTAMP:20260421T184622
CREATED:20250305T200715Z
LAST-MODIFIED:20250305T200718Z
UID:10000804-1742724000-1742727600@qathet365.ca
SUMMARY:Parent and Child Hockey
DESCRIPTION:A great chance to take the kids out! \n\n\n\n\n\n\n\n\n\n\n\n\n\n \n\n\n	Related
URL:https://qathet365.ca/event/parent-and-child-hockey/2025-03-23/
LOCATION:Powell River Recreation Complex\, 5001 Joyce Ave\, POWELL RIVER\, BC\, V8A 5R2\, Canada
CATEGORIES:COMMUNITY,KIDS AND FAMILY,SPORTS & OUTDOORS,YOUTH,YOUTH SPORTS
END:VEVENT
BEGIN:VEVENT
DTSTART;TZID=America/Vancouver:20250321T114500
DTEND;TZID=America/Vancouver:20250321T131500
DTSTAMP:20260421T184622
CREATED:20250305T195917Z
LAST-MODIFIED:20250305T195920Z
UID:10000802-1742557500-1742562900@qathet365.ca
SUMMARY:Shinny Hockey 12 & Under
DESCRIPTION:Shinny for 12 and under youth.  \n\n\n\n \n\n\n\n\n\n\n\n\n\n\n	Related
URL:https://qathet365.ca/event/shinny-hockey-12-under/2025-03-21/
LOCATION:Powell River Recreation Complex\, 5001 Joyce Ave\, POWELL RIVER\, BC\, V8A 5R2\, Canada
CATEGORIES:COMMUNITY,KIDS AND FAMILY,SPORTS & OUTDOORS,YOUTH,YOUTH SPORTS
END:VEVENT
BEGIN:VEVENT
DTSTART;TZID=America/Vancouver:20250321T113000
DTEND;TZID=America/Vancouver:20250321T130000
DTSTAMP:20260421T184622
CREATED:20250304T233436Z
LAST-MODIFIED:20250304T233439Z
UID:10000788-1742556600-1742562000@qathet365.ca
SUMMARY:Shinny Hockey 13-16 years old
DESCRIPTION:Shinny Hockey for youth 13-16 years old.  \n\n\n\n\n\n\n\n\n\n\n\n\n	Related
URL:https://qathet365.ca/event/shinny-hockey-13-16-years-old/2025-03-21/
LOCATION:Powell River Recreation Complex\, 5001 Joyce Ave\, POWELL RIVER\, BC\, V8A 5R2\, Canada
CATEGORIES:COMMUNITY,KIDS AND FAMILY,SPORTS & OUTDOORS,YOUTH,YOUTH SPORTS
END:VEVENT
BEGIN:VEVENT
DTSTART;TZID=America/Vancouver:20250321T100000
DTEND;TZID=America/Vancouver:20250321T113000
DTSTAMP:20260421T184623
CREATED:20250305T193941Z
LAST-MODIFIED:20250305T193943Z
UID:10000791-1742551200-1742556600@qathet365.ca
SUMMARY:Shinny Hockey 50+
DESCRIPTION:Shinny Hockey for the over 50 crowd.  \n\n\n\n\n\n\n\n\n\n\n\n\n	Related
URL:https://qathet365.ca/event/shinny-hockey-50-2/2025-03-21/
LOCATION:Powell River Recreation Complex\, 5001 Joyce Ave\, POWELL RIVER\, BC\, V8A 5R2\, Canada
CATEGORIES:COMMUNITY,ELDERS,SPORTS & OUTDOORS
END:VEVENT
BEGIN:VEVENT
DTSTART;TZID=America/Vancouver:20250316T110000
DTEND;TZID=America/Vancouver:20250316T130000
DTSTAMP:20260421T184623
CREATED:20250301T232103Z
LAST-MODIFIED:20250301T232128Z
UID:10000754-1742122800-1742130000@qathet365.ca
SUMMARY:Everyone Welcome Skate
DESCRIPTION:No hard pucks permitted on the ice \n\n\n\n\n\n\n\n\n\n\n\n\n	Related
URL:https://qathet365.ca/event/everyone-welcome-skate-4/2025-03-16/
LOCATION:Powell River Recreation Complex\, 5001 Joyce Ave\, POWELL RIVER\, BC\, V8A 5R2\, Canada
CATEGORIES:COMMUNITY,KIDS AND FAMILY,SPORTS & OUTDOORS,YOUTH
END:VEVENT
END:VCALENDAR