BEGIN:VCALENDAR
VERSION:2.0
PRODID:-//qathet 365 - ECPv6.15.20//NONSGML v1.0//EN
CALSCALE:GREGORIAN
METHOD:PUBLISH
X-WR-CALNAME:qathet 365
X-ORIGINAL-URL:https://qathet365.ca
X-WR-CALDESC:Events for qathet 365
REFRESH-INTERVAL;VALUE=DURATION:PT1H
X-Robots-Tag:noindex
X-PUBLISHED-TTL:PT1H
BEGIN:VTIMEZONE
TZID:America/Vancouver
BEGIN:DAYLIGHT
TZOFFSETFROM:-0800
TZOFFSETTO:-0700
TZNAME:PDT
DTSTART:20240310T100000
END:DAYLIGHT
BEGIN:STANDARD
TZOFFSETFROM:-0700
TZOFFSETTO:-0800
TZNAME:PST
DTSTART:20241103T090000
END:STANDARD
BEGIN:DAYLIGHT
TZOFFSETFROM:-0800
TZOFFSETTO:-0700
TZNAME:PDT
DTSTART:20250309T100000
END:DAYLIGHT
BEGIN:STANDARD
TZOFFSETFROM:-0700
TZOFFSETTO:-0800
TZNAME:PST
DTSTART:20251102T090000
END:STANDARD
BEGIN:DAYLIGHT
TZOFFSETFROM:-0800
TZOFFSETTO:-0700
TZNAME:PDT
DTSTART:20260308T100000
END:DAYLIGHT
BEGIN:STANDARD
TZOFFSETFROM:-0700
TZOFFSETTO:-0800
TZNAME:PST
DTSTART:20261101T090000
END:STANDARD
BEGIN:DAYLIGHT
TZOFFSETFROM:-0800
TZOFFSETTO:-0700
TZNAME:PDT
DTSTART:20270314T100000
END:DAYLIGHT
BEGIN:STANDARD
TZOFFSETFROM:-0700
TZOFFSETTO:-0800
TZNAME:PST
DTSTART:20271107T090000
END:STANDARD
END:VTIMEZONE
BEGIN:VEVENT
DTSTART;TZID=America/Vancouver:20260118T120000
DTEND;TZID=America/Vancouver:20260118T150000
DTSTAMP:20260424T094710
CREATED:20260115T013655Z
LAST-MODIFIED:20260115T013658Z
UID:10006109-1768737600-1768748400@qathet365.ca
SUMMARY:Texada Winter Market
DESCRIPTION:Related
URL:https://qathet365.ca/event/texada-winter-market/
LOCATION:Texada Community hall\, 4913 Gillies Bay Road Gillies Bay\, BC V0N 1W0 · 604.414.7764\, Powell River
CATEGORIES:FOOD & BUSINESS,KIDS AND FAMILY
END:VEVENT
BEGIN:VEVENT
DTSTART;TZID=America/Vancouver:20251116T120000
DTEND;TZID=America/Vancouver:20251116T133000
DTSTAMP:20260424T094710
CREATED:20251116T192032Z
LAST-MODIFIED:20251116T192036Z
UID:10004568-1763294400-1763299800@qathet365.ca
SUMMARY:Texada Island Winter Farmers Market
DESCRIPTION:Related
URL:https://qathet365.ca/event/texada-island-winter-farmers-market/
LOCATION:Texada Community hall\, 4913 Gillies Bay Road Gillies Bay\, BC V0N 1W0 · 604.414.7764\, Powell River
CATEGORIES:COMMUNITY,FOOD & BUSINESS
END:VEVENT
END:VCALENDAR