BEGIN:VCALENDAR
VERSION:2.0
PRODID:-//qathet 365 - ECPv6.15.20//NONSGML v1.0//EN
CALSCALE:GREGORIAN
METHOD:PUBLISH
X-WR-CALNAME:qathet 365
X-ORIGINAL-URL:https://qathet365.ca
X-WR-CALDESC:Events for qathet 365
REFRESH-INTERVAL;VALUE=DURATION:PT1H
X-Robots-Tag:noindex
X-PUBLISHED-TTL:PT1H
BEGIN:VTIMEZONE
TZID:America/Vancouver
BEGIN:DAYLIGHT
TZOFFSETFROM:-0800
TZOFFSETTO:-0700
TZNAME:PDT
DTSTART:20250309T100000
END:DAYLIGHT
BEGIN:STANDARD
TZOFFSETFROM:-0700
TZOFFSETTO:-0800
TZNAME:PST
DTSTART:20251102T090000
END:STANDARD
BEGIN:DAYLIGHT
TZOFFSETFROM:-0800
TZOFFSETTO:-0700
TZNAME:PDT
DTSTART:20260308T100000
END:DAYLIGHT
BEGIN:STANDARD
TZOFFSETFROM:-0700
TZOFFSETTO:-0800
TZNAME:PST
DTSTART:20261101T090000
END:STANDARD
BEGIN:DAYLIGHT
TZOFFSETFROM:-0800
TZOFFSETTO:-0700
TZNAME:PDT
DTSTART:20270314T100000
END:DAYLIGHT
BEGIN:STANDARD
TZOFFSETFROM:-0700
TZOFFSETTO:-0800
TZNAME:PST
DTSTART:20271107T090000
END:STANDARD
END:VTIMEZONE
BEGIN:VEVENT
DTSTART;TZID=America/Vancouver:20260331T100000
DTEND;TZID=America/Vancouver:20260331T113000
DTSTAMP:20260423T073859
CREATED:20260303T014645Z
LAST-MODIFIED:20260303T014647Z
UID:10007070-1774951200-1774956600@qathet365.ca
SUMMARY:Orca Bus - Texada Sandpipers
DESCRIPTION:The ORCA Bus \n\n\n\nThe ORCA Bus is an early years outreach program that happens\, you guessed it\, on a bus! The ORCA Bus is a renovated school bus with a cozy interior play area and mobile resources serving the qathet region. Youth & Family love having the ORCA Bus to provide all children with regular opportunities to access early years services. \n\n\n\nOn board you will find an inviting play space with many educational toys and activities to foster your child’s social-emotional growth and development. Play and discovery are important and encouraged in the ORCA programs. \n\n\n\nThe bus also carries resources and referral opportunities for families.Programs are facilitated by Youth & Family’s qualified Family Enhancement Counsellors. Thanks to the support of the qathet Regional District\, other valued ORCA donors and our amazing volunteer drivers! \n\n\n\n\n\n\n\n\n\n\n\n\n\n\n\n\n\n\n	Related
URL:https://qathet365.ca/event/orca-bus-texada-sandpipers-3/
LOCATION:Texada Sandpipers\, 5079 Gillies Bay Rd\, Texada\, BC\, V0N 3K0\, Canada
CATEGORIES:KIDS AND FAMILY
END:VEVENT
END:VCALENDAR