BEGIN:VCALENDAR
VERSION:2.0
PRODID:-//qathet 365 - ECPv6.15.20//NONSGML v1.0//EN
CALSCALE:GREGORIAN
METHOD:PUBLISH
X-ORIGINAL-URL:https://qathet365.ca
X-WR-CALDESC:Events for qathet 365
REFRESH-INTERVAL;VALUE=DURATION:PT1H
X-Robots-Tag:noindex
X-PUBLISHED-TTL:PT1H
BEGIN:VTIMEZONE
TZID:America/Vancouver
BEGIN:DAYLIGHT
TZOFFSETFROM:-0800
TZOFFSETTO:-0700
TZNAME:PDT
DTSTART:20240310T100000
END:DAYLIGHT
BEGIN:STANDARD
TZOFFSETFROM:-0700
TZOFFSETTO:-0800
TZNAME:PST
DTSTART:20241103T090000
END:STANDARD
BEGIN:DAYLIGHT
TZOFFSETFROM:-0800
TZOFFSETTO:-0700
TZNAME:PDT
DTSTART:20250309T100000
END:DAYLIGHT
BEGIN:STANDARD
TZOFFSETFROM:-0700
TZOFFSETTO:-0800
TZNAME:PST
DTSTART:20251102T090000
END:STANDARD
BEGIN:DAYLIGHT
TZOFFSETFROM:-0800
TZOFFSETTO:-0700
TZNAME:PDT
DTSTART:20260308T100000
END:DAYLIGHT
BEGIN:STANDARD
TZOFFSETFROM:-0700
TZOFFSETTO:-0800
TZNAME:PST
DTSTART:20261101T090000
END:STANDARD
END:VTIMEZONE
BEGIN:VEVENT
DTSTART;TZID=America/Vancouver:20251122T133000
DTEND;TZID=America/Vancouver:20251122T133000
DTSTAMP:20260422T115310
CREATED:20251118T005621Z
LAST-MODIFIED:20251118T005624Z
UID:10004582-1763818200-1763818200@qathet365.ca
SUMMARY:Villa Soccer Club vs. Mid Island Mariners
DESCRIPTION:Related
URL:https://qathet365.ca/event/villa-soccer-club-vs-mid-island-mariners/
LOCATION:Timberlane Park\, Timberlane Park\, Powell River\, BC\, V8A 4J8\, Canada
CATEGORIES:ARTS & ENTERTAINMENT,COMMUNITY,KIDS AND FAMILY,YOUTH,YOUTH SPORTS
END:VEVENT
BEGIN:VEVENT
DTSTART;TZID=America/Vancouver:20250927T133000
DTEND;TZID=America/Vancouver:20250927T160000
DTSTAMP:20260422T115310
CREATED:20250925T175440Z
LAST-MODIFIED:20250926T014045Z
UID:10004350-1758979800-1758988800@qathet365.ca
SUMMARY:Powell River Villa Home Opener
DESCRIPTION:Good Afternoon Villa SC Fan’s.This Saturday the 27th of September Villa SC will play Saanich Fusion in our 2025/2026 VISL home opener at 1:30 pm on Timberlane Park.The gate fee remains at $5.00 each and season passes will be available at $40.00 each.The concession will be open and 50/50 tickets we will be available for purchase.Come on out and cheer on your home team! \n\n\n\n\n\n\n\n\n\n\n\n\n\n\n\n\n\n\n	Related
URL:https://qathet365.ca/event/powell-river-villa-home-opener/
LOCATION:Timberlane Park\, Timberlane Park\, Powell River\, BC\, V8A 4J8\, Canada
CATEGORIES:COMMUNITY,KIDS AND FAMILY,OUTDOORS,SPORTS & OUTDOORS
ATTACH;FMTTYPE=image/png:https://qathet365.ca/wp-content/uploads/2025/09/Vila.png
END:VEVENT
END:VCALENDAR