BEGIN:VCALENDAR
VERSION:2.0
PRODID:-//qathet 365 - ECPv6.15.20//NONSGML v1.0//EN
CALSCALE:GREGORIAN
METHOD:PUBLISH
X-ORIGINAL-URL:https://qathet365.ca
X-WR-CALDESC:Events for qathet 365
REFRESH-INTERVAL;VALUE=DURATION:PT1H
X-Robots-Tag:noindex
X-PUBLISHED-TTL:PT1H
BEGIN:VTIMEZONE
TZID:America/Vancouver
BEGIN:DAYLIGHT
TZOFFSETFROM:-0800
TZOFFSETTO:-0700
TZNAME:PDT
DTSTART:20240310T100000
END:DAYLIGHT
BEGIN:STANDARD
TZOFFSETFROM:-0700
TZOFFSETTO:-0800
TZNAME:PST
DTSTART:20241103T090000
END:STANDARD
BEGIN:DAYLIGHT
TZOFFSETFROM:-0800
TZOFFSETTO:-0700
TZNAME:PDT
DTSTART:20250309T100000
END:DAYLIGHT
BEGIN:STANDARD
TZOFFSETFROM:-0700
TZOFFSETTO:-0800
TZNAME:PST
DTSTART:20251102T090000
END:STANDARD
BEGIN:DAYLIGHT
TZOFFSETFROM:-0800
TZOFFSETTO:-0700
TZNAME:PDT
DTSTART:20260308T100000
END:DAYLIGHT
BEGIN:STANDARD
TZOFFSETFROM:-0700
TZOFFSETTO:-0800
TZNAME:PST
DTSTART:20261101T090000
END:STANDARD
END:VTIMEZONE
BEGIN:VEVENT
DTSTART;TZID=America/Vancouver:20251213T200000
DTEND;TZID=America/Vancouver:20251213T230000
DTSTAMP:20260419T144404
CREATED:20251207T215254Z
LAST-MODIFIED:20251207T215257Z
UID:10004612-1765656000-1765666800@qathet365.ca
SUMMARY:Candy Cane! A holiday dance party
DESCRIPTION:The Wildwood Pub and Velvet Rhythms presents Candy Cane! A pre-holiday dance party to get in the spirit of the boogie season! Hosted by Radiostar\, Blaise\, and guests! Red and white and green attire encouraged. By donation. \n\n\n\n\n\n\n\n\n\n\n\n\n\n\n\n\n\n\n	Related
URL:https://qathet365.ca/event/candy-cane-a-holiday-dance-party/
LOCATION:Wildwood Pub\, 5987 Lund St.\, Powell River\, BC\, V8A 4S9\, Canada
CATEGORIES:COMMUNITY,FOOD & BUSINESS
END:VEVENT
BEGIN:VEVENT
DTSTART;TZID=America/Vancouver:20251128T190000
DTEND;TZID=America/Vancouver:20251128T190000
DTSTAMP:20260419T144404
CREATED:20251123T205219Z
LAST-MODIFIED:20251123T205222Z
UID:10004586-1764356400-1764356400@qathet365.ca
SUMMARY:Elastic Band & Current Collective at The Wildwood Public House
DESCRIPTION:ALL AGES Concert – Current Collective & Elastic Band Wildwood Public House\n\n\n\n\n\n\n\nMusic kicks off at 7PM  \n\n\n\nAdmission by donation – pay what you can \n\n\n\nIt’s time for another great night of live\, local music at the Wildwood! Current Collective will light up the stage with their high-energy West Coast roots rock – blending funk\, reggae\, ska\, and rock into a groove that’s impossible to sit still through. Elastic Band is a local youth band that brings a smooth and soulful set of R&B and jazz that’s equal parts laid-back and full of life. Grab some friends\, come hungry (and thirsty!)\, and support two incredible local bands keeping qathet’s live music scene thriving.  \n\n\n\nNo tickets\, no fuss\, just great local talent. See you at the Wildwood! \n\n\n\n\n\n\n\n\n\n\n\n\n\n\n\n\n\n\n	Related
URL:https://qathet365.ca/event/elastic-band-current-collective-at-the-wildwood-public-house/
LOCATION:Wildwood Pub\, 5987 Lund St.\, Powell River\, BC\, V8A 4S9\, Canada
CATEGORIES:ARTS & ENTERTAINMENT,COMMUNITY,ELDERS,FOOD & BUSINESS,KIDS AND FAMILY,MUSIC, FILM & COMEDY,YOUTH
ATTACH;FMTTYPE=image/jpeg:https://qathet365.ca/wp-content/uploads/2025/11/elastic-band.jpg
END:VEVENT
BEGIN:VEVENT
DTSTART;TZID=America/Vancouver:20251114T193000
DTEND;TZID=America/Vancouver:20251114T193000
DTSTAMP:20260419T144404
CREATED:20251105T230436Z
LAST-MODIFIED:20251105T230440Z
UID:10004553-1763148600-1763148600@qathet365.ca
SUMMARY:Wild Woods Social Club @ The Wildwood Pub
DESCRIPTION:Wild Woods Social Club world music dance band performs at the Wildwood Pub. \n\n\n\n\n\n\n\n\n\n\n\n\n\n\n\n\n\n\n	Related
URL:https://qathet365.ca/event/wild-woods-social-club-the-wildwood-pub/
LOCATION:Wildwood Pub\, 5987 Lund St.\, Powell River\, BC\, V8A 4S9\, Canada
CATEGORIES:ARTS & ENTERTAINMENT,COMMUNITY,FOOD & BUSINESS,MUSIC, FILM & COMEDY
END:VEVENT
BEGIN:VEVENT
DTSTART;TZID=America/Vancouver:20250927T190000
DTEND;TZID=America/Vancouver:20250927T220000
DTSTAMP:20260419T144404
CREATED:20250926T015454Z
LAST-MODIFIED:20250926T015458Z
UID:10004351-1758999600-1759010400@qathet365.ca
SUMMARY:JER DONOFRIO & TAI BROWN Live at The Wildwood
DESCRIPTION:Jer Donofrio is teaming up with his good friend Tai Brown of local rock band Hystera\, to put on the split-bill\, floor-stomping\, applause-thundering summer send-off show of YOUR DREAMS from 7:00 PM to 10:00 PM \n\n\n\n7:00 – 8:00 JER DONOFRIO8:00 – 8:30 JER DONOFRIO & TAI BROWN … \n\n\n\n\n\n\n\n\n\n\n\n\n\n\n\n\n\n\n	Related
URL:https://qathet365.ca/event/jer-donofrio-tai-brown-live-at-the-wildwood/
LOCATION:Wildwood Pub\, 5987 Lund St.\, Powell River\, BC\, V8A 4S9\, Canada
CATEGORIES:ARTS & ENTERTAINMENT,COMMUNITY,FOOD & BUSINESS,MUSIC, FILM & COMEDY
ATTACH;FMTTYPE=image/jpeg:https://qathet365.ca/wp-content/uploads/2025/09/547394710_1349435610509060_5923040374376704808_n.jpg
END:VEVENT
BEGIN:VEVENT
DTSTART;TZID=America/Vancouver:20250831T180000
DTEND;TZID=America/Vancouver:20250831T180000
DTSTAMP:20260419T144404
CREATED:20250806T021454Z
LAST-MODIFIED:20250806T021457Z
UID:10002367-1756663200-1756663200@qathet365.ca
SUMMARY:Sunday Social at The Wildwood Public House
DESCRIPTION:Spud and Turnip are playing “Roots and Blues” music plus some well known songs at the Wildwood Public House August 31st for the Sunday Social. 6pm to 8pm. Pay what you can pass the hat\, tip jar event. Seen previously at the Texada Island Blues and Roots festival in years past they have been playing together a long time. \n\n\n\n\n\n\n\n\n\n\n\n\n\n\n\n\n\n\n	Related
URL:https://qathet365.ca/event/sunday-social-at-the-wildwood-public-house/
LOCATION:Wildwood Pub\, 5987 Lund St.\, Powell River\, BC\, V8A 4S9\, Canada
CATEGORIES:ARTS & ENTERTAINMENT,COMMUNITY,MUSIC, FILM & COMEDY
END:VEVENT
BEGIN:VEVENT
DTSTART;TZID=America/Vancouver:20250824T180000
DTEND;TZID=America/Vancouver:20250824T210000
DTSTAMP:20260419T144404
CREATED:20250815T220423Z
LAST-MODIFIED:20250815T220426Z
UID:10003209-1756058400-1756069200@qathet365.ca
SUMMARY:RON CAMPBELL LIVE
DESCRIPTION:”Sun Aug 24\, 6pm\, I’ll do a rare Solo Performance at Wildwood Public House. Can I still make good music without the help of my usual excellent band mates? Come and find out Aug 24! ” – Ron \n\n\n\nPWYC \n\n\n\nKitchen opens at 5pm. \n\n\n\n\n\n\n\n\n\n\n\n\n\n\n\n\n\n\n	Related
URL:https://qathet365.ca/event/ron-campbell-live/
LOCATION:Wildwood Pub\, 5987 Lund St.\, Powell River\, BC\, V8A 4S9\, Canada
CATEGORIES:ARTS & ENTERTAINMENT,FOOD & BUSINESS,MUSIC, FILM & COMEDY,RESTAURANTS
END:VEVENT
BEGIN:VEVENT
DTSTART;TZID=America/Vancouver:20250719T210000
DTEND;TZID=America/Vancouver:20250719T233000
DTSTAMP:20260419T144404
CREATED:20250716T185527Z
LAST-MODIFIED:20250717T015135Z
UID:10002277-1752958800-1752967800@qathet365.ca
SUMMARY:Mixer Mingling Night
DESCRIPTION:Come Dance and Mingle. DJ’s Left coast & Mica Light at 9 pm. Pub and pizza oven open at 5 pm. \n\n\n\n\n\n\n\n\n\n\n\n\n\n\n\n\n\n\n	Related
URL:https://qathet365.ca/event/mixer-mingling-night/
LOCATION:Wildwood Pub\, 5987 Lund St.\, Powell River\, BC\, V8A 4S9\, Canada
CATEGORIES:ARTS & ENTERTAINMENT,COMMUNITY,FOOD & BUSINESS,MUSIC, FILM & COMEDY,RESTAURANTS
END:VEVENT
BEGIN:VEVENT
DTSTART;TZID=America/Vancouver:20250705T200000
DTEND;TZID=America/Vancouver:20250705T200000
DTSTAMP:20260419T144404
CREATED:20250703T164610Z
LAST-MODIFIED:20250705T232010Z
UID:10002165-1751745600-1751745600@qathet365.ca
SUMMARY:Wildwood Social Club @ The Wildwood
DESCRIPTION:8 Piece world music dance band.  \n\n\n\n\n\n\n\n\n\n\n\n\n\n\n\n\n\n\n	Related
URL:https://qathet365.ca/event/wildwood-social-club-the-wildwood/
LOCATION:Wildwood Pub\, 5987 Lund St.\, Powell River\, BC\, V8A 4S9\, Canada
CATEGORIES:ARTS & ENTERTAINMENT,COMMUNITY,FOOD & BUSINESS,MUSIC, FILM & COMEDY,RESTAURANTS
END:VEVENT
BEGIN:VEVENT
DTSTART;TZID=America/Vancouver:20250403T190000
DTEND;TZID=America/Vancouver:20250403T210000
DTSTAMP:20260419T144404
CREATED:20250327T195348Z
LAST-MODIFIED:20250327T195351Z
UID:10001137-1743706800-1743714000@qathet365.ca
SUMMARY:Trivia Night
DESCRIPTION:Bring a team of between 2 and 6 people and join us for a mental gunfight of utterly useless knowledge! Come see why we were once called ‘An OK time if there is literally nothing else to do.’ This month’s extremely loose theme: Cosmos and Cowboys. \n\n\n\n\n\n\n\n\n\n\n\n\n\n\n\n\n\n\n	Related
URL:https://qathet365.ca/event/trivia-night/
LOCATION:Wildwood Pub\, 5987 Lund St.\, Powell River\, BC\, V8A 4S9\, Canada
CATEGORIES:ARTS & ENTERTAINMENT,COMMUNITY,ELDERS,FOOD & BUSINESS,FUNDRAISERS,MUSIC, FILM & COMEDY
END:VEVENT
BEGIN:VEVENT
DTSTART;TZID=America/Vancouver:20250306T190000
DTEND;TZID=America/Vancouver:20250306T190000
DTSTAMP:20260419T144404
CREATED:20250226T190829Z
LAST-MODIFIED:20250226T190832Z
UID:10000699-1741287600-1741287600@qathet365.ca
SUMMARY:Trivia at Wildwood Pub hosted by Trivial Outlaws!
DESCRIPTION:Bring a team of between 2 and 6 people and join us for a mental gunfight of utterly useless knowledge. Come see why we were once named ‘ninth best trivia night in Powell river’ This month’s extremely loose theme: Empires and revolutions. \n\n\n\n\n\n\n\n\n\n\n\n\n	Related
URL:https://qathet365.ca/event/trivia-at-wildwood-pub-hosted-by-trivial-outlaws/
LOCATION:Wildwood Pub\, 5987 Lund St.\, Powell River\, BC\, V8A 4S9\, Canada
CATEGORIES:ARTS & ENTERTAINMENT,FOOD & BUSINESS
END:VEVENT
BEGIN:VEVENT
DTSTART;TZID=America/Vancouver:20250227T173000
DTEND;TZID=America/Vancouver:20250227T193000
DTSTAMP:20260419T144404
CREATED:20241231T213853Z
LAST-MODIFIED:20250214T192116Z
UID:10000014-1740677400-1740684600@qathet365.ca
SUMMARY:Artist Trading Cards*New VENUE* 
DESCRIPTION:Normally we meet at the bowling alley but it’s closed for renos (stay tuned!!) so we’re going to meet at the Wildwood Public House which just re-opened  \n\n\n\n\n\n\n\nDo you know about Artist Trading Cards? Whether you do or don’t\, we hope you’ll join us for ATC nights with host Harvey Chometsky. In short\, Artist Trading Cards are self-made unique works or small series\, signed and dated on the reverse by the artist/producer\, exchanged and collected by the people who participate in this collaborative event.  \n\n\n\nThere are only 2 “rules”: the cards must be 2.5″x3.5″ (the same as modern hockey cards or baseball cards)\, and they are only to be traded\, not sold. Make them ahead of time\, or make them on the spot. We’ll bring some blanks and other art supplies. And this is a family-friendly event! \n\n\n\n\n\n\n\n\n\n\n\n\n	Related
URL:https://qathet365.ca/event/artist-trading-cards-2/
LOCATION:Wildwood Pub\, 5987 Lund St.\, Powell River\, BC\, V8A 4S9\, Canada
CATEGORIES:Art & Craft,ARTS & ENTERTAINMENT,KIDS AND FAMILY,YOUTH
END:VEVENT
END:VCALENDAR